Workbook

Sheet Quote
C1: Electricity Multisite Quote Tool
C2: Dyce Energy | Standard and Advanced Saver pricing
A4: Contract Type | B4: Acquisition | F4: Price File Date | G4: =Reference!L4 -> 46315 | I4: Contract Start Window | J4: =TEXT(Reference!L5,"dd/mm/yyyy")&" to "&TEXT(Reference!L6,"dd/mm/yyyy") -> 21/09/2026 to 31/08/2027
C6: Select Acquisition or Renewal above. Enter meter details in the white columns (MPAN, Start Date, EAC, Area, Rate Structure, commissions). Standard and Advanced Saver prices pull through for the three terms chosen in row 9.
C7: * Any meters incorrectly quoted and sold on the wrong Rate Structure will be rejected and asked to be repriced. Prices shown include the commission entered.
A8: Customer Details | M8: Standard Prices | AH8: Advanced Saver Prices
M9: 12 Months | T9: 24 Months | AA9: 36 Months | AH9: =M9 -> 12 Months | AO9: =T9 -> 24 Months | AV9: =AA9 -> 36 Months
A10: MPAN | B10: Start Date | C10: EAC (kWh) | D10: EAC Band | E10: EAC Band Ref | F10: Area | G10: Rate Structure | H10: Profile Class | I10: S/C Commission (p/Day) | J10: Unit Commission (p/kWh) | K10: Status | M10: Standing Charge (p/Day) | N10: Single Rate (p/kWh) | O10: Day Rate (p/kWh) | P10: Night Rate (p/kWh) | Q10: Evening/Weekend Rate (p/kWh) | R10: Tariff ID | T10: Standing Charge (p/Day) | U10: Single Rate (p/kWh) | V10: Day Rate (p/kWh) | W10: Night Rate (p/kWh) | X10: Evening/Weekend Rate (p/kWh) | Y10: Tariff ID | AA10: Standing Charge (p/Day) | AB10: Single Rate (p/kWh) | AC10: Day Rate (p/kWh) | AD10: Night Rate (p/kWh) | AE10: Evening/Weekend Rate (p/kWh) | AF10: Tariff ID | AH10: Standing Charge (p/Day) | AI10: Single Rate (p/kWh) | AJ10: Day Rate (p/kWh) | AK10: Night Rate (p/kWh) | AL10: Evening/Weekend Rate (p/kWh) | AM10: Tariff ID | AO10: Standing Charge (p/Day) | AP10: Single Rate (p/kWh) | AQ10: Day Rate (p/kWh) | AR10: Night Rate (p/kWh) | AS10: Evening/Weekend Rate (p/kWh) | AT10: Tariff ID | AV10: Standing Charge (p/Day) | AW10: Single Rate (p/kWh) | AX10: Day Rate (p/kWh) | AY10: Night Rate (p/kWh) | AZ10: Evening/Weekend Rate (p/kWh) | BA10: Tariff ID | BC10: Row Standard M | BD10: Row Standard T | BE10: Row Standard AA | BF10: Row Advanced Saver AH | BG10: Row Advanced Saver AO | BH10: Row Advanced Saver AV
D11: =IF($C11="","",IF(OR($C11<Reference!$C$4,$C11>Reference!$D$14),"Please Check EAC",INDEX(Reference!$B$4:$B$14,MATCH($C11,Reference!$C$4:$C$14,1)))) | E11: =IF(OR($C11="",$D11="Please Check EAC"),"",INDEX(Reference!$C$4:$C$14,MATCH($C11,Reference!$C$4:$C$14,1))) | H11: =IF($G11="","",IF($G11="Standard",3,4)) | K11: =IF(AND($A11="",$C11="",$F11="",$G11=""),"",IF($C11="","Enter EAC",IF($D11="Please Check EAC","EAC outside 1,000-300,000",IF($F11="","Select Area",IF($G11="","Select Rate Structure",IF($B11="","Enter Start Date",IF(OR($B11<Reference!$L$5,$B11>Reference!$L$6),"Start date outside window",IF(COUNT($BC11:$BH11)<6,"Check: price missing","OK")))))))) | M11: =IF($BC11="","",IF(INDEX('Flat File'!$O$2:$O$20001,$BC11)="","",INDEX('Flat File'!$O$2:$O$20001,$BC11)+N($I11))) | N11: =IF($BC11="","",IF(INDEX('Flat File'!$K$2:$K$20001,$BC11)="","",INDEX('Flat File'!$K$2:$K$20001,$BC11)+N($J11))) | O11: =IF($BC11="","",IF(INDEX('Flat File'!$L$2:$L$20001,$BC11)="","",INDEX('Flat File'!$L$2:$L$20001,$BC11)+N($J11))) | P11: =IF($BC11="","",IF(INDEX('Flat File'!$M$2:$M$20001,$BC11)="","",INDEX('Flat File'!$M$2:$M$20001,$BC11)+N($J11))) | Q11: =IF($BC11="","",IF(INDEX('Flat File'!$N$2:$N$20001,$BC11)="","",INDEX('Flat File'!$N$2:$N$20001,$BC11)+N($J11))) | R11: =IF($BC11="","",MID("JanFebMarAprMayJunJulAugSepOctNovDec",MONTH($B11)*3-2,3)&RIGHT(YEAR($B11),2)&MID(INDEX('Flat File'!$B$2:$B$20001,$BC11),6,200)) | T11: =IF($BD11="","",IF(INDEX('Flat File'!$O$2:$O$20001,$BD11)="","",INDEX('Flat File'!$O$2:$O$20001,$BD11)+N($I11))) | U11: =IF($BD11="","",IF(INDEX('Flat File'!$K$2:$K$20001,$BD11)="","",INDEX('Flat File'!$K$2:$K$20001,$BD11)+N($J11))) | V11: =IF($BD11="","",IF(INDEX('Flat File'!$L$2:$L$20001,$BD11)="","",INDEX('Flat File'!$L$2:$L$20001,$BD11)+N($J11))) | W11: =IF($BD11="","",IF(INDEX('Flat File'!$M$2:$M$20001,$BD11)="","",INDEX('Flat File'!$M$2:$M$20001,$BD11)+N($J11))) | X11: =IF($BD11="","",IF(INDEX('Flat File'!$N$2:$N$20001,$BD11)="","",INDEX('Flat File'!$N$2:$N$20001,$BD11)+N($J11))) | Y11: =IF($BD11="","",MID("JanFebMarAprMayJunJulAugSepOctNovDec",MONTH($B11)*3-2,3)&RIGHT(YEAR($B11),2)&MID(INDEX('Flat File'!$B$2:$B$20001,$BD11),6,200)) | AA11: =IF($BE11="","",IF(INDEX('Flat File'!$O$2:$O$20001,$BE11)="","",INDEX('Flat File'!$O$2:$O$20001,$BE11)+N($I11))) | AB11: =IF($BE11="","",IF(INDEX('Flat File'!$K$2:$K$20001,$BE11)="","",INDEX('Flat File'!$K$2:$K$20001,$BE11)+N($J11))) | AC11: =IF($BE11="","",IF(INDEX('Flat File'!$L$2:$L$20001,$BE11)="","",INDEX('Flat File'!$L$2:$L$20001,$BE11)+N($J11))) | AD11: =IF($BE11="","",IF(INDEX('Flat File'!$M$2:$M$20001,$BE11)="","",INDEX('Flat File'!$M$2:$M$20001,$BE11)+N($J11))) | AE11: =IF($BE11="","",IF(INDEX('Flat File'!$N$2:$N$20001,$BE11)="","",INDEX('Flat File'!$N$2:$N$20001,$BE11)+N($J11))) | AF11: =IF($BE11="","",MID("JanFebMarAprMayJunJulAugSepOctNovDec",MONTH($B11)*3-2,3)&RIGHT(YEAR($B11),2)&MID(INDEX('Flat File'!$B$2:$B$20001,$BE11),6,200)) | AH11: =IF($BF11="","",IF(INDEX('Flat File'!$O$2:$O$20001,$BF11)="","",INDEX('Flat File'!$O$2:$O$20001,$BF11)+N($I11))) | AI11: =IF($BF11="","",IF(INDEX('Flat File'!$K$2:$K$20001,$BF11)="","",INDEX('Flat File'!$K$2:$K$20001,$BF11)+N($J11))) | AJ11: =IF($BF11="","",IF(INDEX('Flat File'!$L$2:$L$20001,$BF11)="","",INDEX('Flat File'!$L$2:$L$20001,$BF11)+N($J11))) | AK11: =IF($BF11="","",IF(INDEX('Flat File'!$M$2:$M$20001,$BF11)="","",INDEX('Flat File'!$M$2:$M$20001,$BF11)+N($J11))) | AL11: =IF($BF11="","",IF(INDEX('Flat File'!$N$2:$N$20001,$BF11)="","",INDEX('Flat File'!$N$2:$N$20001,$BF11)+N($J11))) | AM11: =IF($BF11="","",MID("JanFebMarAprMayJunJulAugSepOctNovDec",MONTH($B11)*3-2,3)&RIGHT(YEAR($B11),2)&MID(INDEX('Flat File'!$B$2:$B$20001,$BF11),6,200)) | AO11: =IF($BG11="","",IF(INDEX('Flat File'!$O$2:$O$20001,$BG11)="","",INDEX('Flat File'!$O$2:$O$20001,$BG11)+N($I11))) | AP11: =IF($BG11="","",IF(INDEX('Flat File'!$K$2:$K$20001,$BG11)="","",INDEX('Flat File'!$K$2:$K$20001,$BG11)+N($J11))) | AQ11: =IF($BG11="","",IF(INDEX('Flat File'!$L$2:$L$20001,$BG11)="","",INDEX('Flat File'!$L$2:$L$20001,$BG11)+N($J11))) | AR11: =IF($BG11="","",IF(INDEX('Flat File'!$M$2:$M$20001,$BG11)="","",INDEX('Flat File'!$M$2:$M$20001,$BG11)+N($J11))) | AS11: =IF($BG11="","",IF(INDEX('Flat File'!$N$2:$N$20001,$BG11)="","",INDEX('Flat File'!$N$2:$N$20001,$BG11)+N($J11))) | AT11: =IF($BG11="","",MID("JanFebMarAprMayJunJulAugSepOctNovDec",MONTH($B11)*3-2,3)&RIGHT(YEAR($B11),2)&MID(INDEX('Flat File'!$B$2:$B$20001,$BG11),6,200)) | AV11: =IF($BH11="","",IF(INDEX('Flat File'!$O$2:$O$20001,$BH11)="","",INDEX('Flat File'!$O$2:$O$20001,$BH11)+N($I11))) | AW11: =IF($BH11="","",IF(INDEX('Flat File'!$K$2:$K$20001,$BH11)="","",INDEX('Flat File'!$K$2:$K$20001,$BH11)+N($J11))) | AX11: =IF($BH11="","",IF(INDEX('Flat File'!$L$2:$L$20001,$BH11)="","",INDEX('Flat File'!$L$2:$L$20001,$BH11)+N($J11))) | AY11: =IF($BH11="","",IF(INDEX('Flat File'!$M$2:$M$20001,$BH11)="","",INDEX('Flat File'!$M$2:$M$20001,$BH11)+N($J11))) | AZ11: =IF($BH11="","",IF(INDEX('Flat File'!$N$2:$N$20001,$BH11)="","",INDEX('Flat File'!$N$2:$N$20001,$BH11)+N($J11))) | BA11: =IF($BH11="","",MID("JanFebMarAprMayJunJulAugSepOctNovDec",MONTH($B11)*3-2,3)&RIGHT(YEAR($B11),2)&MID(INDEX('Flat File'!$B$2:$B$20001,$BH11),6,200)) | BC11: =IF(OR($C11="",$E11="",$F11="",$G11="",$B11="",$B11<Reference!$L$5,$B11>Reference!$L$6),"",IFERROR(MATCH($B$4&"|Standard|"&$F11&"|"&$G11&"|"&$E11&"|"&$M$9,'Flat File'!$T$2:$T$20001,0),"")) | BD11: =IF(OR($C11="",$E11="",$F11="",$G11="",$B11="",$B11<Reference!$L$5,$B11>Reference!$L$6),"",IFERROR(MATCH($B$4&"|Standard|"&$F11&"|"&$G11&"|"&$E11&"|"&$T$9,'Flat File'!$T$2:$T$20001,0),"")) | BE11: =IF(OR($C11="",$E11="",$F11="",$G11="",$B11="",$B11<Reference!$L$5,$B11>Reference!$L$6),"",IFERROR(MATCH($B$4&"|Standard|"&$F11&"|"&$G11&"|"&$E11&"|"&$AA$9,'Flat File'!$T$2:$T$20001,0),"")) | BF11: =IF(OR($C11="",$E11="",$F11="",$G11="",$B11="",$B11<Reference!$L$5,$B11>Reference!$L$6),"",IFERROR(MATCH($B$4&"|Advanced Saver|"&$F11&"|"&$G11&"|"&$E11&"|"&$AH$9,'Flat File'!$T$2:$T$20001,0),"")) | BG11: =IF(OR($C11="",$E11="",$F11="",$G11="",$B11="",$B11<Reference!$L$5,$B11>Reference!$L$6),"",IFERROR(MATCH($B$4&"|Advanced Saver|"&$F11&"|"&$G11&"|"&$E11&"|"&$AO$9,'Flat File'!$T$2:$T$20001,0),"")) | BH11: =IF(OR($C11="",$E11="",$F11="",$G11="",$B11="",$B11<Reference!$L$5,$B11>Reference!$L$6),"",IFERROR(MATCH($B$4&"|Advanced Saver|"&$F11&"|"&$G11&"|"&$E11&"|"&$AV$9,'Flat File'!$T$2:$T$20001,0),""))
D12: =IF($C12="","",IF(OR($C12<Reference!$C$4,$C12>Reference!$D$14),"Please Check EAC",INDEX(Reference!$B$4:$B$14,MATCH($C12,Reference!$C$4:$C$14,1)))) | E12: =IF(OR($C12="",$D12="Please Check EAC"),"",INDEX(Reference!$C$4:$C$14,MATCH($C12,Reference!$C$4:$C$14,1))) | H12: =IF($G12="","",IF($G12="Standard",3,4)) | K12: =IF(AND($A12="",$C12="",$F12="",$G12=""),"",IF($C12="","Enter EAC",IF($D12="Please Check EAC","EAC outside 1,000-300,000",IF($F12="","Select Area",IF($G12="","Select Rate Structure",IF($B12="","Enter Start Date",IF(OR($B12<Reference!$L$5,$B12>Reference!$L$6),"Start date outside window",IF(COUNT($BC12:$BH12)<6,"Check: price missing","OK")))))))) | M12: =IF($BC12="","",IF(INDEX('Flat File'!$O$2:$O$20001,$BC12)="","",INDEX('Flat File'!$O$2:$O$20001,$BC12)+N($I12))) | N12: =IF($BC12="","",IF(INDEX('Flat File'!$K$2:$K$20001,$BC12)="","",INDEX('Flat File'!$K$2:$K$20001,$BC12)+N($J12))) | O12: =IF($BC12="","",IF(INDEX('Flat File'!$L$2:$L$20001,$BC12)="","",INDEX('Flat File'!$L$2:$L$20001,$BC12)+N($J12))) | P12: =IF($BC12="","",IF(INDEX('Flat File'!$M$2:$M$20001,$BC12)="","",INDEX('Flat File'!$M$2:$M$20001,$BC12)+N($J12))) | Q12: =IF($BC12="","",IF(INDEX('Flat File'!$N$2:$N$20001,$BC12)="","",INDEX('Flat File'!$N$2:$N$20001,$BC12)+N($J12))) | R12: =IF($BC12="","",MID("JanFebMarAprMayJunJulAugSepOctNovDec",MONTH($B12)*3-2,3)&RIGHT(YEAR($B12),2)&MID(INDEX('Flat File'!$B$2:$B$20001,$BC12),6,200)) | T12: =IF($BD12="","",IF(INDEX('Flat File'!$O$2:$O$20001,$BD12)="","",INDEX('Flat File'!$O$2:$O$20001,$BD12)+N($I12))) | U12: =IF($BD12="","",IF(INDEX('Flat File'!$K$2:$K$20001,$BD12)="","",INDEX('Flat File'!$K$2:$K$20001,$BD12)+N($J12))) | V12: =IF($BD12="","",IF(INDEX('Flat File'!$L$2:$L$20001,$BD12)="","",INDEX('Flat File'!$L$2:$L$20001,$BD12)+N($J12))) | W12: =IF($BD12="","",IF(INDEX('Flat File'!$M$2:$M$20001,$BD12)="","",INDEX('Flat File'!$M$2:$M$20001,$BD12)+N($J12))) | X12: =IF($BD12="","",IF(INDEX('Flat File'!$N$2:$N$20001,$BD12)="","",INDEX('Flat File'!$N$2:$N$20001,$BD12)+N($J12))) | Y12: =IF($BD12="","",MID("JanFebMarAprMayJunJulAugSepOctNovDec",MONTH($B12)*3-2,3)&RIGHT(YEAR($B12),2)&MID(INDEX('Flat File'!$B$2:$B$20001,$BD12),6,200)) | AA12: =IF($BE12="","",IF(INDEX('Flat File'!$O$2:$O$20001,$BE12)="","",INDEX('Flat File'!$O$2:$O$20001,$BE12)+N($I12))) | AB12: =IF($BE12="","",IF(INDEX('Flat File'!$K$2:$K$20001,$BE12)="","",INDEX('Flat File'!$K$2:$K$20001,$BE12)+N($J12))) | AC12: =IF($BE12="","",IF(INDEX('Flat File'!$L$2:$L$20001,$BE12)="","",INDEX('Flat File'!$L$2:$L$20001,$BE12)+N($J12))) | AD12: =IF($BE12="","",IF(INDEX('Flat File'!$M$2:$M$20001,$BE12)="","",INDEX('Flat File'!$M$2:$M$20001,$BE12)+N($J12))) | AE12: =IF($BE12="","",IF(INDEX('Flat File'!$N$2:$N$20001,$BE12)="","",INDEX('Flat File'!$N$2:$N$20001,$BE12)+N($J12))) | AF12: =IF($BE12="","",MID("JanFebMarAprMayJunJulAugSepOctNovDec",MONTH($B12)*3-2,3)&RIGHT(YEAR($B12),2)&MID(INDEX('Flat File'!$B$2:$B$20001,$BE12),6,200)) | AH12: =IF($BF12="","",IF(INDEX('Flat File'!$O$2:$O$20001,$BF12)="","",INDEX('Flat File'!$O$2:$O$20001,$BF12)+N($I12))) | AI12: =IF($BF12="","",IF(INDEX('Flat File'!$K$2:$K$20001,$BF12)="","",INDEX('Flat File'!$K$2:$K$20001,$BF12)+N($J12))) | AJ12: =IF($BF12="","",IF(INDEX('Flat File'!$L$2:$L$20001,$BF12)="","",INDEX('Flat File'!$L$2:$L$20001,$BF12)+N($J12))) | AK12: =IF($BF12="","",IF(INDEX('Flat File'!$M$2:$M$20001,$BF12)="","",INDEX('Flat File'!$M$2:$M$20001,$BF12)+N($J12))) | AL12: =IF($BF12="","",IF(INDEX('Flat File'!$N$2:$N$20001,$BF12)="","",INDEX('Flat File'!$N$2:$N$20001,$BF12)+N($J12))) | AM12: =IF($BF12="","",MID("JanFebMarAprMayJunJulAugSepOctNovDec",MONTH($B12)*3-2,3)&RIGHT(YEAR($B12),2)&MID(INDEX('Flat File'!$B$2:$B$20001,$BF12),6,200)) | AO12: =IF($BG12="","",IF(INDEX('Flat File'!$O$2:$O$20001,$BG12)="","",INDEX('Flat File'!$O$2:$O$20001,$BG12)+N($I12))) | AP12: =IF($BG12="","",IF(INDEX('Flat File'!$K$2:$K$20001,$BG12)="","",INDEX('Flat File'!$K$2:$K$20001,$BG12)+N($J12))) | AQ12: =IF($BG12="","",IF(INDEX('Flat File'!$L$2:$L$20001,$BG12)="","",INDEX('Flat File'!$L$2:$L$20001,$BG12)+N($J12))) | AR12: =IF($BG12="","",IF(INDEX('Flat File'!$M$2:$M$20001,$BG12)="","",INDEX('Flat File'!$M$2:$M$20001,$BG12)+N($J12))) | AS12: =IF($BG12="","",IF(INDEX('Flat File'!$N$2:$N$20001,$BG12)="","",INDEX('Flat File'!$N$2:$N$20001,$BG12)+N($J12))) | AT12: =IF($BG12="","",MID("JanFebMarAprMayJunJulAugSepOctNovDec",MONTH($B12)*3-2,3)&RIGHT(YEAR($B12),2)&MID(INDEX('Flat File'!$B$2:$B$20001,$BG12),6,200)) | AV12: =IF($BH12="","",IF(INDEX('Flat File'!$O$2:$O$20001,$BH12)="","",INDEX('Flat File'!$O$2:$O$20001,$BH12)+N($I12))) | AW12: =IF($BH12="","",IF(INDEX('Flat File'!$K$2:$K$20001,$BH12)="","",INDEX('Flat File'!$K$2:$K$20001,$BH12)+N($J12))) | AX12: =IF($BH12="","",IF(INDEX('Flat File'!$L$2:$L$20001,$BH12)="","",INDEX('Flat File'!$L$2:$L$20001,$BH12)+N($J12))) | AY12: =IF($BH12="","",IF(INDEX('Flat File'!$M$2:$M$20001,$BH12)="","",INDEX('Flat File'!$M$2:$M$20001,$BH12)+N($J12))) | AZ12: =IF($BH12="","",IF(INDEX('Flat File'!$N$2:$N$20001,$BH12)="","",INDEX('Flat File'!$N$2:$N$20001,$BH12)+N($J12))) | BA12: =IF($BH12="","",MID("JanFebMarAprMayJunJulAugSepOctNovDec",MONTH($B12)*3-2,3)&RIGHT(YEAR($B12),2)&MID(INDEX('Flat File'!$B$2:$B$20001,$BH12),6,200)) | BC12: =IF(OR($C12="",$E12="",$F12="",$G12="",$B12="",$B12<Reference!$L$5,$B12>Reference!$L$6),"",IFERROR(MATCH($B$4&"|Standard|"&$F12&"|"&$G12&"|"&$E12&"|"&$M$9,'Flat File'!$T$2:$T$20001,0),"")) | BD12: =IF(OR($C12="",$E12="",$F12="",$G12="",$B12="",$B12<Reference!$L$5,$B12>Reference!$L$6),"",IFERROR(MATCH($B$4&"|Standard|"&$F12&"|"&$G12&"|"&$E12&"|"&$T$9,'Flat File'!$T$2:$T$20001,0),"")) | BE12: =IF(OR($C12="",$E12="",$F12="",$G12="",$B12="",$B12<Reference!$L$5,$B12>Reference!$L$6),"",IFERROR(MATCH($B$4&"|Standard|"&$F12&"|"&$G12&"|"&$E12&"|"&$AA$9,'Flat File'!$T$2:$T$20001,0),"")) | BF12: =IF(OR($C12="",$E12="",$F12="",$G12="",$B12="",$B12<Reference!$L$5,$B12>Reference!$L$6),"",IFERROR(MATCH($B$4&"|Advanced Saver|"&$F12&"|"&$G12&"|"&$E12&"|"&$AH$9,'Flat File'!$T$2:$T$20001,0),"")) | BG12: =IF(OR($C12="",$E12="",$F12="",$G12="",$B12="",$B12<Reference!$L$5,$B12>Reference!$L$6),"",IFERROR(MATCH($B$4&"|Advanced Saver|"&$F12&"|"&$G12&"|"&$E12&"|"&$AO$9,'Flat File'!$T$2:$T$20001,0),"")) | BH12: =IF(OR($C12="",$E12="",$F12="",$G12="",$B12="",$B12<Reference!$L$5,$B12>Reference!$L$6),"",IFERROR(MATCH($B$4&"|Advanced Saver|"&$F12&"|"&$G12&"|"&$E12&"|"&$AV$9,'Flat File'!$T$2:$T$20001,0),""))
D13: =IF($C13="","",IF(OR($C13<Reference!$C$4,$C13>Reference!$D$14),"Please Check EAC",INDEX(Reference!$B$4:$B$14,MATCH($C13,Reference!$C$4:$C$14,1)))) | E13: =IF(OR($C13="",$D13="Please Check EAC"),"",INDEX(Reference!$C$4:$C$14,MATCH($C13,Reference!$C$4:$C$14,1))) | H13: =IF($G13="","",IF($G13="Standard",3,4)) | K13: =IF(AND($A13="",$C13="",$F13="",$G13=""),"",IF($C13="","Enter EAC",IF($D13="Please Check EAC","EAC outside 1,000-300,000",IF($F13="","Select Area",IF($G13="","Select Rate Structure",IF($B13="","Enter Start Date",IF(OR($B13<Reference!$L$5,$B13>Reference!$L$6),"Start date outside window",IF(COUNT($BC13:$BH13)<6,"Check: price missing","OK")))))))) | M13: =IF($BC13="","",IF(INDEX('Flat File'!$O$2:$O$20001,$BC13)="","",INDEX('Flat File'!$O$2:$O$20001,$BC13)+N($I13))) | N13: =IF($BC13="","",IF(INDEX('Flat File'!$K$2:$K$20001,$BC13)="","",INDEX('Flat File'!$K$2:$K$20001,$BC13)+N($J13))) | O13: =IF($BC13="","",IF(INDEX('Flat File'!$L$2:$L$20001,$BC13)="","",INDEX('Flat File'!$L$2:$L$20001,$BC13)+N($J13))) | P13: =IF($BC13="","",IF(INDEX('Flat File'!$M$2:$M$20001,$BC13)="","",INDEX('Flat File'!$M$2:$M$20001,$BC13)+N($J13))) | Q13: =IF($BC13="","",IF(INDEX('Flat File'!$N$2:$N$20001,$BC13)="","",INDEX('Flat File'!$N$2:$N$20001,$BC13)+N($J13))) | R13: =IF($BC13="","",MID("JanFebMarAprMayJunJulAugSepOctNovDec",MONTH($B13)*3-2,3)&RIGHT(YEAR($B13),2)&MID(INDEX('Flat File'!$B$2:$B$20001,$BC13),6,200)) | T13: =IF($BD13="","",IF(INDEX('Flat File'!$O$2:$O$20001,$BD13)="","",INDEX('Flat File'!$O$2:$O$20001,$BD13)+N($I13))) | U13: =IF($BD13="","",IF(INDEX('Flat File'!$K$2:$K$20001,$BD13)="","",INDEX('Flat File'!$K$2:$K$20001,$BD13)+N($J13))) | V13: =IF($BD13="","",IF(INDEX('Flat File'!$L$2:$L$20001,$BD13)="","",INDEX('Flat File'!$L$2:$L$20001,$BD13)+N($J13))) | W13: =IF($BD13="","",IF(INDEX('Flat File'!$M$2:$M$20001,$BD13)="","",INDEX('Flat File'!$M$2:$M$20001,$BD13)+N($J13))) | X13: =IF($BD13="","",IF(INDEX('Flat File'!$N$2:$N$20001,$BD13)="","",INDEX('Flat File'!$N$2:$N$20001,$BD13)+N($J13))) | Y13: =IF($BD13="","",MID("JanFebMarAprMayJunJulAugSepOctNovDec",MONTH($B13)*3-2,3)&RIGHT(YEAR($B13),2)&MID(INDEX('Flat File'!$B$2:$B$20001,$BD13),6,200)) | AA13: =IF($BE13="","",IF(INDEX('Flat File'!$O$2:$O$20001,$BE13)="","",INDEX('Flat File'!$O$2:$O$20001,$BE13)+N($I13))) | AB13: =IF($BE13="","",IF(INDEX('Flat File'!$K$2:$K$20001,$BE13)="","",INDEX('Flat File'!$K$2:$K$20001,$BE13)+N($J13))) | AC13: =IF($BE13="","",IF(INDEX('Flat File'!$L$2:$L$20001,$BE13)="","",INDEX('Flat File'!$L$2:$L$20001,$BE13)+N($J13))) | AD13: =IF($BE13="","",IF(INDEX('Flat File'!$M$2:$M$20001,$BE13)="","",INDEX('Flat File'!$M$2:$M$20001,$BE13)+N($J13))) | AE13: =IF($BE13="","",IF(INDEX('Flat File'!$N$2:$N$20001,$BE13)="","",INDEX('Flat File'!$N$2:$N$20001,$BE13)+N($J13))) | AF13: =IF($BE13="","",MID("JanFebMarAprMayJunJulAugSepOctNovDec",MONTH($B13)*3-2,3)&RIGHT(YEAR($B13),2)&MID(INDEX('Flat File'!$B$2:$B$20001,$BE13),6,200)) | AH13: =IF($BF13="","",IF(INDEX('Flat File'!$O$2:$O$20001,$BF13)="","",INDEX('Flat File'!$O$2:$O$20001,$BF13)+N($I13))) | AI13: =IF($BF13="","",IF(INDEX('Flat File'!$K$2:$K$20001,$BF13)="","",INDEX('Flat File'!$K$2:$K$20001,$BF13)+N($J13))) | AJ13: =IF($BF13="","",IF(INDEX('Flat File'!$L$2:$L$20001,$BF13)="","",INDEX('Flat File'!$L$2:$L$20001,$BF13)+N($J13))) | AK13: =IF($BF13="","",IF(INDEX('Flat File'!$M$2:$M$20001,$BF13)="","",INDEX('Flat File'!$M$2:$M$20001,$BF13)+N($J13))) | AL13: =IF($BF13="","",IF(INDEX('Flat File'!$N$2:$N$20001,$BF13)="","",INDEX('Flat File'!$N$2:$N$20001,$BF13)+N($J13))) | AM13: =IF($BF13="","",MID("JanFebMarAprMayJunJulAugSepOctNovDec",MONTH($B13)*3-2,3)&RIGHT(YEAR($B13),2)&MID(INDEX('Flat File'!$B$2:$B$20001,$BF13),6,200)) | AO13: =IF($BG13="","",IF(INDEX('Flat File'!$O$2:$O$20001,$BG13)="","",INDEX('Flat File'!$O$2:$O$20001,$BG13)+N($I13))) | AP13: =IF($BG13="","",IF(INDEX('Flat File'!$K$2:$K$20001,$BG13)="","",INDEX('Flat File'!$K$2:$K$20001,$BG13)+N($J13))) | AQ13: =IF($BG13="","",IF(INDEX('Flat File'!$L$2:$L$20001,$BG13)="","",INDEX('Flat File'!$L$2:$L$20001,$BG13)+N($J13))) | AR13: =IF($BG13="","",IF(INDEX('Flat File'!$M$2:$M$20001,$BG13)="","",INDEX('Flat File'!$M$2:$M$20001,$BG13)+N($J13))) | AS13: =IF($BG13="","",IF(INDEX('Flat File'!$N$2:$N$20001,$BG13)="","",INDEX('Flat File'!$N$2:$N$20001,$BG13)+N($J13))) | AT13: =IF($BG13="","",MID("JanFebMarAprMayJunJulAugSepOctNovDec",MONTH($B13)*3-2,3)&RIGHT(YEAR($B13),2)&MID(INDEX('Flat File'!$B$2:$B$20001,$BG13),6,200)) | AV13: =IF($BH13="","",IF(INDEX('Flat File'!$O$2:$O$20001,$BH13)="","",INDEX('Flat File'!$O$2:$O$20001,$BH13)+N($I13))) | AW13: =IF($BH13="","",IF(INDEX('Flat File'!$K$2:$K$20001,$BH13)="","",INDEX('Flat File'!$K$2:$K$20001,$BH13)+N($J13))) | AX13: =IF($BH13="","",IF(INDEX('Flat File'!$L$2:$L$20001,$BH13)="","",INDEX('Flat File'!$L$2:$L$20001,$BH13)+N($J13))) | AY13: =IF($BH13="","",IF(INDEX('Flat File'!$M$2:$M$20001,$BH13)="","",INDEX('Flat File'!$M$2:$M$20001,$BH13)+N($J13))) | AZ13: =IF($BH13="","",IF(INDEX('Flat File'!$N$2:$N$20001,$BH13)="","",INDEX('Flat File'!$N$2:$N$20001,$BH13)+N($J13))) | BA13: =IF($BH13="","",MID("JanFebMarAprMayJunJulAugSepOctNovDec",MONTH($B13)*3-2,3)&RIGHT(YEAR($B13),2)&MID(INDEX('Flat File'!$B$2:$B$20001,$BH13),6,200)) | BC13: =IF(OR($C13="",$E13="",$F13="",$G13="",$B13="",$B13<Reference!$L$5,$B13>Reference!$L$6),"",IFERROR(MATCH($B$4&"|Standard|"&$F13&"|"&$G13&"|"&$E13&"|"&$M$9,'Flat File'!$T$2:$T$20001,0),"")) | BD13: =IF(OR($C13="",$E13="",$F13="",$G13="",$B13="",$B13<Reference!$L$5,$B13>Reference!$L$6),"",IFERROR(MATCH($B$4&"|Standard|"&$F13&"|"&$G13&"|"&$E13&"|"&$T$9,'Flat File'!$T$2:$T$20001,0),"")) | BE13: =IF(OR($C13="",$E13="",$F13="",$G13="",$B13="",$B13<Reference!$L$5,$B13>Reference!$L$6),"",IFERROR(MATCH($B$4&"|Standard|"&$F13&"|"&$G13&"|"&$E13&"|"&$AA$9,'Flat File'!$T$2:$T$20001,0),"")) | BF13: =IF(OR($C13="",$E13="",$F13="",$G13="",$B13="",$B13<Reference!$L$5,$B13>Reference!$L$6),"",IFERROR(MATCH($B$4&"|Advanced Saver|"&$F13&"|"&$G13&"|"&$E13&"|"&$AH$9,'Flat File'!$T$2:$T$20001,0),"")) | BG13: =IF(OR($C13="",$E13="",$F13="",$G13="",$B13="",$B13<Reference!$L$5,$B13>Reference!$L$6),"",IFERROR(MATCH($B$4&"|Advanced Saver|"&$F13&"|"&$G13&"|"&$E13&"|"&$AO$9,'Flat File'!$T$2:$T$20001,0),"")) | BH13: =IF(OR($C13="",$E13="",$F13="",$G13="",$B13="",$B13<Reference!$L$5,$B13>Reference!$L$6),"",IFERROR(MATCH($B$4&"|Advanced Saver|"&$F13&"|"&$G13&"|"&$E13&"|"&$AV$9,'Flat File'!$T$2:$T$20001,0),""))
D14: =IF($C14="","",IF(OR($C14<Reference!$C$4,$C14>Reference!$D$14),"Please Check EAC",INDEX(Reference!$B$4:$B$14,MATCH($C14,Reference!$C$4:$C$14,1)))) | E14: =IF(OR($C14="",$D14="Please Check EAC"),"",INDEX(Reference!$C$4:$C$14,MATCH($C14,Reference!$C$4:$C$14,1))) | H14: =IF($G14="","",IF($G14="Standard",3,4)) | K14: =IF(AND($A14="",$C14="",$F14="",$G14=""),"",IF($C14="","Enter EAC",IF($D14="Please Check EAC","EAC outside 1,000-300,000",IF($F14="","Select Area",IF($G14="","Select Rate Structure",IF($B14="","Enter Start Date",IF(OR($B14<Reference!$L$5,$B14>Reference!$L$6),"Start date outside window",IF(COUNT($BC14:$BH14)<6,"Check: price missing","OK")))))))) | M14: =IF($BC14="","",IF(INDEX('Flat File'!$O$2:$O$20001,$BC14)="","",INDEX('Flat File'!$O$2:$O$20001,$BC14)+N($I14))) | N14: =IF($BC14="","",IF(INDEX('Flat File'!$K$2:$K$20001,$BC14)="","",INDEX('Flat File'!$K$2:$K$20001,$BC14)+N($J14))) | O14: =IF($BC14="","",IF(INDEX('Flat File'!$L$2:$L$20001,$BC14)="","",INDEX('Flat File'!$L$2:$L$20001,$BC14)+N($J14))) | P14: =IF($BC14="","",IF(INDEX('Flat File'!$M$2:$M$20001,$BC14)="","",INDEX('Flat File'!$M$2:$M$20001,$BC14)+N($J14))) | Q14: =IF($BC14="","",IF(INDEX('Flat File'!$N$2:$N$20001,$BC14)="","",INDEX('Flat File'!$N$2:$N$20001,$BC14)+N($J14))) | R14: =IF($BC14="","",MID("JanFebMarAprMayJunJulAugSepOctNovDec",MONTH($B14)*3-2,3)&RIGHT(YEAR($B14),2)&MID(INDEX('Flat File'!$B$2:$B$20001,$BC14),6,200)) | T14: =IF($BD14="","",IF(INDEX('Flat File'!$O$2:$O$20001,$BD14)="","",INDEX('Flat File'!$O$2:$O$20001,$BD14)+N($I14))) | U14: =IF($BD14="","",IF(INDEX('Flat File'!$K$2:$K$20001,$BD14)="","",INDEX('Flat File'!$K$2:$K$20001,$BD14)+N($J14))) | V14: =IF($BD14="","",IF(INDEX('Flat File'!$L$2:$L$20001,$BD14)="","",INDEX('Flat File'!$L$2:$L$20001,$BD14)+N($J14))) | W14: =IF($BD14="","",IF(INDEX('Flat File'!$M$2:$M$20001,$BD14)="","",INDEX('Flat File'!$M$2:$M$20001,$BD14)+N($J14))) | X14: =IF($BD14="","",IF(INDEX('Flat File'!$N$2:$N$20001,$BD14)="","",INDEX('Flat File'!$N$2:$N$20001,$BD14)+N($J14))) | Y14: =IF($BD14="","",MID("JanFebMarAprMayJunJulAugSepOctNovDec",MONTH($B14)*3-2,3)&RIGHT(YEAR($B14),2)&MID(INDEX('Flat File'!$B$2:$B$20001,$BD14),6,200)) | AA14: =IF($BE14="","",IF(INDEX('Flat File'!$O$2:$O$20001,$BE14)="","",INDEX('Flat File'!$O$2:$O$20001,$BE14)+N($I14))) | AB14: =IF($BE14="","",IF(INDEX('Flat File'!$K$2:$K$20001,$BE14)="","",INDEX('Flat File'!$K$2:$K$20001,$BE14)+N($J14))) | AC14: =IF($BE14="","",IF(INDEX('Flat File'!$L$2:$L$20001,$BE14)="","",INDEX('Flat File'!$L$2:$L$20001,$BE14)+N($J14))) | AD14: =IF($BE14="","",IF(INDEX('Flat File'!$M$2:$M$20001,$BE14)="","",INDEX('Flat File'!$M$2:$M$20001,$BE14)+N($J14))) | AE14: =IF($BE14="","",IF(INDEX('Flat File'!$N$2:$N$20001,$BE14)="","",INDEX('Flat File'!$N$2:$N$20001,$BE14)+N($J14))) | AF14: =IF($BE14="","",MID("JanFebMarAprMayJunJulAugSepOctNovDec",MONTH($B14)*3-2,3)&RIGHT(YEAR($B14),2)&MID(INDEX('Flat File'!$B$2:$B$20001,$BE14),6,200)) | AH14: =IF($BF14="","",IF(INDEX('Flat File'!$O$2:$O$20001,$BF14)="","",INDEX('Flat File'!$O$2:$O$20001,$BF14)+N($I14))) | AI14: =IF($BF14="","",IF(INDEX('Flat File'!$K$2:$K$20001,$BF14)="","",INDEX('Flat File'!$K$2:$K$20001,$BF14)+N($J14))) | AJ14: =IF($BF14="","",IF(INDEX('Flat File'!$L$2:$L$20001,$BF14)="","",INDEX('Flat File'!$L$2:$L$20001,$BF14)+N($J14))) | AK14: =IF($BF14="","",IF(INDEX('Flat File'!$M$2:$M$20001,$BF14)="","",INDEX('Flat File'!$M$2:$M$20001,$BF14)+N($J14))) | AL14: =IF($BF14="","",IF(INDEX('Flat File'!$N$2:$N$20001,$BF14)="","",INDEX('Flat File'!$N$2:$N$20001,$BF14)+N($J14))) | AM14: =IF($BF14="","",MID("JanFebMarAprMayJunJulAugSepOctNovDec",MONTH($B14)*3-2,3)&RIGHT(YEAR($B14),2)&MID(INDEX('Flat File'!$B$2:$B$20001,$BF14),6,200)) | AO14: =IF($BG14="","",IF(INDEX('Flat File'!$O$2:$O$20001,$BG14)="","",INDEX('Flat File'!$O$2:$O$20001,$BG14)+N($I14))) | AP14: =IF($BG14="","",IF(INDEX('Flat File'!$K$2:$K$20001,$BG14)="","",INDEX('Flat File'!$K$2:$K$20001,$BG14)+N($J14))) | AQ14: =IF($BG14="","",IF(INDEX('Flat File'!$L$2:$L$20001,$BG14)="","",INDEX('Flat File'!$L$2:$L$20001,$BG14)+N($J14))) | AR14: =IF($BG14="","",IF(INDEX('Flat File'!$M$2:$M$20001,$BG14)="","",INDEX('Flat File'!$M$2:$M$20001,$BG14)+N($J14))) | AS14: =IF($BG14="","",IF(INDEX('Flat File'!$N$2:$N$20001,$BG14)="","",INDEX('Flat File'!$N$2:$N$20001,$BG14)+N($J14))) | AT14: =IF($BG14="","",MID("JanFebMarAprMayJunJulAugSepOctNovDec",MONTH($B14)*3-2,3)&RIGHT(YEAR($B14),2)&MID(INDEX('Flat File'!$B$2:$B$20001,$BG14),6,200)) | AV14: =IF($BH14="","",IF(INDEX('Flat File'!$O$2:$O$20001,$BH14)="","",INDEX('Flat File'!$O$2:$O$20001,$BH14)+N($I14))) | AW14: =IF($BH14="","",IF(INDEX('Flat File'!$K$2:$K$20001,$BH14)="","",INDEX('Flat File'!$K$2:$K$20001,$BH14)+N($J14))) | AX14: =IF($BH14="","",IF(INDEX('Flat File'!$L$2:$L$20001,$BH14)="","",INDEX('Flat File'!$L$2:$L$20001,$BH14)+N($J14))) | AY14: =IF($BH14="","",IF(INDEX('Flat File'!$M$2:$M$20001,$BH14)="","",INDEX('Flat File'!$M$2:$M$20001,$BH14)+N($J14))) | AZ14: =IF($BH14="","",IF(INDEX('Flat File'!$N$2:$N$20001,$BH14)="","",INDEX('Flat File'!$N$2:$N$20001,$BH14)+N($J14))) | BA14: =IF($BH14="","",MID("JanFebMarAprMayJunJulAugSepOctNovDec",MONTH($B14)*3-2,3)&RIGHT(YEAR($B14),2)&MID(INDEX('Flat File'!$B$2:$B$20001,$BH14),6,200)) | BC14: =IF(OR($C14="",$E14="",$F14="",$G14="",$B14="",$B14<Reference!$L$5,$B14>Reference!$L$6),"",IFERROR(MATCH($B$4&"|Standard|"&$F14&"|"&$G14&"|"&$E14&"|"&$M$9,'Flat File'!$T$2:$T$20001,0),"")) | BD14: =IF(OR($C14="",$E14="",$F14="",$G14="",$B14="",$B14<Reference!$L$5,$B14>Reference!$L$6),"",IFERROR(MATCH($B$4&"|Standard|"&$F14&"|"&$G14&"|"&$E14&"|"&$T$9,'Flat File'!$T$2:$T$20001,0),"")) | BE14: =IF(OR($C14="",$E14="",$F14="",$G14="",$B14="",$B14<Reference!$L$5,$B14>Reference!$L$6),"",IFERROR(MATCH($B$4&"|Standard|"&$F14&"|"&$G14&"|"&$E14&"|"&$AA$9,'Flat File'!$T$2:$T$20001,0),"")) | BF14: =IF(OR($C14="",$E14="",$F14="",$G14="",$B14="",$B14<Reference!$L$5,$B14>Reference!$L$6),"",IFERROR(MATCH($B$4&"|Advanced Saver|"&$F14&"|"&$G14&"|"&$E14&"|"&$AH$9,'Flat File'!$T$2:$T$20001,0),"")) | BG14: =IF(OR($C14="",$E14="",$F14="",$G14="",$B14="",$B14<Reference!$L$5,$B14>Reference!$L$6),"",IFERROR(MATCH($B$4&"|Advanced Saver|"&$F14&"|"&$G14&"|"&$E14&"|"&$AO$9,'Flat File'!$T$2:$T$20001,0),"")) | BH14: =IF(OR($C14="",$E14="",$F14="",$G14="",$B14="",$B14<Reference!$L$5,$B14>Reference!$L$6),"",IFERROR(MATCH($B$4&"|Advanced Saver|"&$F14&"|"&$G14&"|"&$E14&"|"&$AV$9,'Flat File'!$T$2:$T$20001,0),""))
D15: =IF($C15="","",IF(OR($C15<Reference!$C$4,$C15>Reference!$D$14),"Please Check EAC",INDEX(Reference!$B$4:$B$14,MATCH($C15,Reference!$C$4:$C$14,1)))) | E15: =IF(OR($C15="",$D15="Please Check EAC"),"",INDEX(Reference!$C$4:$C$14,MATCH($C15,Reference!$C$4:$C$14,1))) | H15: =IF($G15="","",IF($G15="Standard",3,4)) | K15: =IF(AND($A15="",$C15="",$F15="",$G15=""),"",IF($C15="","Enter EAC",IF($D15="Please Check EAC","EAC outside 1,000-300,000",IF($F15="","Select Area",IF($G15="","Select Rate Structure",IF($B15="","Enter Start Date",IF(OR($B15<Reference!$L$5,$B15>Reference!$L$6),"Start date outside window",IF(COUNT($BC15:$BH15)<6,"Check: price missing","OK")))))))) | M15: =IF($BC15="","",IF(INDEX('Flat File'!$O$2:$O$20001,$BC15)="","",INDEX('Flat File'!$O$2:$O$20001,$BC15)+N($I15))) | N15: =IF($BC15="","",IF(INDEX('Flat File'!$K$2:$K$20001,$BC15)="","",INDEX('Flat File'!$K$2:$K$20001,$BC15)+N($J15))) | O15: =IF($BC15="","",IF(INDEX('Flat File'!$L$2:$L$20001,$BC15)="","",INDEX('Flat File'!$L$2:$L$20001,$BC15)+N($J15))) | P15: =IF($BC15="","",IF(INDEX('Flat File'!$M$2:$M$20001,$BC15)="","",INDEX('Flat File'!$M$2:$M$20001,$BC15)+N($J15))) | Q15: =IF($BC15="","",IF(INDEX('Flat File'!$N$2:$N$20001,$BC15)="","",INDEX('Flat File'!$N$2:$N$20001,$BC15)+N($J15))) | R15: =IF($BC15="","",MID("JanFebMarAprMayJunJulAugSepOctNovDec",MONTH($B15)*3-2,3)&RIGHT(YEAR($B15),2)&MID(INDEX('Flat File'!$B$2:$B$20001,$BC15),6,200)) | T15: =IF($BD15="","",IF(INDEX('Flat File'!$O$2:$O$20001,$BD15)="","",INDEX('Flat File'!$O$2:$O$20001,$BD15)+N($I15))) | U15: =IF($BD15="","",IF(INDEX('Flat File'!$K$2:$K$20001,$BD15)="","",INDEX('Flat File'!$K$2:$K$20001,$BD15)+N($J15))) | V15: =IF($BD15="","",IF(INDEX('Flat File'!$L$2:$L$20001,$BD15)="","",INDEX('Flat File'!$L$2:$L$20001,$BD15)+N($J15))) | W15: =IF($BD15="","",IF(INDEX('Flat File'!$M$2:$M$20001,$BD15)="","",INDEX('Flat File'!$M$2:$M$20001,$BD15)+N($J15))) | X15: =IF($BD15="","",IF(INDEX('Flat File'!$N$2:$N$20001,$BD15)="","",INDEX('Flat File'!$N$2:$N$20001,$BD15)+N($J15))) | Y15: =IF($BD15="","",MID("JanFebMarAprMayJunJulAugSepOctNovDec",MONTH($B15)*3-2,3)&RIGHT(YEAR($B15),2)&MID(INDEX('Flat File'!$B$2:$B$20001,$BD15),6,200)) | AA15: =IF($BE15="","",IF(INDEX('Flat File'!$O$2:$O$20001,$BE15)="","",INDEX('Flat File'!$O$2:$O$20001,$BE15)+N($I15))) | AB15: =IF($BE15="","",IF(INDEX('Flat File'!$K$2:$K$20001,$BE15)="","",INDEX('Flat File'!$K$2:$K$20001,$BE15)+N($J15))) | AC15: =IF($BE15="","",IF(INDEX('Flat File'!$L$2:$L$20001,$BE15)="","",INDEX('Flat File'!$L$2:$L$20001,$BE15)+N($J15))) | AD15: =IF($BE15="","",IF(INDEX('Flat File'!$M$2:$M$20001,$BE15)="","",INDEX('Flat File'!$M$2:$M$20001,$BE15)+N($J15))) | AE15: =IF($BE15="","",IF(INDEX('Flat File'!$N$2:$N$20001,$BE15)="","",INDEX('Flat File'!$N$2:$N$20001,$BE15)+N($J15))) | AF15: =IF($BE15="","",MID("JanFebMarAprMayJunJulAugSepOctNovDec",MONTH($B15)*3-2,3)&RIGHT(YEAR($B15),2)&MID(INDEX('Flat File'!$B$2:$B$20001,$BE15),6,200)) | AH15: =IF($BF15="","",IF(INDEX('Flat File'!$O$2:$O$20001,$BF15)="","",INDEX('Flat File'!$O$2:$O$20001,$BF15)+N($I15))) | AI15: =IF($BF15="","",IF(INDEX('Flat File'!$K$2:$K$20001,$BF15)="","",INDEX('Flat File'!$K$2:$K$20001,$BF15)+N($J15))) | AJ15: =IF($BF15="","",IF(INDEX('Flat File'!$L$2:$L$20001,$BF15)="","",INDEX('Flat File'!$L$2:$L$20001,$BF15)+N($J15))) | AK15: =IF($BF15="","",IF(INDEX('Flat File'!$M$2:$M$20001,$BF15)="","",INDEX('Flat File'!$M$2:$M$20001,$BF15)+N($J15))) | AL15: =IF($BF15="","",IF(INDEX('Flat File'!$N$2:$N$20001,$BF15)="","",INDEX('Flat File'!$N$2:$N$20001,$BF15)+N($J15))) | AM15: =IF($BF15="","",MID("JanFebMarAprMayJunJulAugSepOctNovDec",MONTH($B15)*3-2,3)&RIGHT(YEAR($B15),2)&MID(INDEX('Flat File'!$B$2:$B$20001,$BF15),6,200)) | AO15: =IF($BG15="","",IF(INDEX('Flat File'!$O$2:$O$20001,$BG15)="","",INDEX('Flat File'!$O$2:$O$20001,$BG15)+N($I15))) | AP15: =IF($BG15="","",IF(INDEX('Flat File'!$K$2:$K$20001,$BG15)="","",INDEX('Flat File'!$K$2:$K$20001,$BG15)+N($J15))) | AQ15: =IF($BG15="","",IF(INDEX('Flat File'!$L$2:$L$20001,$BG15)="","",INDEX('Flat File'!$L$2:$L$20001,$BG15)+N($J15))) | AR15: =IF($BG15="","",IF(INDEX('Flat File'!$M$2:$M$20001,$BG15)="","",INDEX('Flat File'!$M$2:$M$20001,$BG15)+N($J15))) | AS15: =IF($BG15="","",IF(INDEX('Flat File'!$N$2:$N$20001,$BG15)="","",INDEX('Flat File'!$N$2:$N$20001,$BG15)+N($J15))) | AT15: =IF($BG15="","",MID("JanFebMarAprMayJunJulAugSepOctNovDec",MONTH($B15)*3-2,3)&RIGHT(YEAR($B15),2)&MID(INDEX('Flat File'!$B$2:$B$20001,$BG15),6,200)) | AV15: =IF($BH15="","",IF(INDEX('Flat File'!$O$2:$O$20001,$BH15)="","",INDEX('Flat File'!$O$2:$O$20001,$BH15)+N($I15))) | AW15: =IF($BH15="","",IF(INDEX('Flat File'!$K$2:$K$20001,$BH15)="","",INDEX('Flat File'!$K$2:$K$20001,$BH15)+N($J15))) | AX15: =IF($BH15="","",IF(INDEX('Flat File'!$L$2:$L$20001,$BH15)="","",INDEX('Flat File'!$L$2:$L$20001,$BH15)+N($J15))) | AY15: =IF($BH15="","",IF(INDEX('Flat File'!$M$2:$M$20001,$BH15)="","",INDEX('Flat File'!$M$2:$M$20001,$BH15)+N($J15))) | AZ15: =IF($BH15="","",IF(INDEX('Flat File'!$N$2:$N$20001,$BH15)="","",INDEX('Flat File'!$N$2:$N$20001,$BH15)+N($J15))) | BA15: =IF($BH15="","",MID("JanFebMarAprMayJunJulAugSepOctNovDec",MONTH($B15)*3-2,3)&RIGHT(YEAR($B15),2)&MID(INDEX('Flat File'!$B$2:$B$20001,$BH15),6,200)) | BC15: =IF(OR($C15="",$E15="",$F15="",$G15="",$B15="",$B15<Reference!$L$5,$B15>Reference!$L$6),"",IFERROR(MATCH($B$4&"|Standard|"&$F15&"|"&$G15&"|"&$E15&"|"&$M$9,'Flat File'!$T$2:$T$20001,0),"")) | BD15: =IF(OR($C15="",$E15="",$F15="",$G15="",$B15="",$B15<Reference!$L$5,$B15>Reference!$L$6),"",IFERROR(MATCH($B$4&"|Standard|"&$F15&"|"&$G15&"|"&$E15&"|"&$T$9,'Flat File'!$T$2:$T$20001,0),"")) | BE15: =IF(OR($C15="",$E15="",$F15="",$G15="",$B15="",$B15<Reference!$L$5,$B15>Reference!$L$6),"",IFERROR(MATCH($B$4&"|Standard|"&$F15&"|"&$G15&"|"&$E15&"|"&$AA$9,'Flat File'!$T$2:$T$20001,0),"")) | BF15: =IF(OR($C15="",$E15="",$F15="",$G15="",$B15="",$B15<Reference!$L$5,$B15>Reference!$L$6),"",IFERROR(MATCH($B$4&"|Advanced Saver|"&$F15&"|"&$G15&"|"&$E15&"|"&$AH$9,'Flat File'!$T$2:$T$20001,0),"")) | BG15: =IF(OR($C15="",$E15="",$F15="",$G15="",$B15="",$B15<Reference!$L$5,$B15>Reference!$L$6),"",IFERROR(MATCH($B$4&"|Advanced Saver|"&$F15&"|"&$G15&"|"&$E15&"|"&$AO$9,'Flat File'!$T$2:$T$20001,0),"")) | BH15: =IF(OR($C15="",$E15="",$F15="",$G15="",$B15="",$B15<Reference!$L$5,$B15>Reference!$L$6),"",IFERROR(MATCH($B$4&"|Advanced Saver|"&$F15&"|"&$G15&"|"&$E15&"|"&$AV$9,'Flat File'!$T$2:$T$20001,0),""))
D16: =IF($C16="","",IF(OR($C16<Reference!$C$4,$C16>Reference!$D$14),"Please Check EAC",INDEX(Reference!$B$4:$B$14,MATCH($C16,Reference!$C$4:$C$14,1)))) | E16: =IF(OR($C16="",$D16="Please Check EAC"),"",INDEX(Reference!$C$4:$C$14,MATCH($C16,Reference!$C$4:$C$14,1))) | H16: =IF($G16="","",IF($G16="Standard",3,4)) | K16: =IF(AND($A16="",$C16="",$F16="",$G16=""),"",IF($C16="","Enter EAC",IF($D16="Please Check EAC","EAC outside 1,000-300,000",IF($F16="","Select Area",IF($G16="","Select Rate Structure",IF($B16="","Enter Start Date",IF(OR($B16<Reference!$L$5,$B16>Reference!$L$6),"Start date outside window",IF(COUNT($BC16:$BH16)<6,"Check: price missing","OK")))))))) | M16: =IF($BC16="","",IF(INDEX('Flat File'!$O$2:$O$20001,$BC16)="","",INDEX('Flat File'!$O$2:$O$20001,$BC16)+N($I16))) | N16: =IF($BC16="","",IF(INDEX('Flat File'!$K$2:$K$20001,$BC16)="","",INDEX('Flat File'!$K$2:$K$20001,$BC16)+N($J16))) | O16: =IF($BC16="","",IF(INDEX('Flat File'!$L$2:$L$20001,$BC16)="","",INDEX('Flat File'!$L$2:$L$20001,$BC16)+N($J16))) | P16: =IF($BC16="","",IF(INDEX('Flat File'!$M$2:$M$20001,$BC16)="","",INDEX('Flat File'!$M$2:$M$20001,$BC16)+N($J16))) | Q16: =IF($BC16="","",IF(INDEX('Flat File'!$N$2:$N$20001,$BC16)="","",INDEX('Flat File'!$N$2:$N$20001,$BC16)+N($J16))) | R16: =IF($BC16="","",MID("JanFebMarAprMayJunJulAugSepOctNovDec",MONTH($B16)*3-2,3)&RIGHT(YEAR($B16),2)&MID(INDEX('Flat File'!$B$2:$B$20001,$BC16),6,200)) | T16: =IF($BD16="","",IF(INDEX('Flat File'!$O$2:$O$20001,$BD16)="","",INDEX('Flat File'!$O$2:$O$20001,$BD16)+N($I16))) | U16: =IF($BD16="","",IF(INDEX('Flat File'!$K$2:$K$20001,$BD16)="","",INDEX('Flat File'!$K$2:$K$20001,$BD16)+N($J16))) | V16: =IF($BD16="","",IF(INDEX('Flat File'!$L$2:$L$20001,$BD16)="","",INDEX('Flat File'!$L$2:$L$20001,$BD16)+N($J16))) | W16: =IF($BD16="","",IF(INDEX('Flat File'!$M$2:$M$20001,$BD16)="","",INDEX('Flat File'!$M$2:$M$20001,$BD16)+N($J16))) | X16: =IF($BD16="","",IF(INDEX('Flat File'!$N$2:$N$20001,$BD16)="","",INDEX('Flat File'!$N$2:$N$20001,$BD16)+N($J16))) | Y16: =IF($BD16="","",MID("JanFebMarAprMayJunJulAugSepOctNovDec",MONTH($B16)*3-2,3)&RIGHT(YEAR($B16),2)&MID(INDEX('Flat File'!$B$2:$B$20001,$BD16),6,200)) | AA16: =IF($BE16="","",IF(INDEX('Flat File'!$O$2:$O$20001,$BE16)="","",INDEX('Flat File'!$O$2:$O$20001,$BE16)+N($I16))) | AB16: =IF($BE16="","",IF(INDEX('Flat File'!$K$2:$K$20001,$BE16)="","",INDEX('Flat File'!$K$2:$K$20001,$BE16)+N($J16))) | AC16: =IF($BE16="","",IF(INDEX('Flat File'!$L$2:$L$20001,$BE16)="","",INDEX('Flat File'!$L$2:$L$20001,$BE16)+N($J16))) | AD16: =IF($BE16="","",IF(INDEX('Flat File'!$M$2:$M$20001,$BE16)="","",INDEX('Flat File'!$M$2:$M$20001,$BE16)+N($J16))) | AE16: =IF($BE16="","",IF(INDEX('Flat File'!$N$2:$N$20001,$BE16)="","",INDEX('Flat File'!$N$2:$N$20001,$BE16)+N($J16))) | AF16: =IF($BE16="","",MID("JanFebMarAprMayJunJulAugSepOctNovDec",MONTH($B16)*3-2,3)&RIGHT(YEAR($B16),2)&MID(INDEX('Flat File'!$B$2:$B$20001,$BE16),6,200)) | AH16: =IF($BF16="","",IF(INDEX('Flat File'!$O$2:$O$20001,$BF16)="","",INDEX('Flat File'!$O$2:$O$20001,$BF16)+N($I16))) | AI16: =IF($BF16="","",IF(INDEX('Flat File'!$K$2:$K$20001,$BF16)="","",INDEX('Flat File'!$K$2:$K$20001,$BF16)+N($J16))) | AJ16: =IF($BF16="","",IF(INDEX('Flat File'!$L$2:$L$20001,$BF16)="","",INDEX('Flat File'!$L$2:$L$20001,$BF16)+N($J16))) | AK16: =IF($BF16="","",IF(INDEX('Flat File'!$M$2:$M$20001,$BF16)="","",INDEX('Flat File'!$M$2:$M$20001,$BF16)+N($J16))) | AL16: =IF($BF16="","",IF(INDEX('Flat File'!$N$2:$N$20001,$BF16)="","",INDEX('Flat File'!$N$2:$N$20001,$BF16)+N($J16))) | AM16: =IF($BF16="","",MID("JanFebMarAprMayJunJulAugSepOctNovDec",MONTH($B16)*3-2,3)&RIGHT(YEAR($B16),2)&MID(INDEX('Flat File'!$B$2:$B$20001,$BF16),6,200)) | AO16: =IF($BG16="","",IF(INDEX('Flat File'!$O$2:$O$20001,$BG16)="","",INDEX('Flat File'!$O$2:$O$20001,$BG16)+N($I16))) | AP16: =IF($BG16="","",IF(INDEX('Flat File'!$K$2:$K$20001,$BG16)="","",INDEX('Flat File'!$K$2:$K$20001,$BG16)+N($J16))) | AQ16: =IF($BG16="","",IF(INDEX('Flat File'!$L$2:$L$20001,$BG16)="","",INDEX('Flat File'!$L$2:$L$20001,$BG16)+N($J16))) | AR16: =IF($BG16="","",IF(INDEX('Flat File'!$M$2:$M$20001,$BG16)="","",INDEX('Flat File'!$M$2:$M$20001,$BG16)+N($J16))) | AS16: =IF($BG16="","",IF(INDEX('Flat File'!$N$2:$N$20001,$BG16)="","",INDEX('Flat File'!$N$2:$N$20001,$BG16)+N($J16))) | AT16: =IF($BG16="","",MID("JanFebMarAprMayJunJulAugSepOctNovDec",MONTH($B16)*3-2,3)&RIGHT(YEAR($B16),2)&MID(INDEX('Flat File'!$B$2:$B$20001,$BG16),6,200)) | AV16: =IF($BH16="","",IF(INDEX('Flat File'!$O$2:$O$20001,$BH16)="","",INDEX('Flat File'!$O$2:$O$20001,$BH16)+N($I16))) | AW16: =IF($BH16="","",IF(INDEX('Flat File'!$K$2:$K$20001,$BH16)="","",INDEX('Flat File'!$K$2:$K$20001,$BH16)+N($J16))) | AX16: =IF($BH16="","",IF(INDEX('Flat File'!$L$2:$L$20001,$BH16)="","",INDEX('Flat File'!$L$2:$L$20001,$BH16)+N($J16))) | AY16: =IF($BH16="","",IF(INDEX('Flat File'!$M$2:$M$20001,$BH16)="","",INDEX('Flat File'!$M$2:$M$20001,$BH16)+N($J16))) | AZ16: =IF($BH16="","",IF(INDEX('Flat File'!$N$2:$N$20001,$BH16)="","",INDEX('Flat File'!$N$2:$N$20001,$BH16)+N($J16))) | BA16: =IF($BH16="","",MID("JanFebMarAprMayJunJulAugSepOctNovDec",MONTH($B16)*3-2,3)&RIGHT(YEAR($B16),2)&MID(INDEX('Flat File'!$B$2:$B$20001,$BH16),6,200)) | BC16: =IF(OR($C16="",$E16="",$F16="",$G16="",$B16="",$B16<Reference!$L$5,$B16>Reference!$L$6),"",IFERROR(MATCH($B$4&"|Standard|"&$F16&"|"&$G16&"|"&$E16&"|"&$M$9,'Flat File'!$T$2:$T$20001,0),"")) | BD16: =IF(OR($C16="",$E16="",$F16="",$G16="",$B16="",$B16<Reference!$L$5,$B16>Reference!$L$6),"",IFERROR(MATCH($B$4&"|Standard|"&$F16&"|"&$G16&"|"&$E16&"|"&$T$9,'Flat File'!$T$2:$T$20001,0),"")) | BE16: =IF(OR($C16="",$E16="",$F16="",$G16="",$B16="",$B16<Reference!$L$5,$B16>Reference!$L$6),"",IFERROR(MATCH($B$4&"|Standard|"&$F16&"|"&$G16&"|"&$E16&"|"&$AA$9,'Flat File'!$T$2:$T$20001,0),"")) | BF16: =IF(OR($C16="",$E16="",$F16="",$G16="",$B16="",$B16<Reference!$L$5,$B16>Reference!$L$6),"",IFERROR(MATCH($B$4&"|Advanced Saver|"&$F16&"|"&$G16&"|"&$E16&"|"&$AH$9,'Flat File'!$T$2:$T$20001,0),"")) | BG16: =IF(OR($C16="",$E16="",$F16="",$G16="",$B16="",$B16<Reference!$L$5,$B16>Reference!$L$6),"",IFERROR(MATCH($B$4&"|Advanced Saver|"&$F16&"|"&$G16&"|"&$E16&"|"&$AO$9,'Flat File'!$T$2:$T$20001,0),"")) | BH16: =IF(OR($C16="",$E16="",$F16="",$G16="",$B16="",$B16<Reference!$L$5,$B16>Reference!$L$6),"",IFERROR(MATCH($B$4&"|Advanced Saver|"&$F16&"|"&$G16&"|"&$E16&"|"&$AV$9,'Flat File'!$T$2:$T$20001,0),""))
D17: =IF($C17="","",IF(OR($C17<Reference!$C$4,$C17>Reference!$D$14),"Please Check EAC",INDEX(Reference!$B$4:$B$14,MATCH($C17,Reference!$C$4:$C$14,1)))) | E17: =IF(OR($C17="",$D17="Please Check EAC"),"",INDEX(Reference!$C$4:$C$14,MATCH($C17,Reference!$C$4:$C$14,1))) | H17: =IF($G17="","",IF($G17="Standard",3,4)) | K17: =IF(AND($A17="",$C17="",$F17="",$G17=""),"",IF($C17="","Enter EAC",IF($D17="Please Check EAC","EAC outside 1,000-300,000",IF($F17="","Select Area",IF($G17="","Select Rate Structure",IF($B17="","Enter Start Date",IF(OR($B17<Reference!$L$5,$B17>Reference!$L$6),"Start date outside window",IF(COUNT($BC17:$BH17)<6,"Check: price missing","OK")))))))) | M17: =IF($BC17="","",IF(INDEX('Flat File'!$O$2:$O$20001,$BC17)="","",INDEX('Flat File'!$O$2:$O$20001,$BC17)+N($I17))) | N17: =IF($BC17="","",IF(INDEX('Flat File'!$K$2:$K$20001,$BC17)="","",INDEX('Flat File'!$K$2:$K$20001,$BC17)+N($J17))) | O17: =IF($BC17="","",IF(INDEX('Flat File'!$L$2:$L$20001,$BC17)="","",INDEX('Flat File'!$L$2:$L$20001,$BC17)+N($J17))) | P17: =IF($BC17="","",IF(INDEX('Flat File'!$M$2:$M$20001,$BC17)="","",INDEX('Flat File'!$M$2:$M$20001,$BC17)+N($J17))) | Q17: =IF($BC17="","",IF(INDEX('Flat File'!$N$2:$N$20001,$BC17)="","",INDEX('Flat File'!$N$2:$N$20001,$BC17)+N($J17))) | R17: =IF($BC17="","",MID("JanFebMarAprMayJunJulAugSepOctNovDec",MONTH($B17)*3-2,3)&RIGHT(YEAR($B17),2)&MID(INDEX('Flat File'!$B$2:$B$20001,$BC17),6,200)) | T17: =IF($BD17="","",IF(INDEX('Flat File'!$O$2:$O$20001,$BD17)="","",INDEX('Flat File'!$O$2:$O$20001,$BD17)+N($I17))) | U17: =IF($BD17="","",IF(INDEX('Flat File'!$K$2:$K$20001,$BD17)="","",INDEX('Flat File'!$K$2:$K$20001,$BD17)+N($J17))) | V17: =IF($BD17="","",IF(INDEX('Flat File'!$L$2:$L$20001,$BD17)="","",INDEX('Flat File'!$L$2:$L$20001,$BD17)+N($J17))) | W17: =IF($BD17="","",IF(INDEX('Flat File'!$M$2:$M$20001,$BD17)="","",INDEX('Flat File'!$M$2:$M$20001,$BD17)+N($J17))) | X17: =IF($BD17="","",IF(INDEX('Flat File'!$N$2:$N$20001,$BD17)="","",INDEX('Flat File'!$N$2:$N$20001,$BD17)+N($J17))) | Y17: =IF($BD17="","",MID("JanFebMarAprMayJunJulAugSepOctNovDec",MONTH($B17)*3-2,3)&RIGHT(YEAR($B17),2)&MID(INDEX('Flat File'!$B$2:$B$20001,$BD17),6,200)) | AA17: =IF($BE17="","",IF(INDEX('Flat File'!$O$2:$O$20001,$BE17)="","",INDEX('Flat File'!$O$2:$O$20001,$BE17)+N($I17))) | AB17: =IF($BE17="","",IF(INDEX('Flat File'!$K$2:$K$20001,$BE17)="","",INDEX('Flat File'!$K$2:$K$20001,$BE17)+N($J17))) | AC17: =IF($BE17="","",IF(INDEX('Flat File'!$L$2:$L$20001,$BE17)="","",INDEX('Flat File'!$L$2:$L$20001,$BE17)+N($J17))) | AD17: =IF($BE17="","",IF(INDEX('Flat File'!$M$2:$M$20001,$BE17)="","",INDEX('Flat File'!$M$2:$M$20001,$BE17)+N($J17))) | AE17: =IF($BE17="","",IF(INDEX('Flat File'!$N$2:$N$20001,$BE17)="","",INDEX('Flat File'!$N$2:$N$20001,$BE17)+N($J17))) | AF17: =IF($BE17="","",MID("JanFebMarAprMayJunJulAugSepOctNovDec",MONTH($B17)*3-2,3)&RIGHT(YEAR($B17),2)&MID(INDEX('Flat File'!$B$2:$B$20001,$BE17),6,200)) | AH17: =IF($BF17="","",IF(INDEX('Flat File'!$O$2:$O$20001,$BF17)="","",INDEX('Flat File'!$O$2:$O$20001,$BF17)+N($I17))) | AI17: =IF($BF17="","",IF(INDEX('Flat File'!$K$2:$K$20001,$BF17)="","",INDEX('Flat File'!$K$2:$K$20001,$BF17)+N($J17))) | AJ17: =IF($BF17="","",IF(INDEX('Flat File'!$L$2:$L$20001,$BF17)="","",INDEX('Flat File'!$L$2:$L$20001,$BF17)+N($J17))) | AK17: =IF($BF17="","",IF(INDEX('Flat File'!$M$2:$M$20001,$BF17)="","",INDEX('Flat File'!$M$2:$M$20001,$BF17)+N($J17))) | AL17: =IF($BF17="","",IF(INDEX('Flat File'!$N$2:$N$20001,$BF17)="","",INDEX('Flat File'!$N$2:$N$20001,$BF17)+N($J17))) | AM17: =IF($BF17="","",MID("JanFebMarAprMayJunJulAugSepOctNovDec",MONTH($B17)*3-2,3)&RIGHT(YEAR($B17),2)&MID(INDEX('Flat File'!$B$2:$B$20001,$BF17),6,200)) | AO17: =IF($BG17="","",IF(INDEX('Flat File'!$O$2:$O$20001,$BG17)="","",INDEX('Flat File'!$O$2:$O$20001,$BG17)+N($I17))) | AP17: =IF($BG17="","",IF(INDEX('Flat File'!$K$2:$K$20001,$BG17)="","",INDEX('Flat File'!$K$2:$K$20001,$BG17)+N($J17))) | AQ17: =IF($BG17="","",IF(INDEX('Flat File'!$L$2:$L$20001,$BG17)="","",INDEX('Flat File'!$L$2:$L$20001,$BG17)+N($J17))) | AR17: =IF($BG17="","",IF(INDEX('Flat File'!$M$2:$M$20001,$BG17)="","",INDEX('Flat File'!$M$2:$M$20001,$BG17)+N($J17))) | AS17: =IF($BG17="","",IF(INDEX('Flat File'!$N$2:$N$20001,$BG17)="","",INDEX('Flat File'!$N$2:$N$20001,$BG17)+N($J17))) | AT17: =IF($BG17="","",MID("JanFebMarAprMayJunJulAugSepOctNovDec",MONTH($B17)*3-2,3)&RIGHT(YEAR($B17),2)&MID(INDEX('Flat File'!$B$2:$B$20001,$BG17),6,200)) | AV17: =IF($BH17="","",IF(INDEX('Flat File'!$O$2:$O$20001,$BH17)="","",INDEX('Flat File'!$O$2:$O$20001,$BH17)+N($I17))) | AW17: =IF($BH17="","",IF(INDEX('Flat File'!$K$2:$K$20001,$BH17)="","",INDEX('Flat File'!$K$2:$K$20001,$BH17)+N($J17))) | AX17: =IF($BH17="","",IF(INDEX('Flat File'!$L$2:$L$20001,$BH17)="","",INDEX('Flat File'!$L$2:$L$20001,$BH17)+N($J17))) | AY17: =IF($BH17="","",IF(INDEX('Flat File'!$M$2:$M$20001,$BH17)="","",INDEX('Flat File'!$M$2:$M$20001,$BH17)+N($J17))) | AZ17: =IF($BH17="","",IF(INDEX('Flat File'!$N$2:$N$20001,$BH17)="","",INDEX('Flat File'!$N$2:$N$20001,$BH17)+N($J17))) | BA17: =IF($BH17="","",MID("JanFebMarAprMayJunJulAugSepOctNovDec",MONTH($B17)*3-2,3)&RIGHT(YEAR($B17),2)&MID(INDEX('Flat File'!$B$2:$B$20001,$BH17),6,200)) | BC17: =IF(OR($C17="",$E17="",$F17="",$G17="",$B17="",$B17<Reference!$L$5,$B17>Reference!$L$6),"",IFERROR(MATCH($B$4&"|Standard|"&$F17&"|"&$G17&"|"&$E17&"|"&$M$9,'Flat File'!$T$2:$T$20001,0),"")) | BD17: =IF(OR($C17="",$E17="",$F17="",$G17="",$B17="",$B17<Reference!$L$5,$B17>Reference!$L$6),"",IFERROR(MATCH($B$4&"|Standard|"&$F17&"|"&$G17&"|"&$E17&"|"&$T$9,'Flat File'!$T$2:$T$20001,0),"")) | BE17: =IF(OR($C17="",$E17="",$F17="",$G17="",$B17="",$B17<Reference!$L$5,$B17>Reference!$L$6),"",IFERROR(MATCH($B$4&"|Standard|"&$F17&"|"&$G17&"|"&$E17&"|"&$AA$9,'Flat File'!$T$2:$T$20001,0),"")) | BF17: =IF(OR($C17="",$E17="",$F17="",$G17="",$B17="",$B17<Reference!$L$5,$B17>Reference!$L$6),"",IFERROR(MATCH($B$4&"|Advanced Saver|"&$F17&"|"&$G17&"|"&$E17&"|"&$AH$9,'Flat File'!$T$2:$T$20001,0),"")) | BG17: =IF(OR($C17="",$E17="",$F17="",$G17="",$B17="",$B17<Reference!$L$5,$B17>Reference!$L$6),"",IFERROR(MATCH($B$4&"|Advanced Saver|"&$F17&"|"&$G17&"|"&$E17&"|"&$AO$9,'Flat File'!$T$2:$T$20001,0),"")) | BH17: =IF(OR($C17="",$E17="",$F17="",$G17="",$B17="",$B17<Reference!$L$5,$B17>Reference!$L$6),"",IFERROR(MATCH($B$4&"|Advanced Saver|"&$F17&"|"&$G17&"|"&$E17&"|"&$AV$9,'Flat File'!$T$2:$T$20001,0),""))
D18: =IF($C18="","",IF(OR($C18<Reference!$C$4,$C18>Reference!$D$14),"Please Check EAC",INDEX(Reference!$B$4:$B$14,MATCH($C18,Reference!$C$4:$C$14,1)))) | E18: =IF(OR($C18="",$D18="Please Check EAC"),"",INDEX(Reference!$C$4:$C$14,MATCH($C18,Reference!$C$4:$C$14,1))) | H18: =IF($G18="","",IF($G18="Standard",3,4)) | K18: =IF(AND($A18="",$C18="",$F18="",$G18=""),"",IF($C18="","Enter EAC",IF($D18="Please Check EAC","EAC outside 1,000-300,000",IF($F18="","Select Area",IF($G18="","Select Rate Structure",IF($B18="","Enter Start Date",IF(OR($B18<Reference!$L$5,$B18>Reference!$L$6),"Start date outside window",IF(COUNT($BC18:$BH18)<6,"Check: price missing","OK")))))))) | M18: =IF($BC18="","",IF(INDEX('Flat File'!$O$2:$O$20001,$BC18)="","",INDEX('Flat File'!$O$2:$O$20001,$BC18)+N($I18))) | N18: =IF($BC18="","",IF(INDEX('Flat File'!$K$2:$K$20001,$BC18)="","",INDEX('Flat File'!$K$2:$K$20001,$BC18)+N($J18))) | O18: =IF($BC18="","",IF(INDEX('Flat File'!$L$2:$L$20001,$BC18)="","",INDEX('Flat File'!$L$2:$L$20001,$BC18)+N($J18))) | P18: =IF($BC18="","",IF(INDEX('Flat File'!$M$2:$M$20001,$BC18)="","",INDEX('Flat File'!$M$2:$M$20001,$BC18)+N($J18))) | Q18: =IF($BC18="","",IF(INDEX('Flat File'!$N$2:$N$20001,$BC18)="","",INDEX('Flat File'!$N$2:$N$20001,$BC18)+N($J18))) | R18: =IF($BC18="","",MID("JanFebMarAprMayJunJulAugSepOctNovDec",MONTH($B18)*3-2,3)&RIGHT(YEAR($B18),2)&MID(INDEX('Flat File'!$B$2:$B$20001,$BC18),6,200)) | T18: =IF($BD18="","",IF(INDEX('Flat File'!$O$2:$O$20001,$BD18)="","",INDEX('Flat File'!$O$2:$O$20001,$BD18)+N($I18))) | U18: =IF($BD18="","",IF(INDEX('Flat File'!$K$2:$K$20001,$BD18)="","",INDEX('Flat File'!$K$2:$K$20001,$BD18)+N($J18))) | V18: =IF($BD18="","",IF(INDEX('Flat File'!$L$2:$L$20001,$BD18)="","",INDEX('Flat File'!$L$2:$L$20001,$BD18)+N($J18))) | W18: =IF($BD18="","",IF(INDEX('Flat File'!$M$2:$M$20001,$BD18)="","",INDEX('Flat File'!$M$2:$M$20001,$BD18)+N($J18))) | X18: =IF($BD18="","",IF(INDEX('Flat File'!$N$2:$N$20001,$BD18)="","",INDEX('Flat File'!$N$2:$N$20001,$BD18)+N($J18))) | Y18: =IF($BD18="","",MID("JanFebMarAprMayJunJulAugSepOctNovDec",MONTH($B18)*3-2,3)&RIGHT(YEAR($B18),2)&MID(INDEX('Flat File'!$B$2:$B$20001,$BD18),6,200)) | AA18: =IF($BE18="","",IF(INDEX('Flat File'!$O$2:$O$20001,$BE18)="","",INDEX('Flat File'!$O$2:$O$20001,$BE18)+N($I18))) | AB18: =IF($BE18="","",IF(INDEX('Flat File'!$K$2:$K$20001,$BE18)="","",INDEX('Flat File'!$K$2:$K$20001,$BE18)+N($J18))) | AC18: =IF($BE18="","",IF(INDEX('Flat File'!$L$2:$L$20001,$BE18)="","",INDEX('Flat File'!$L$2:$L$20001,$BE18)+N($J18))) | AD18: =IF($BE18="","",IF(INDEX('Flat File'!$M$2:$M$20001,$BE18)="","",INDEX('Flat File'!$M$2:$M$20001,$BE18)+N($J18))) | AE18: =IF($BE18="","",IF(INDEX('Flat File'!$N$2:$N$20001,$BE18)="","",INDEX('Flat File'!$N$2:$N$20001,$BE18)+N($J18))) | AF18: =IF($BE18="","",MID("JanFebMarAprMayJunJulAugSepOctNovDec",MONTH($B18)*3-2,3)&RIGHT(YEAR($B18),2)&MID(INDEX('Flat File'!$B$2:$B$20001,$BE18),6,200)) | AH18: =IF($BF18="","",IF(INDEX('Flat File'!$O$2:$O$20001,$BF18)="","",INDEX('Flat File'!$O$2:$O$20001,$BF18)+N($I18))) | AI18: =IF($BF18="","",IF(INDEX('Flat File'!$K$2:$K$20001,$BF18)="","",INDEX('Flat File'!$K$2:$K$20001,$BF18)+N($J18))) | AJ18: =IF($BF18="","",IF(INDEX('Flat File'!$L$2:$L$20001,$BF18)="","",INDEX('Flat File'!$L$2:$L$20001,$BF18)+N($J18))) | AK18: =IF($BF18="","",IF(INDEX('Flat File'!$M$2:$M$20001,$BF18)="","",INDEX('Flat File'!$M$2:$M$20001,$BF18)+N($J18))) | AL18: =IF($BF18="","",IF(INDEX('Flat File'!$N$2:$N$20001,$BF18)="","",INDEX('Flat File'!$N$2:$N$20001,$BF18)+N($J18))) | AM18: =IF($BF18="","",MID("JanFebMarAprMayJunJulAugSepOctNovDec",MONTH($B18)*3-2,3)&RIGHT(YEAR($B18),2)&MID(INDEX('Flat File'!$B$2:$B$20001,$BF18),6,200)) | AO18: =IF($BG18="","",IF(INDEX('Flat File'!$O$2:$O$20001,$BG18)="","",INDEX('Flat File'!$O$2:$O$20001,$BG18)+N($I18))) | AP18: =IF($BG18="","",IF(INDEX('Flat File'!$K$2:$K$20001,$BG18)="","",INDEX('Flat File'!$K$2:$K$20001,$BG18)+N($J18))) | AQ18: =IF($BG18="","",IF(INDEX('Flat File'!$L$2:$L$20001,$BG18)="","",INDEX('Flat File'!$L$2:$L$20001,$BG18)+N($J18))) | AR18: =IF($BG18="","",IF(INDEX('Flat File'!$M$2:$M$20001,$BG18)="","",INDEX('Flat File'!$M$2:$M$20001,$BG18)+N($J18))) | AS18: =IF($BG18="","",IF(INDEX('Flat File'!$N$2:$N$20001,$BG18)="","",INDEX('Flat File'!$N$2:$N$20001,$BG18)+N($J18))) | AT18: =IF($BG18="","",MID("JanFebMarAprMayJunJulAugSepOctNovDec",MONTH($B18)*3-2,3)&RIGHT(YEAR($B18),2)&MID(INDEX('Flat File'!$B$2:$B$20001,$BG18),6,200)) | AV18: =IF($BH18="","",IF(INDEX('Flat File'!$O$2:$O$20001,$BH18)="","",INDEX('Flat File'!$O$2:$O$20001,$BH18)+N($I18))) | AW18: =IF($BH18="","",IF(INDEX('Flat File'!$K$2:$K$20001,$BH18)="","",INDEX('Flat File'!$K$2:$K$20001,$BH18)+N($J18))) | AX18: =IF($BH18="","",IF(INDEX('Flat File'!$L$2:$L$20001,$BH18)="","",INDEX('Flat File'!$L$2:$L$20001,$BH18)+N($J18))) | AY18: =IF($BH18="","",IF(INDEX('Flat File'!$M$2:$M$20001,$BH18)="","",INDEX('Flat File'!$M$2:$M$20001,$BH18)+N($J18))) | AZ18: =IF($BH18="","",IF(INDEX('Flat File'!$N$2:$N$20001,$BH18)="","",INDEX('Flat File'!$N$2:$N$20001,$BH18)+N($J18))) | BA18: =IF($BH18="","",MID("JanFebMarAprMayJunJulAugSepOctNovDec",MONTH($B18)*3-2,3)&RIGHT(YEAR($B18),2)&MID(INDEX('Flat File'!$B$2:$B$20001,$BH18),6,200)) | BC18: =IF(OR($C18="",$E18="",$F18="",$G18="",$B18="",$B18<Reference!$L$5,$B18>Reference!$L$6),"",IFERROR(MATCH($B$4&"|Standard|"&$F18&"|"&$G18&"|"&$E18&"|"&$M$9,'Flat File'!$T$2:$T$20001,0),"")) | BD18: =IF(OR($C18="",$E18="",$F18="",$G18="",$B18="",$B18<Reference!$L$5,$B18>Reference!$L$6),"",IFERROR(MATCH($B$4&"|Standard|"&$F18&"|"&$G18&"|"&$E18&"|"&$T$9,'Flat File'!$T$2:$T$20001,0),"")) | BE18: =IF(OR($C18="",$E18="",$F18="",$G18="",$B18="",$B18<Reference!$L$5,$B18>Reference!$L$6),"",IFERROR(MATCH($B$4&"|Standard|"&$F18&"|"&$G18&"|"&$E18&"|"&$AA$9,'Flat File'!$T$2:$T$20001,0),"")) | BF18: =IF(OR($C18="",$E18="",$F18="",$G18="",$B18="",$B18<Reference!$L$5,$B18>Reference!$L$6),"",IFERROR(MATCH($B$4&"|Advanced Saver|"&$F18&"|"&$G18&"|"&$E18&"|"&$AH$9,'Flat File'!$T$2:$T$20001,0),"")) | BG18: =IF(OR($C18="",$E18="",$F18="",$G18="",$B18="",$B18<Reference!$L$5,$B18>Reference!$L$6),"",IFERROR(MATCH($B$4&"|Advanced Saver|"&$F18&"|"&$G18&"|"&$E18&"|"&$AO$9,'Flat File'!$T$2:$T$20001,0),"")) | BH18: =IF(OR($C18="",$E18="",$F18="",$G18="",$B18="",$B18<Reference!$L$5,$B18>Reference!$L$6),"",IFERROR(MATCH($B$4&"|Advanced Saver|"&$F18&"|"&$G18&"|"&$E18&"|"&$AV$9,'Flat File'!$T$2:$T$20001,0),""))
