Workbook

Sheet Quote
C1: Electricity Multisite Quote Tool
C2: Dyce Energy | Standard and Advanced Saver pricing
A4: Contract Type | B4: Acquisition | F4: Price File Date | G4: =Reference!L4 -> 46315 | I4: Contract Start Window | J4: =TEXT(Reference!L5,"dd/mm/yyyy")&" to "&TEXT(Reference!L6,"dd/mm/yyyy") -> 21/09/2026 to 31/08/2027
C6: Select Acquisition or Renewal above. Enter meter details in the white columns (MPAN, Start Date, EAC, Area, Rate Structure, commissions). Standard and Advanced Saver prices pull through for the three terms chosen in row 9.
C7: * Any meters incorrectly quoted and sold on the wrong Rate Structure will be rejected and asked to be repriced. Prices shown include the commission entered.
A8: Customer Details | M8: Standard Prices | AH8: Advanced Saver Prices
M9: 12 Months | T9: 24 Months | AA9: 36 Months | AH9: =M9 -> 12 Months | AO9: =T9 -> 24 Months | AV9: =AA9 -> 36 Months
A10: MPAN | B10: Start Date | C10: EAC (kWh) | D10: EAC Band | E10: EAC Band Ref | F10: Area | G10: Rate Structure | H10: Profile Class | I10: S/C Commission (p/Day) | J10: Unit Commission (p/kWh) | K10: Status | M10: Standing Charge (p/Day) | N10: Single Rate (p/kWh) | O10: Day Rate (p/kWh) | P10: Night Rate (p/kWh) | Q10: Evening/Weekend Rate (p/kWh) | R10: Tariff ID | T10: Standing Charge (p/Day) | U10: Single Rate (p/kWh) | V10: Day Rate (p/kWh) | W10: Night Rate (p/kWh) | X10: Evening/Weekend Rate (p/kWh) | Y10: Tariff ID | AA10: Standing Charge (p/Day) | AB10: Single Rate (p/kWh) | AC10: Day Rate (p/kWh) | AD10: Night Rate (p/kWh) | AE10: Evening/Weekend Rate (p/kWh) | AF10: Tariff ID | AH10: Standing Charge (p/Day) | AI10: Single Rate (p/kWh) | AJ10: Day Rate (p/kWh) | AK10: Night Rate (p/kWh) | AL10: Evening/Weekend Rate (p/kWh) | AM10: Tariff ID | AO10: Standing Charge (p/Day) | AP10: Single Rate (p/kWh) | AQ10: Day Rate (p/kWh) | AR10: Night Rate (p/kWh) | AS10: Evening/Weekend Rate (p/kWh) | AT10: Tariff ID | AV10: Standing Charge (p/Day) | AW10: Single Rate (p/kWh) | AX10: Day Rate (p/kWh) | AY10: Night Rate (p/kWh) | AZ10: Evening/Weekend Rate (p/kWh) | BA10: Tariff ID | BC10: Row Standard M | BD10: Row Standard T | BE10: Row Standard AA | BF10: Row Advanced Saver AH | BG10: Row Advanced Saver AO | BH10: Row Advanced Saver AV
D11: =IF($C11="","",IF(OR($C11<Reference!$C$4,$C11>Reference!$D$14),"Please Check EAC",INDEX(Reference!$B$4:$B$14,MATCH($C11,Reference!$C$4:$C$14,1)))) | E11: =IF(OR($C11="",$D11="Please Check EAC"),"",INDEX(Reference!$C$4:$C$14,MATCH($C11,Reference!$C$4:$C$14,1))) | H11: =IF($G11="","",IF($G11="Standard",3,4)) | K11: =IF(AND($A11="",$C11="",$F11="",$G11=""),"",IF($C11="","Enter EAC",IF($D11="Please Check EAC","EAC outside 1,000-300,000",IF($F11="","Select Area",IF($G11="","Select Rate Structure",IF($B11="","Enter Start Date",IF(OR($B11<Reference!$L$5,$B11>Reference!$L$6),"Start date outside window",IF(COUNT($BC11:$BH11)<6,"Check: price missing","OK")))))))) | M11: =IF($BC11="","",IF(INDEX('Flat File'!$O$2:$O$20001,$BC11)="","",INDEX('Flat File'!$O$2:$O$20001,$BC11)+N($I11))) | N11: =IF($BC11="","",IF(INDEX('Flat File'!$K$2:$K$20001,$BC11)="","",INDEX('Flat File'!$K$2:$K$20001,$BC11)+N($J11))) | O11: =IF($BC11="","",IF(INDEX('Flat File'!$L$2:$L$20001,$BC11)="","",INDEX('Flat File'!$L$2:$L$20001,$BC11)+N($J11))) | P11: =IF($BC11="","",IF(INDEX('Flat File'!$M$2:$M$20001,$BC11)="","",INDEX('Flat File'!$M$2:$M$20001,$BC11)+N($J11))) | Q11: =IF($BC11="","",IF(INDEX('Flat File'!$N$2:$N$20001,$BC11)="","",INDEX('Flat File'!$N$2:$N$20001,$BC11)+N($J11))) | R11: =IF($BC11="","",MID("JanFebMarAprMayJunJulAugSepOctNovDec",MONTH($B11)*3-2,3)&RIGHT(YEAR($B11),2)&MID(INDEX('Flat File'!$B$2:$B$20001,$BC11),6,200)) | T11: =IF($BD11="","",IF(INDEX('Flat File'!$O$2:$O$20001,$BD11)="","",INDEX('Flat File'!$O$2:$O$20001,$BD11)+N($I11))) | U11: =IF($BD11="","",IF(INDEX('Flat File'!$K$2:$K$20001,$BD11)="","",INDEX('Flat File'!$K$2:$K$20001,$BD11)+N($J11))) | V11: =IF($BD11="","",IF(INDEX('Flat File'!$L$2:$L$20001,$BD11)="","",INDEX('Flat File'!$L$2:$L$20001,$BD11)+N($J11))) | W11: =IF($BD11="","",IF(INDEX('Flat File'!$M$2:$M$20001,$BD11)="","",INDEX('Flat File'!$M$2:$M$20001,$BD11)+N($J11))) | X11: =IF($BD11="","",IF(INDEX('Flat File'!$N$2:$N$20001,$BD11)="","",INDEX('Flat File'!$N$2:$N$20001,$BD11)+N($J11))) | Y11: =IF($BD11="","",MID("JanFebMarAprMayJunJulAugSepOctNovDec",MONTH($B11)*3-2,3)&RIGHT(YEAR($B11),2)&MID(INDEX('Flat File'!$B$2:$B$20001,$BD11),6,200)) | AA11: =IF($BE11="","",IF(INDEX('Flat File'!$O$2:$O$20001,$BE11)="","",INDEX('Flat File'!$O$2:$O$20001,$BE11)+N($I11))) | AB11: =IF($BE11="","",IF(INDEX('Flat File'!$K$2:$K$20001,$BE11)="","",INDEX('Flat File'!$K$2:$K$20001,$BE11)+N($J11))) | AC11: =IF($BE11="","",IF(INDEX('Flat File'!$L$2:$L$20001,$BE11)="","",INDEX('Flat File'!$L$2:$L$20001,$BE11)+N($J11))) | AD11: =IF($BE11="","",IF(INDEX('Flat File'!$M$2:$M$20001,$BE11)="","",INDEX('Flat File'!$M$2:$M$20001,$BE11)+N($J11))) | AE11: =IF($BE11="","",IF(INDEX('Flat File'!$N$2:$N$20001,$BE11)="","",INDEX('Flat File'!$N$2:$N$20001,$BE11)+N($J11))) | AF11: =IF($BE11="","",MID("JanFebMarAprMayJunJulAugSepOctNovDec",MONTH($B11)*3-2,3)&RIGHT(YEAR($B11),2)&MID(INDEX('Flat File'!$B$2:$B$20001,$BE11),6,200)) | AH11: =IF($BF11="","",IF(INDEX('Flat File'!$O$2:$O$20001,$BF11)="","",INDEX('Flat File'!$O$2:$O$20001,$BF11)+N($I11))) | AI11: =IF($BF11="","",IF(INDEX('Flat File'!$K$2:$K$20001,$BF11)="","",INDEX('Flat File'!$K$2:$K$20001,$BF11)+N($J11))) | AJ11: =IF($BF11="","",IF(INDEX('Flat File'!$L$2:$L$20001,$BF11)="","",INDEX('Flat File'!$L$2:$L$20001,$BF11)+N($J11))) | AK11: =IF($BF11="","",IF(INDEX('Flat File'!$M$2:$M$20001,$BF11)="","",INDEX('Flat File'!$M$2:$M$20001,$BF11)+N($J11))) | AL11: =IF($BF11="","",IF(INDEX('Flat File'!$N$2:$N$20001,$BF11)="","",INDEX('Flat File'!$N$2:$N$20001,$BF11)+N($J11))) | AM11: =IF($BF11="","",MID("JanFebMarAprMayJunJulAugSepOctNovDec",MONTH($B11)*3-2,3)&RIGHT(YEAR($B11),2)&MID(INDEX('Flat File'!$B$2:$B$20001,$BF11),6,200)) | AO11: =IF($BG11="","",IF(INDEX('Flat File'!$O$2:$O$20001,$BG11)="","",INDEX('Flat File'!$O$2:$O$20001,$BG11)+N($I11))) | AP11: =IF($BG11="","",IF(INDEX('Flat File'!$K$2:$K$20001,$BG11)="","",INDEX('Flat File'!$K$2:$K$20001,$BG11)+N($J11))) | AQ11: =IF($BG11="","",IF(INDEX('Flat File'!$L$2:$L$20001,$BG11)="","",INDEX('Flat File'!$L$2:$L$20001,$BG11)+N($J11))) | AR11: =IF($BG11="","",IF(INDEX('Flat File'!$M$2:$M$20001,$BG11)="","",INDEX('Flat File'!$M$2:$M$20001,$BG11)+N($J11))) | AS11: =IF($BG11="","",IF(INDEX('Flat File'!$N$2:$N$20001,$BG11)="","",INDEX('Flat File'!$N$2:$N$20001,$BG11)+N($J11))) | AT11: =IF($BG11="","",MID("JanFebMarAprMayJunJulAugSepOctNovDec",MONTH($B11)*3-2,3)&RIGHT(YEAR($B11),2)&MID(INDEX('Flat File'!$B$2:$B$20001,$BG11),6,200)) | AV11: =IF($BH11="","",IF(INDEX('Flat File'!$O$2:$O$20001,$BH11)="","",INDEX('Flat File'!$O$2:$O$20001,$BH11)+N($I11))) | AW11: =IF($BH11="","",IF(INDEX('Flat File'!$K$2:$K$20001,$BH11)="","",INDEX('Flat File'!$K$2:$K$20001,$BH11)+N($J11))) | AX11: =IF($BH11="","",IF(INDEX('Flat File'!$L$2:$L$20001,$BH11)="","",INDEX('Flat File'!$L$2:$L$20001,$BH11)+N($J11))) | AY11: =IF($BH11="","",IF(INDEX('Flat File'!$M$2:$M$20001,$BH11)="","",INDEX('Flat File'!$M$2:$M$20001,$BH11)+N($J11))) | AZ11: =IF($BH11="","",IF(INDEX('Flat File'!$N$2:$N$20001,$BH11)="","",INDEX('Flat File'!$N$2:$N$20001,$BH11)+N($J11))) | BA11: =IF($BH11="","",MID("JanFebMarAprMayJunJulAugSepOctNovDec",MONTH($B11)*3-2,3)&RIGHT(YEAR($B11),2)&MID(INDEX('Flat File'!$B$2:$B$20001,$BH11),6,200)) | BC11: =IF(OR($C11="",$E11="",$F11="",$G11="",$B11="",$B11<Reference!$L$5,$B11>Reference!$L$6),"",IFERROR(MATCH($B$4&"|Standard|"&$F11&"|"&$G11&"|"&$E11&"|"&$M$9,'Flat File'!$T$2:$T$20001,0),"")) | BD11: =IF(OR($C11="",$E11="",$F11="",$G11="",$B11="",$B11<Reference!$L$5,$B11>Reference!$L$6),"",IFERROR(MATCH($B$4&"|Standard|"&$F11&"|"&$G11&"|"&$E11&"|"&$T$9,'Flat File'!$T$2:$T$20001,0),"")) | BE11: =IF(OR($C11="",$E11="",$F11="",$G11="",$B11="",$B11<Reference!$L$5,$B11>Reference!$L$6),"",IFERROR(MATCH($B$4&"|Standard|"&$F11&"|"&$G11&"|"&$E11&"|"&$AA$9,'Flat File'!$T$2:$T$20001,0),"")) | BF11: =IF(OR($C11="",$E11="",$F11="",$G11="",$B11="",$B11<Reference!$L$5,$B11>Reference!$L$6),"",IFERROR(MATCH($B$4&"|Advanced Saver|"&$F11&"|"&$G11&"|"&$E11&"|"&$AH$9,'Flat File'!$T$2:$T$20001,0),"")) | BG11: =IF(OR($C11="",$E11="",$F11="",$G11="",$B11="",$B11<Reference!$L$5,$B11>Reference!$L$6),"",IFERROR(MATCH($B$4&"|Advanced Saver|"&$F11&"|"&$G11&"|"&$E11&"|"&$AO$9,'Flat File'!$T$2:$T$20001,0),"")) | BH11: =IF(OR($C11="",$E11="",$F11="",$G11="",$B11="",$B11<Reference!$L$5,$B11>Reference!$L$6),"",IFERROR(MATCH($B$4&"|Advanced Saver|"&$F11&"|"&$G11&"|"&$E11&"|"&$AV$9,'Flat File'!$T$2:$T$20001,0),""))
D12: =IF($C12="","",IF(OR($C12<Reference!$C$4,$C12>Reference!$D$14),"Please Check EAC",INDEX(Reference!$B$4:$B$14,MATCH($C12,Reference!$C$4:$C$14,1)))) | E12: =IF(OR($C12="",$D12="Please Check EAC"),"",INDEX(Reference!$C$4:$C$14,MATCH($C12,Reference!$C$4:$C$14,1))) | H12: =IF($G12="","",IF($G12="Standard",3,4)) | K12: =IF(AND($A12="",$C12="",$F12="",$G12=""),"",IF($C12="","Enter EAC",IF($D12="Please Check EAC","EAC outside 1,000-300,000",IF($F12="","Select Area",IF($G12="","Select Rate Structure",IF($B12="","Enter Start Date",IF(OR($B12<Reference!$L$5,$B12>Reference!$L$6),"Start date outside window",IF(COUNT($BC12:$BH12)<6,"Check: price missing","OK")))))))) | M12: =IF($BC12="","",IF(INDEX('Flat File'!$O$2:$O$20001,$BC12)="","",INDEX('Flat File'!$O$2:$O$20001,$BC12)+N($I12))) | N12: =IF($BC12="","",IF(INDEX('Flat File'!$K$2:$K$20001,$BC12)="","",INDEX('Flat File'!$K$2:$K$20001,$BC12)+N($J12))) | O12: =IF($BC12="","",IF(INDEX('Flat File'!$L$2:$L$20001,$BC12)="","",INDEX('Flat File'!$L$2:$L$20001,$BC12)+N($J12))) | P12: =IF($BC12="","",IF(INDEX('Flat File'!$M$2:$M$20001,$BC12)="","",INDEX('Flat File'!$M$2:$M$20001,$BC12)+N($J12))) | Q12: =IF($BC12="","",IF(INDEX('Flat File'!$N$2:$N$20001,$BC12)="","",INDEX('Flat File'!$N$2:$N$20001,$BC12)+N($J12))) | R12: =IF($BC12="","",MID("JanFebMarAprMayJunJulAugSepOctNovDec",MONTH($B12)*3-2,3)&RIGHT(YEAR($B12),2)&MID(INDEX('Flat File'!$B$2:$B$20001,$BC12),6,200)) | T12: =IF($BD12="","",IF(INDEX('Flat File'!$O$2:$O$20001,$BD12)="","",INDEX('Flat File'!$O$2:$O$20001,$BD12)+N($I12))) | U12: =IF($BD12="","",IF(INDEX('Flat File'!$K$2:$K$20001,$BD12)="","",INDEX('Flat File'!$K$2:$K$20001,$BD12)+N($J12))) | V12: =IF($BD12="","",IF(INDEX('Flat File'!$L$2:$L$20001,$BD12)="","",INDEX('Flat File'!$L$2:$L$20001,$BD12)+N($J12))) | W12: =IF($BD12="","",IF(INDEX('Flat File'!$M$2:$M$20001,$BD12)="","",INDEX('Flat File'!$M$2:$M$20001,$BD12)+N($J12))) | X12: =IF($BD12="","",IF(INDEX('Flat File'!$N$2:$N$20001,$BD12)="","",INDEX('Flat File'!$N$2:$N$20001,$BD12)+N($J12))) | Y12: =IF($BD12="","",MID("JanFebMarAprMayJunJulAugSepOctNovDec",MONTH($B12)*3-2,3)&RIGHT(YEAR($B12),2)&MID(INDEX('Flat File'!$B$2:$B$20001,$BD12),6,200)) | AA12: =IF($BE12="","",IF(INDEX('Flat File'!$O$2:$O$20001,$BE12)="","",INDEX('Flat File'!$O$2:$O$20001,$BE12)+N($I12))) | AB12: =IF($BE12="","",IF(INDEX('Flat File'!$K$2:$K$20001,$BE12)="","",INDEX('Flat File'!$K$2:$K$20001,$BE12)+N($J12))) | AC12: =IF($BE12="","",IF(INDEX('Flat File'!$L$2:$L$20001,$BE12)="","",INDEX('Flat File'!$L$2:$L$20001,$BE12)+N($J12))) | AD12: =IF($BE12="","",IF(INDEX('Flat File'!$M$2:$M$20001,$BE12)="","",INDEX('Flat File'!$M$2:$M$20001,$BE12)+N($J12))) | AE12: =IF($BE12="","",IF(INDEX('Flat File'!$N$2:$N$20001,$BE12)="","",INDEX('Flat File'!$N$2:$N$20001,$BE12)+N($J12))) | AF12: =IF($BE12="","",MID("JanFebMarAprMayJunJulAugSepOctNovDec",MONTH($B12)*3-2,3)&RIGHT(YEAR($B12),2)&MID(INDEX('Flat File'!$B$2:$B$20001,$BE12),6,200)) | AH12: =IF($BF12="","",IF(INDEX('Flat File'!$O$2:$O$20001,$BF12)="","",INDEX('Flat File'!$O$2:$O$20001,$BF12)+N($I12))) | AI12: =IF($BF12="","",IF(INDEX('Flat File'!$K$2:$K$20001,$BF12)="","",INDEX('Flat File'!$K$2:$K$20001,$BF12)+N($J12))) | AJ12: =IF($BF12="","",IF(INDEX('Flat File'!$L$2:$L$20001,$BF12)="","",INDEX('Flat File'!$L$2:$L$20001,$BF12)+N($J12))) | AK12: =IF($BF12="","",IF(INDEX('Flat File'!$M$2:$M$20001,$BF12)="","",INDEX('Flat File'!$M$2:$M$20001,$BF12)+N($J12))) | AL12: =IF($BF12="","",IF(INDEX('Flat File'!$N$2:$N$20001,$BF12)="","",INDEX('Flat File'!$N$2:$N$20001,$BF12)+N($J12))) | AM12: =IF($BF12="","",MID("JanFebMarAprMayJunJulAugSepOctNovDec",MONTH($B12)*3-2,3)&RIGHT(YEAR($B12),2)&MID(INDEX('Flat File'!$B$2:$B$20001,$BF12),6,200)) | AO12: =IF($BG12="","",IF(INDEX('Flat File'!$O$2:$O$20001,$BG12)="","",INDEX('Flat File'!$O$2:$O$20001,$BG12)+N($I12))) | AP12: =IF($BG12="","",IF(INDEX('Flat File'!$K$2:$K$20001,$BG12)="","",INDEX('Flat File'!$K$2:$K$20001,$BG12)+N($J12))) | AQ12: =IF($BG12="","",IF(INDEX('Flat File'!$L$2:$L$20001,$BG12)="","",INDEX('Flat File'!$L$2:$L$20001,$BG12)+N($J12))) | AR12: =IF($BG12="","",IF(INDEX('Flat File'!$M$2:$M$20001,$BG12)="","",INDEX('Flat File'!$M$2:$M$20001,$BG12)+N($J12))) | AS12: =IF($BG12="","",IF(INDEX('Flat File'!$N$2:$N$20001,$BG12)="","",INDEX('Flat File'!$N$2:$N$20001,$BG12)+N($J12))) | AT12: =IF($BG12="","",MID("JanFebMarAprMayJunJulAugSepOctNovDec",MONTH($B12)*3-2,3)&RIGHT(YEAR($B12),2)&MID(INDEX('Flat File'!$B$2:$B$20001,$BG12),6,200)) | AV12: =IF($BH12="","",IF(INDEX('Flat File'!$O$2:$O$20001,$BH12)="","",INDEX('Flat File'!$O$2:$O$20001,$BH12)+N($I12))) | AW12: =IF($BH12="","",IF(INDEX('Flat File'!$K$2:$K$20001,$BH12)="","",INDEX('Flat File'!$K$2:$K$20001,$BH12)+N($J12))) | AX12: =IF($BH12="","",IF(INDEX('Flat File'!$L$2:$L$20001,$BH12)="","",INDEX('Flat File'!$L$2:$L$20001,$BH12)+N($J12))) | AY12: =IF($BH12="","",IF(INDEX('Flat File'!$M$2:$M$20001,$BH12)="","",INDEX('Flat File'!$M$2:$M$20001,$BH12)+N($J12))) | AZ12: =IF($BH12="","",IF(INDEX('Flat File'!$N$2:$N$20001,$BH12)="","",INDEX('Flat File'!$N$2:$N$20001,$BH12)+N($J12))) | BA12: =IF($BH12="","",MID("JanFebMarAprMayJunJulAugSepOctNovDec",MONTH($B12)*3-2,3)&RIGHT(YEAR($B12),2)&MID(INDEX('Flat File'!$B$2:$B$20001,$BH12),6,200)) | BC12: =IF(OR($C12="",$E12="",$F12="",$G12="",$B12="",$B12<Reference!$L$5,$B12>Reference!$L$6),"",IFERROR(MATCH($B$4&"|Standard|"&$F12&"|"&$G12&"|"&$E12&"|"&$M$9,'Flat File'!$T$2:$T$20001,0),"")) | BD12: =IF(OR($C12="",$E12="",$F12="",$G12="",$B12="",$B12<Reference!$L$5,$B12>Reference!$L$6),"",IFERROR(MATCH($B$4&"|Standard|"&$F12&"|"&$G12&"|"&$E12&"|"&$T$9,'Flat File'!$T$2:$T$20001,0),"")) | BE12: =IF(OR($C12="",$E12="",$F12="",$G12="",$B12="",$B12<Reference!$L$5,$B12>Reference!$L$6),"",IFERROR(MATCH($B$4&"|Standard|"&$F12&"|"&$G12&"|"&$E12&"|"&$AA$9,'Flat File'!$T$2:$T$20001,0),"")) | BF12: =IF(OR($C12="",$E12="",$F12="",$G12="",$B12="",$B12<Reference!$L$5,$B12>Reference!$L$6),"",IFERROR(MATCH($B$4&"|Advanced Saver|"&$F12&"|"&$G12&"|"&$E12&"|"&$AH$9,'Flat File'!$T$2:$T$20001,0),"")) | BG12: =IF(OR($C12="",$E12="",$F12="",$G12="",$B12="",$B12<Reference!$L$5,$B12>Reference!$L$6),"",IFERROR(MATCH($B$4&"|Advanced Saver|"&$F12&"|"&$G12&"|"&$E12&"|"&$AO$9,'Flat File'!$T$2:$T$20001,0),"")) | BH12: =IF(OR($C12="",$E12="",$F12="",$G12="",$B12="",$B12<Reference!$L$5,$B12>Reference!$L$6),"",IFERROR(MATCH($B$4&"|Advanced Saver|"&$F12&"|"&$G12&"|"&$E12&"|"&$AV$9,'Flat File'!$T$2:$T$20001,0),""))
D13: =IF($C13="","",IF(OR($C13<Reference!$C$4,$C13>Reference!$D$14),"Please Check EAC",INDEX(Reference!$B$4:$B$14,MATCH($C13,Reference!$C$4:$C$14,1)))) | E13: =IF(OR($C13="",$D13="Please Check EAC"),"",INDEX(Reference!$C$4:$C$14,MATCH($C13,Reference!$C$4:$C$14,1))) | H13: =IF($G13="","",IF($G13="Standard",3,4)) | K13: =IF(AND($A13="",$C13="",$F13="",$G13=""),"",IF($C13="","Enter EAC",IF($D13="Please Check EAC","EAC outside 1,000-300,000",IF($F13="","Select Area",IF($G13="","Select Rate Structure",IF($B13="","Enter Start Date",IF(OR($B13<Reference!$L$5,$B13>Reference!$L$6),"Start date outside window",IF(COUNT($BC13:$BH13)<6,"Check: price missing","OK")))))))) | M13: =IF($BC13="","",IF(INDEX('Flat File'!$O$2:$O$20001,$BC13)="","",INDEX('Flat File'!$O$2:$O$20001,$BC13)+N($I13))) | N13: =IF($BC13="","",IF(INDEX('Flat File'!$K$2:$K$20001,$BC13)="","",INDEX('Flat File'!$K$2:$K$20001,$BC13)+N($J13))) | O13: =IF($BC13="","",IF(INDEX('Flat File'!$L$2:$L$20001,$BC13)="","",INDEX('Flat File'!$L$2:$L$20001,$BC13)+N($J13))) | P13: =IF($BC13="","",IF(INDEX('Flat File'!$M$2:$M$20001,$BC13)="","",INDEX('Flat File'!$M$2:$M$20001,$BC13)+N($J13))) | Q13: =IF($BC13="","",IF(INDEX('Flat File'!$N$2:$N$20001,$BC13)="","",INDEX('Flat File'!$N$2:$N$20001,$BC13)+N($J13))) | R13: =IF($BC13="","",MID("JanFebMarAprMayJunJulAugSepOctNovDec",MONTH($B13)*3-2,3)&RIGHT(YEAR($B13),2)&MID(INDEX('Flat File'!$B$2:$B$20001,$BC13),6,200)) | T13: =IF($BD13="","",IF(INDEX('Flat File'!$O$2:$O$20001,$BD13)="","",INDEX('Flat File'!$O$2:$O$20001,$BD13)+N($I13))) | U13: =IF($BD13="","",IF(INDEX('Flat File'!$K$2:$K$20001,$BD13)="","",INDEX('Flat File'!$K$2:$K$20001,$BD13)+N($J13))) | V13: =IF($BD13="","",IF(INDEX('Flat File'!$L$2:$L$20001,$BD13)="","",INDEX('Flat File'!$L$2:$L$20001,$BD13)+N($J13))) | W13: =IF($BD13="","",IF(INDEX('Flat File'!$M$2:$M$20001,$BD13)="","",INDEX('Flat File'!$M$2:$M$20001,$BD13)+N($J13))) | X13: =IF($BD13="","",IF(INDEX('Flat File'!$N$2:$N$20001,$BD13)="","",INDEX('Flat File'!$N$2:$N$20001,$BD13)+N($J13))) | Y13: =IF($BD13="","",MID("JanFebMarAprMayJunJulAugSepOctNovDec",MONTH($B13)*3-2,3)&RIGHT(YEAR($B13),2)&MID(INDEX('Flat File'!$B$2:$B$20001,$BD13),6,200)) | AA13: =IF($BE13="","",IF(INDEX('Flat File'!$O$2:$O$20001,$BE13)="","",INDEX('Flat File'!$O$2:$O$20001,$BE13)+N($I13))) | AB13: =IF($BE13="","",IF(INDEX('Flat File'!$K$2:$K$20001,$BE13)="","",INDEX('Flat File'!$K$2:$K$20001,$BE13)+N($J13))) | AC13: =IF($BE13="","",IF(INDEX('Flat File'!$L$2:$L$20001,$BE13)="","",INDEX('Flat File'!$L$2:$L$20001,$BE13)+N($J13))) | AD13: =IF($BE13="","",IF(INDEX('Flat File'!$M$2:$M$20001,$BE13)="","",INDEX('Flat File'!$M$2:$M$20001,$BE13)+N($J13))) | AE13: =IF($BE13="","",IF(INDEX('Flat File'!$N$2:$N$20001,$BE13)="","",INDEX('Flat File'!$N$2:$N$20001,$BE13)+N($J13))) | AF13: =IF($BE13="","",MID("JanFebMarAprMayJunJulAugSepOctNovDec",MONTH($B13)*3-2,3)&RIGHT(YEAR($B13),2)&MID(INDEX('Flat File'!$B$2:$B$20001,$BE13),6,200)) | AH13: =IF($BF13="","",IF(INDEX('Flat File'!$O$2:$O$20001,$BF13)="","",INDEX('Flat File'!$O$2:$O$20001,$BF13)+N($I13))) | AI13: =IF($BF13="","",IF(INDEX('Flat File'!$K$2:$K$20001,$BF13)="","",INDEX('Flat File'!$K$2:$K$20001,$BF13)+N($J13))) | AJ13: =IF($BF13="","",IF(INDEX('Flat File'!$L$2:$L$20001,$BF13)="","",INDEX('Flat File'!$L$2:$L$20001,$BF13)+N($J13))) | AK13: =IF($BF13="","",IF(INDEX('Flat File'!$M$2:$M$20001,$BF13)="","",INDEX('Flat File'!$M$2:$M$20001,$BF13)+N($J13))) | AL13: =IF($BF13="","",IF(INDEX('Flat File'!$N$2:$N$20001,$BF13)="","",INDEX('Flat File'!$N$2:$N$20001,$BF13)+N($J13))) | AM13: =IF($BF13="","",MID("JanFebMarAprMayJunJulAugSepOctNovDec",MONTH($B13)*3-2,3)&RIGHT(YEAR($B13),2)&MID(INDEX('Flat File'!$B$2:$B$20001,$BF13),6,200)) | AO13: =IF($BG13="","",IF(INDEX('Flat File'!$O$2:$O$20001,$BG13)="","",INDEX('Flat File'!$O$2:$O$20001,$BG13)+N($I13))) | AP13: =IF($BG13="","",IF(INDEX('Flat File'!$K$2:$K$20001,$BG13)="","",INDEX('Flat File'!$K$2:$K$20001,$BG13)+N($J13))) | AQ13: =IF($BG13="","",IF(INDEX('Flat File'!$L$2:$L$20001,$BG13)="","",INDEX('Flat File'!$L$2:$L$20001,$BG13)+N($J13))) | AR13: =IF($BG13="","",IF(INDEX('Flat File'!$M$2:$M$20001,$BG13)="","",INDEX('Flat File'!$M$2:$M$20001,$BG13)+N($J13))) | AS13: =IF($BG13="","",IF(INDEX('Flat File'!$N$2:$N$20001,$BG13)="","",INDEX('Flat File'!$N$2:$N$20001,$BG13)+N($J13))) | AT13: =IF($BG13="","",MID("JanFebMarAprMayJunJulAugSepOctNovDec",MONTH($B13)*3-2,3)&RIGHT(YEAR($B13),2)&MID(INDEX('Flat File'!$B$2:$B$20001,$BG13),6,200)) | AV13: =IF($BH13="","",IF(INDEX('Flat File'!$O$2:$O$20001,$BH13)="","",INDEX('Flat File'!$O$2:$O$20001,$BH13)+N($I13))) | AW13: =IF($BH13="","",IF(INDEX('Flat File'!$K$2:$K$20001,$BH13)="","",INDEX('Flat File'!$K$2:$K$20001,$BH13)+N($J13))) | AX13: =IF($BH13="","",IF(INDEX('Flat File'!$L$2:$L$20001,$BH13)="","",INDEX('Flat File'!$L$2:$L$20001,$BH13)+N($J13))) | AY13: =IF($BH13="","",IF(INDEX('Flat File'!$M$2:$M$20001,$BH13)="","",INDEX('Flat File'!$M$2:$M$20001,$BH13)+N($J13))) | AZ13: =IF($BH13="","",IF(INDEX('Flat File'!$N$2:$N$20001,$BH13)="","",INDEX('Flat File'!$N$2:$N$20001,$BH13)+N($J13))) | BA13: =IF($BH13="","",MID("JanFebMarAprMayJunJulAugSepOctNovDec",MONTH($B13)*3-2,3)&RIGHT(YEAR($B13),2)&MID(INDEX('Flat File'!$B$2:$B$20001,$BH13),6,200)) | BC13: =IF(OR($C13="",$E13="",$F13="",$G13="",$B13="",$B13<Reference!$L$5,$B13>Reference!$L$6),"",IFERROR(MATCH($B$4&"|Standard|"&$F13&"|"&$G13&"|"&$E13&"|"&$M$9,'Flat File'!$T$2:$T$20001,0),"")) | BD13: =IF(OR($C13="",$E13="",$F13="",$G13="",$B13="",$B13<Reference!$L$5,$B13>Reference!$L$6),"",IFERROR(MATCH($B$4&"|Standard|"&$F13&"|"&$G13&"|"&$E13&"|"&$T$9,'Flat File'!$T$2:$T$20001,0),"")) | BE13: =IF(OR($C13="",$E13="",$F13="",$G13="",$B13="",$B13<Reference!$L$5,$B13>Reference!$L$6),"",IFERROR(MATCH($B$4&"|Standard|"&$F13&"|"&$G13&"|"&$E13&"|"&$AA$9,'Flat File'!$T$2:$T$20001,0),"")) | BF13: =IF(OR($C13="",$E13="",$F13="",$G13="",$B13="",$B13<Reference!$L$5,$B13>Reference!$L$6),"",IFERROR(MATCH($B$4&"|Advanced Saver|"&$F13&"|"&$G13&"|"&$E13&"|"&$AH$9,'Flat File'!$T$2:$T$20001,0),"")) | BG13: =IF(OR($C13="",$E13="",$F13="",$G13="",$B13="",$B13<Reference!$L$5,$B13>Reference!$L$6),"",IFERROR(MATCH($B$4&"|Advanced Saver|"&$F13&"|"&$G13&"|"&$E13&"|"&$AO$9,'Flat File'!$T$2:$T$20001,0),"")) | BH13: =IF(OR($C13="",$E13="",$F13="",$G13="",$B13="",$B13<Reference!$L$5,$B13>Reference!$L$6),"",IFERROR(MATCH($B$4&"|Advanced Saver|"&$F13&"|"&$G13&"|"&$E13&"|"&$AV$9,'Flat File'!$T$2:$T$20001,0),""))
D14: =IF($C14="","",IF(OR($C14<Reference!$C$4,$C14>Reference!$D$14),"Please Check EAC",INDEX(Reference!$B$4:$B$14,MATCH($C14,Reference!$C$4:$C$14,1)))) | E14: =IF(OR($C14="",$D14="Please Check EAC"),"",INDEX(Reference!$C$4:$C$14,MATCH($C14,Reference!$C$4:$C$14,1))) | H14: =IF($G14="","",IF($G14="Standard",3,4)) | K14: =IF(AND($A14="",$C14="",$F14="",$G14=""),"",IF($C14="","Enter EAC",IF($D14="Please Check EAC","EAC outside 1,000-300,000",IF($F14="","Select Area",IF($G14="","Select Rate Structure",IF($B14="","Enter Start Date",IF(OR($B14<Reference!$L$5,$B14>Reference!$L$6),"Start date outside window",IF(COUNT($BC14:$BH14)<6,"Check: price missing","OK")))))))) | M14: =IF($BC14="","",IF(INDEX('Flat File'!$O$2:$O$20001,$BC14)="","",INDEX('Flat File'!$O$2:$O$20001,$BC14)+N($I14))) | N14: =IF($BC14="","",IF(INDEX('Flat File'!$K$2:$K$20001,$BC14)="","",INDEX('Flat File'!$K$2:$K$20001,$BC14)+N($J14))) | O14: =IF($BC14="","",IF(INDEX('Flat File'!$L$2:$L$20001,$BC14)="","",INDEX('Flat File'!$L$2:$L$20001,$BC14)+N($J14))) | P14: =IF($BC14="","",IF(INDEX('Flat File'!$M$2:$M$20001,$BC14)="","",INDEX('Flat File'!$M$2:$M$20001,$BC14)+N($J14))) | Q14: =IF($BC14="","",IF(INDEX('Flat File'!$N$2:$N$20001,$BC14)="","",INDEX('Flat File'!$N$2:$N$20001,$BC14)+N($J14))) | R14: =IF($BC14="","",MID("JanFebMarAprMayJunJulAugSepOctNovDec",MONTH($B14)*3-2,3)&RIGHT(YEAR($B14),2)&MID(INDEX('Flat File'!$B$2:$B$20001,$BC14),6,200)) | T14: =IF($BD14="","",IF(INDEX('Flat File'!$O$2:$O$20001,$BD14)="","",INDEX('Flat File'!$O$2:$O$20001,$BD14)+N($I14))) | U14: =IF($BD14="","",IF(INDEX('Flat File'!$K$2:$K$20001,$BD14)="","",INDEX('Flat File'!$K$2:$K$20001,$BD14)+N($J14))) | V14: =IF($BD14="","",IF(INDEX('Flat File'!$L$2:$L$20001,$BD14)="","",INDEX('Flat File'!$L$2:$L$20001,$BD14)+N($J14))) | W14: =IF($BD14="","",IF(INDEX('Flat File'!$M$2:$M$20001,$BD14)="","",INDEX('Flat File'!$M$2:$M$20001,$BD14)+N($J14))) | X14: =IF($BD14="","",IF(INDEX('Flat File'!$N$2:$N$20001,$BD14)="","",INDEX('Flat File'!$N$2:$N$20001,$BD14)+N($J14))) | Y14: =IF($BD14="","",MID("JanFebMarAprMayJunJulAugSepOctNovDec",MONTH($B14)*3-2,3)&RIGHT(YEAR($B14),2)&MID(INDEX('Flat File'!$B$2:$B$20001,$BD14),6,200)) | AA14: =IF($BE14="","",IF(INDEX('Flat File'!$O$2:$O$20001,$BE14)="","",INDEX('Flat File'!$O$2:$O$20001,$BE14)+N($I14))) | AB14: =IF($BE14="","",IF(INDEX('Flat File'!$K$2:$K$20001,$BE14)="","",INDEX('Flat File'!$K$2:$K$20001,$BE14)+N($J14))) | AC14: =IF($BE14="","",IF(INDEX('Flat File'!$L$2:$L$20001,$BE14)="","",INDEX('Flat File'!$L$2:$L$20001,$BE14)+N($J14))) | AD14: =IF($BE14="","",IF(INDEX('Flat File'!$M$2:$M$20001,$BE14)="","",INDEX('Flat File'!$M$2:$M$20001,$BE14)+N($J14))) | AE14: =IF($BE14="","",IF(INDEX('Flat File'!$N$2:$N$20001,$BE14)="","",INDEX('Flat File'!$N$2:$N$20001,$BE14)+N($J14))) | AF14: =IF($BE14="","",MID("JanFebMarAprMayJunJulAugSepOctNovDec",MONTH($B14)*3-2,3)&RIGHT(YEAR($B14),2)&MID(INDEX('Flat File'!$B$2:$B$20001,$BE14),6,200)) | AH14: =IF($BF14="","",IF(INDEX('Flat File'!$O$2:$O$20001,$BF14)="","",INDEX('Flat File'!$O$2:$O$20001,$BF14)+N($I14))) | AI14: =IF($BF14="","",IF(INDEX('Flat File'!$K$2:$K$20001,$BF14)="","",INDEX('Flat File'!$K$2:$K$20001,$BF14)+N($J14))) | AJ14: =IF($BF14="","",IF(INDEX('Flat File'!$L$2:$L$20001,$BF14)="","",INDEX('Flat File'!$L$2:$L$20001,$BF14)+N($J14))) | AK14: =IF($BF14="","",IF(INDEX('Flat File'!$M$2:$M$20001,$BF14)="","",INDEX('Flat File'!$M$2:$M$20001,$BF14)+N($J14))) | AL14: =IF($BF14="","",IF(INDEX('Flat File'!$N$2:$N$20001,$BF14)="","",INDEX('Flat File'!$N$2:$N$20001,$BF14)+N($J14))) | AM14: =IF($BF14="","",MID("JanFebMarAprMayJunJulAugSepOctNovDec",MONTH($B14)*3-2,3)&RIGHT(YEAR($B14),2)&MID(INDEX('Flat File'!$B$2:$B$20001,$BF14),6,200)) | AO14: =IF($BG14="","",IF(INDEX('Flat File'!$O$2:$O$20001,$BG14)="","",INDEX('Flat File'!$O$2:$O$20001,$BG14)+N($I14))) | AP14: =IF($BG14="","",IF(INDEX('Flat File'!$K$2:$K$20001,$BG14)="","",INDEX('Flat File'!$K$2:$K$20001,$BG14)+N($J14))) | AQ14: =IF($BG14="","",IF(INDEX('Flat File'!$L$2:$L$20001,$BG14)="","",INDEX('Flat File'!$L$2:$L$20001,$BG14)+N($J14))) | AR14: =IF($BG14="","",IF(INDEX('Flat File'!$M$2:$M$20001,$BG14)="","",INDEX('Flat File'!$M$2:$M$20001,$BG14)+N($J14))) | AS14: =IF($BG14="","",IF(INDEX('Flat File'!$N$2:$N$20001,$BG14)="","",INDEX('Flat File'!$N$2:$N$20001,$BG14)+N($J14))) | AT14: =IF($BG14="","",MID("JanFebMarAprMayJunJulAugSepOctNovDec",MONTH($B14)*3-2,3)&RIGHT(YEAR($B14),2)&MID(INDEX('Flat File'!$B$2:$B$20001,$BG14),6,200)) | AV14: =IF($BH14="","",IF(INDEX('Flat File'!$O$2:$O$20001,$BH14)="","",INDEX('Flat File'!$O$2:$O$20001,$BH14)+N($I14))) | AW14: =IF($BH14="","",IF(INDEX('Flat File'!$K$2:$K$20001,$BH14)="","",INDEX('Flat File'!$K$2:$K$20001,$BH14)+N($J14))) | AX14: =IF($BH14="","",IF(INDEX('Flat File'!$L$2:$L$20001,$BH14)="","",INDEX('Flat File'!$L$2:$L$20001,$BH14)+N($J14))) | AY14: =IF($BH14="","",IF(INDEX('Flat File'!$M$2:$M$20001,$BH14)="","",INDEX('Flat File'!$M$2:$M$20001,$BH14)+N($J14))) | AZ14: =IF($BH14="","",IF(INDEX('Flat File'!$N$2:$N$20001,$BH14)="","",INDEX('Flat File'!$N$2:$N$20001,$BH14)+N($J14))) | BA14: =IF($BH14="","",MID("JanFebMarAprMayJunJulAugSepOctNovDec",MONTH($B14)*3-2,3)&RIGHT(YEAR($B14),2)&MID(INDEX('Flat File'!$B$2:$B$20001,$BH14),6,200)) | BC14: =IF(OR($C14="",$E14="",$F14="",$G14="",$B14="",$B14<Reference!$L$5,$B14>Reference!$L$6),"",IFERROR(MATCH($B$4&"|Standard|"&$F14&"|"&$G14&"|"&$E14&"|"&$M$9,'Flat File'!$T$2:$T$20001,0),"")) | BD14: =IF(OR($C14="",$E14="",$F14="",$G14="",$B14="",$B14<Reference!$L$5,$B14>Reference!$L$6),"",IFERROR(MATCH($B$4&"|Standard|"&$F14&"|"&$G14&"|"&$E14&"|"&$T$9,'Flat File'!$T$2:$T$20001,0),"")) | BE14: =IF(OR($C14="",$E14="",$F14="",$G14="",$B14="",$B14<Reference!$L$5,$B14>Reference!$L$6),"",IFERROR(MATCH($B$4&"|Standard|"&$F14&"|"&$G14&"|"&$E14&"|"&$AA$9,'Flat File'!$T$2:$T$20001,0),"")) | BF14: =IF(OR($C14="",$E14="",$F14="",$G14="",$B14="",$B14<Reference!$L$5,$B14>Reference!$L$6),"",IFERROR(MATCH($B$4&"|Advanced Saver|"&$F14&"|"&$G14&"|"&$E14&"|"&$AH$9,'Flat File'!$T$2:$T$20001,0),"")) | BG14: =IF(OR($C14="",$E14="",$F14="",$G14="",$B14="",$B14<Reference!$L$5,$B14>Reference!$L$6),"",IFERROR(MATCH($B$4&"|Advanced Saver|"&$F14&"|"&$G14&"|"&$E14&"|"&$AO$9,'Flat File'!$T$2:$T$20001,0),"")) | BH14: =IF(OR($C14="",$E14="",$F14="",$G14="",$B14="",$B14<Reference!$L$5,$B14>Reference!$L$6),"",IFERROR(MATCH($B$4&"|Advanced Saver|"&$F14&"|"&$G14&"|"&$E14&"|"&$AV$9,'Flat File'!$T$2:$T$20001,0),""))
D15: =IF($C15="","",IF(OR($C15<Reference!$C$4,$C15>Reference!$D$14),"Please Check EAC",INDEX(Reference!$B$4:$B$14,MATCH($C15,Reference!$C$4:$C$14,1)))) | E15: =IF(OR($C15="",$D15="Please Check EAC"),"",INDEX(Reference!$C$4:$C$14,MATCH($C15,Reference!$C$4:$C$14,1))) | H15: =IF($G15="","",IF($G15="Standard",3,4)) | K15: =IF(AND($A15="",$C15="",$F15="",$G15=""),"",IF($C15="","Enter EAC",IF($D15="Please Check EAC","EAC outside 1,000-300,000",IF($F15="","Select Area",IF($G15="","Select Rate Structure",IF($B15="","Enter Start Date",IF(OR($B15<Reference!$L$5,$B15>Reference!$L$6),"Start date outside window",IF(COUNT($BC15:$BH15)<6,"Check: price missing","OK")))))))) | M15: =IF($BC15="","",IF(INDEX('Flat File'!$O$2:$O$20001,$BC15)="","",INDEX('Flat File'!$O$2:$O$20001,$BC15)+N($I15))) | N15: =IF($BC15="","",IF(INDEX('Flat File'!$K$2:$K$20001,$BC15)="","",INDEX('Flat File'!$K$2:$K$20001,$BC15)+N($J15))) | O15: =IF($BC15="","",IF(INDEX('Flat File'!$L$2:$L$20001,$BC15)="","",INDEX('Flat File'!$L$2:$L$20001,$BC15)+N($J15))) | P15: =IF($BC15="","",IF(INDEX('Flat File'!$M$2:$M$20001,$BC15)="","",INDEX('Flat File'!$M$2:$M$20001,$BC15)+N($J15))) | Q15: =IF($BC15="","",IF(INDEX('Flat File'!$N$2:$N$20001,$BC15)="","",INDEX('Flat File'!$N$2:$N$20001,$BC15)+N($J15))) | R15: =IF($BC15="","",MID("JanFebMarAprMayJunJulAugSepOctNovDec",MONTH($B15)*3-2,3)&RIGHT(YEAR($B15),2)&MID(INDEX('Flat File'!$B$2:$B$20001,$BC15),6,200)) | T15: =IF($BD15="","",IF(INDEX('Flat File'!$O$2:$O$20001,$BD15)="","",INDEX('Flat File'!$O$2:$O$20001,$BD15)+N($I15))) | U15: =IF($BD15="","",IF(INDEX('Flat File'!$K$2:$K$20001,$BD15)="","",INDEX('Flat File'!$K$2:$K$20001,$BD15)+N($J15))) | V15: =IF($BD15="","",IF(INDEX('Flat File'!$L$2:$L$20001,$BD15)="","",INDEX('Flat File'!$L$2:$L$20001,$BD15)+N($J15))) | W15: =IF($BD15="","",IF(INDEX('Flat File'!$M$2:$M$20001,$BD15)="","",INDEX('Flat File'!$M$2:$M$20001,$BD15)+N($J15))) | X15: =IF($BD15="","",IF(INDEX('Flat File'!$N$2:$N$20001,$BD15)="","",INDEX('Flat File'!$N$2:$N$20001,$BD15)+N($J15))) | Y15: =IF($BD15="","",MID("JanFebMarAprMayJunJulAugSepOctNovDec",MONTH($B15)*3-2,3)&RIGHT(YEAR($B15),2)&MID(INDEX('Flat File'!$B$2:$B$20001,$BD15),6,200)) | AA15: =IF($BE15="","",IF(INDEX('Flat File'!$O$2:$O$20001,$BE15)="","",INDEX('Flat File'!$O$2:$O$20001,$BE15)+N($I15))) | AB15: =IF($BE15="","",IF(INDEX('Flat File'!$K$2:$K$20001,$BE15)="","",INDEX('Flat File'!$K$2:$K$20001,$BE15)+N($J15))) | AC15: =IF($BE15="","",IF(INDEX('Flat File'!$L$2:$L$20001,$BE15)="","",INDEX('Flat File'!$L$2:$L$20001,$BE15)+N($J15))) | AD15: =IF($BE15="","",IF(INDEX('Flat File'!$M$2:$M$20001,$BE15)="","",INDEX('Flat File'!$M$2:$M$20001,$BE15)+N($J15))) | AE15: =IF($BE15="","",IF(INDEX('Flat File'!$N$2:$N$20001,$BE15)="","",INDEX('Flat File'!$N$2:$N$20001,$BE15)+N($J15))) | AF15: =IF($BE15="","",MID("JanFebMarAprMayJunJulAugSepOctNovDec",MONTH($B15)*3-2,3)&RIGHT(YEAR($B15),2)&MID(INDEX('Flat File'!$B$2:$B$20001,$BE15),6,200)) | AH15: =IF($BF15="","",IF(INDEX('Flat File'!$O$2:$O$20001,$BF15)="","",INDEX('Flat File'!$O$2:$O$20001,$BF15)+N($I15))) | AI15: =IF($BF15="","",IF(INDEX('Flat File'!$K$2:$K$20001,$BF15)="","",INDEX('Flat File'!$K$2:$K$20001,$BF15)+N($J15))) | AJ15: =IF($BF15="","",IF(INDEX('Flat File'!$L$2:$L$20001,$BF15)="","",INDEX('Flat File'!$L$2:$L$20001,$BF15)+N($J15))) | AK15: =IF($BF15="","",IF(INDEX('Flat File'!$M$2:$M$20001,$BF15)="","",INDEX('Flat File'!$M$2:$M$20001,$BF15)+N($J15))) | AL15: =IF($BF15="","",IF(INDEX('Flat File'!$N$2:$N$20001,$BF15)="","",INDEX('Flat File'!$N$2:$N$20001,$BF15)+N($J15))) | AM15: =IF($BF15="","",MID("JanFebMarAprMayJunJulAugSepOctNovDec",MONTH($B15)*3-2,3)&RIGHT(YEAR($B15),2)&MID(INDEX('Flat File'!$B$2:$B$20001,$BF15),6,200)) | AO15: =IF($BG15="","",IF(INDEX('Flat File'!$O$2:$O$20001,$BG15)="","",INDEX('Flat File'!$O$2:$O$20001,$BG15)+N($I15))) | AP15: =IF($BG15="","",IF(INDEX('Flat File'!$K$2:$K$20001,$BG15)="","",INDEX('Flat File'!$K$2:$K$20001,$BG15)+N($J15))) | AQ15: =IF($BG15="","",IF(INDEX('Flat File'!$L$2:$L$20001,$BG15)="","",INDEX('Flat File'!$L$2:$L$20001,$BG15)+N($J15))) | AR15: =IF($BG15="","",IF(INDEX('Flat File'!$M$2:$M$20001,$BG15)="","",INDEX('Flat File'!$M$2:$M$20001,$BG15)+N($J15))) | AS15: =IF($BG15="","",IF(INDEX('Flat File'!$N$2:$N$20001,$BG15)="","",INDEX('Flat File'!$N$2:$N$20001,$BG15)+N($J15))) | AT15: =IF($BG15="","",MID("JanFebMarAprMayJunJulAugSepOctNovDec",MONTH($B15)*3-2,3)&RIGHT(YEAR($B15),2)&MID(INDEX('Flat File'!$B$2:$B$20001,$BG15),6,200)) | AV15: =IF($BH15="","",IF(INDEX('Flat File'!$O$2:$O$20001,$BH15)="","",INDEX('Flat File'!$O$2:$O$20001,$BH15)+N($I15))) | AW15: =IF($BH15="","",IF(INDEX('Flat File'!$K$2:$K$20001,$BH15)="","",INDEX('Flat File'!$K$2:$K$20001,$BH15)+N($J15))) | AX15: =IF($BH15="","",IF(INDEX('Flat File'!$L$2:$L$20001,$BH15)="","",INDEX('Flat File'!$L$2:$L$20001,$BH15)+N($J15))) | AY15: =IF($BH15="","",IF(INDEX('Flat File'!$M$2:$M$20001,$BH15)="","",INDEX('Flat File'!$M$2:$M$20001,$BH15)+N($J15))) | AZ15: =IF($BH15="","",IF(INDEX('Flat File'!$N$2:$N$20001,$BH15)="","",INDEX('Flat File'!$N$2:$N$20001,$BH15)+N($J15))) | BA15: =IF($BH15="","",MID("JanFebMarAprMayJunJulAugSepOctNovDec",MONTH($B15)*3-2,3)&RIGHT(YEAR($B15),2)&MID(INDEX('Flat File'!$B$2:$B$20001,$BH15),6,200)) | BC15: =IF(OR($C15="",$E15="",$F15="",$G15="",$B15="",$B15<Reference!$L$5,$B15>Reference!$L$6),"",IFERROR(MATCH($B$4&"|Standard|"&$F15&"|"&$G15&"|"&$E15&"|"&$M$9,'Flat File'!$T$2:$T$20001,0),"")) | BD15: =IF(OR($C15="",$E15="",$F15="",$G15="",$B15="",$B15<Reference!$L$5,$B15>Reference!$L$6),"",IFERROR(MATCH($B$4&"|Standard|"&$F15&"|"&$G15&"|"&$E15&"|"&$T$9,'Flat File'!$T$2:$T$20001,0),"")) | BE15: =IF(OR($C15="",$E15="",$F15="",$G15="",$B15="",$B15<Reference!$L$5,$B15>Reference!$L$6),"",IFERROR(MATCH($B$4&"|Standard|"&$F15&"|"&$G15&"|"&$E15&"|"&$AA$9,'Flat File'!$T$2:$T$20001,0),"")) | BF15: =IF(OR($C15="",$E15="",$F15="",$G15="",$B15="",$B15<Reference!$L$5,$B15>Reference!$L$6),"",IFERROR(MATCH($B$4&"|Advanced Saver|"&$F15&"|"&$G15&"|"&$E15&"|"&$AH$9,'Flat File'!$T$2:$T$20001,0),"")) | BG15: =IF(OR($C15="",$E15="",$F15="",$G15="",$B15="",$B15<Reference!$L$5,$B15>Reference!$L$6),"",IFERROR(MATCH($B$4&"|Advanced Saver|"&$F15&"|"&$G15&"|"&$E15&"|"&$AO$9,'Flat File'!$T$2:$T$20001,0),"")) | BH15: =IF(OR($C15="",$E15="",$F15="",$G15="",$B15="",$B15<Reference!$L$5,$B15>Reference!$L$6),"",IFERROR(MATCH($B$4&"|Advanced Saver|"&$F15&"|"&$G15&"|"&$E15&"|"&$AV$9,'Flat File'!$T$2:$T$20001,0),""))
D16: =IF($C16="","",IF(OR($C16<Reference!$C$4,$C16>Reference!$D$14),"Please Check EAC",INDEX(Reference!$B$4:$B$14,MATCH($C16,Reference!$C$4:$C$14,1)))) | E16: =IF(OR($C16="",$D16="Please Check EAC"),"",INDEX(Reference!$C$4:$C$14,MATCH($C16,Reference!$C$4:$C$14,1))) | H16: =IF($G16="","",IF($G16="Standard",3,4)) | K16: =IF(AND($A16="",$C16="",$F16="",$G16=""),"",IF($C16="","Enter EAC",IF($D16="Please Check EAC","EAC outside 1,000-300,000",IF($F16="","Select Area",IF($G16="","Select Rate Structure",IF($B16="","Enter Start Date",IF(OR($B16<Reference!$L$5,$B16>Reference!$L$6),"Start date outside window",IF(COUNT($BC16:$BH16)<6,"Check: price missing","OK")))))))) | M16: =IF($BC16="","",IF(INDEX('Flat File'!$O$2:$O$20001,$BC16)="","",INDEX('Flat File'!$O$2:$O$20001,$BC16)+N($I16))) | N16: =IF($BC16="","",IF(INDEX('Flat File'!$K$2:$K$20001,$BC16)="","",INDEX('Flat File'!$K$2:$K$20001,$BC16)+N($J16))) | O16: =IF($BC16="","",IF(INDEX('Flat File'!$L$2:$L$20001,$BC16)="","",INDEX('Flat File'!$L$2:$L$20001,$BC16)+N($J16))) | P16: =IF($BC16="","",IF(INDEX('Flat File'!$M$2:$M$20001,$BC16)="","",INDEX('Flat File'!$M$2:$M$20001,$BC16)+N($J16))) | Q16: =IF($BC16="","",IF(INDEX('Flat File'!$N$2:$N$20001,$BC16)="","",INDEX('Flat File'!$N$2:$N$20001,$BC16)+N($J16))) | R16: =IF($BC16="","",MID("JanFebMarAprMayJunJulAugSepOctNovDec",MONTH($B16)*3-2,3)&RIGHT(YEAR($B16),2)&MID(INDEX('Flat File'!$B$2:$B$20001,$BC16),6,200)) | T16: =IF($BD16="","",IF(INDEX('Flat File'!$O$2:$O$20001,$BD16)="","",INDEX('Flat File'!$O$2:$O$20001,$BD16)+N($I16))) | U16: =IF($BD16="","",IF(INDEX('Flat File'!$K$2:$K$20001,$BD16)="","",INDEX('Flat File'!$K$2:$K$20001,$BD16)+N($J16))) | V16: =IF($BD16="","",IF(INDEX('Flat File'!$L$2:$L$20001,$BD16)="","",INDEX('Flat File'!$L$2:$L$20001,$BD16)+N($J16))) | W16: =IF($BD16="","",IF(INDEX('Flat File'!$M$2:$M$20001,$BD16)="","",INDEX('Flat File'!$M$2:$M$20001,$BD16)+N($J16))) | X16: =IF($BD16="","",IF(INDEX('Flat File'!$N$2:$N$20001,$BD16)="","",INDEX('Flat File'!$N$2:$N$20001,$BD16)+N($J16))) | Y16: =IF($BD16="","",MID("JanFebMarAprMayJunJulAugSepOctNovDec",MONTH($B16)*3-2,3)&RIGHT(YEAR($B16),2)&MID(INDEX('Flat File'!$B$2:$B$20001,$BD16),6,200)) | AA16: =IF($BE16="","",IF(INDEX('Flat File'!$O$2:$O$20001,$BE16)="","",INDEX('Flat File'!$O$2:$O$20001,$BE16)+N($I16))) | AB16: =IF($BE16="","",IF(INDEX('Flat File'!$K$2:$K$20001,$BE16)="","",INDEX('Flat File'!$K$2:$K$20001,$BE16)+N($J16))) | AC16: =IF($BE16="","",IF(INDEX('Flat File'!$L$2:$L$20001,$BE16)="","",INDEX('Flat File'!$L$2:$L$20001,$BE16)+N($J16))) | AD16: =IF($BE16="","",IF(INDEX('Flat File'!$M$2:$M$20001,$BE16)="","",INDEX('Flat File'!$M$2:$M$20001,$BE16)+N($J16))) | AE16: =IF($BE16="","",IF(INDEX('Flat File'!$N$2:$N$20001,$BE16)="","",INDEX('Flat File'!$N$2:$N$20001,$BE16)+N($J16))) | AF16: =IF($BE16="","",MID("JanFebMarAprMayJunJulAugSepOctNovDec",MONTH($B16)*3-2,3)&RIGHT(YEAR($B16),2)&MID(INDEX('Flat File'!$B$2:$B$20001,$BE16),6,200)) | AH16: =IF($BF16="","",IF(INDEX('Flat File'!$O$2:$O$20001,$BF16)="","",INDEX('Flat File'!$O$2:$O$20001,$BF16)+N($I16))) | AI16: =IF($BF16="","",IF(INDEX('Flat File'!$K$2:$K$20001,$BF16)="","",INDEX('Flat File'!$K$2:$K$20001,$BF16)+N($J16))) | AJ16: =IF($BF16="","",IF(INDEX('Flat File'!$L$2:$L$20001,$BF16)="","",INDEX('Flat File'!$L$2:$L$20001,$BF16)+N($J16))) | AK16: =IF($BF16="","",IF(INDEX('Flat File'!$M$2:$M$20001,$BF16)="","",INDEX('Flat File'!$M$2:$M$20001,$BF16)+N($J16))) | AL16: =IF($BF16="","",IF(INDEX('Flat File'!$N$2:$N$20001,$BF16)="","",INDEX('Flat File'!$N$2:$N$20001,$BF16)+N($J16))) | AM16: =IF($BF16="","",MID("JanFebMarAprMayJunJulAugSepOctNovDec",MONTH($B16)*3-2,3)&RIGHT(YEAR($B16),2)&MID(INDEX('Flat File'!$B$2:$B$20001,$BF16),6,200)) | AO16: =IF($BG16="","",IF(INDEX('Flat File'!$O$2:$O$20001,$BG16)="","",INDEX('Flat File'!$O$2:$O$20001,$BG16)+N($I16))) | AP16: =IF($BG16="","",IF(INDEX('Flat File'!$K$2:$K$20001,$BG16)="","",INDEX('Flat File'!$K$2:$K$20001,$BG16)+N($J16))) | AQ16: =IF($BG16="","",IF(INDEX('Flat File'!$L$2:$L$20001,$BG16)="","",INDEX('Flat File'!$L$2:$L$20001,$BG16)+N($J16))) | AR16: =IF($BG16="","",IF(INDEX('Flat File'!$M$2:$M$20001,$BG16)="","",INDEX('Flat File'!$M$2:$M$20001,$BG16)+N($J16))) | AS16: =IF($BG16="","",IF(INDEX('Flat File'!$N$2:$N$20001,$BG16)="","",INDEX('Flat File'!$N$2:$N$20001,$BG16)+N($J16))) | AT16: =IF($BG16="","",MID("JanFebMarAprMayJunJulAugSepOctNovDec",MONTH($B16)*3-2,3)&RIGHT(YEAR($B16),2)&MID(INDEX('Flat File'!$B$2:$B$20001,$BG16),6,200)) | AV16: =IF($BH16="","",IF(INDEX('Flat File'!$O$2:$O$20001,$BH16)="","",INDEX('Flat File'!$O$2:$O$20001,$BH16)+N($I16))) | AW16: =IF($BH16="","",IF(INDEX('Flat File'!$K$2:$K$20001,$BH16)="","",INDEX('Flat File'!$K$2:$K$20001,$BH16)+N($J16))) | AX16: =IF($BH16="","",IF(INDEX('Flat File'!$L$2:$L$20001,$BH16)="","",INDEX('Flat File'!$L$2:$L$20001,$BH16)+N($J16))) | AY16: =IF($BH16="","",IF(INDEX('Flat File'!$M$2:$M$20001,$BH16)="","",INDEX('Flat File'!$M$2:$M$20001,$BH16)+N($J16))) | AZ16: =IF($BH16="","",IF(INDEX('Flat File'!$N$2:$N$20001,$BH16)="","",INDEX('Flat File'!$N$2:$N$20001,$BH16)+N($J16))) | BA16: =IF($BH16="","",MID("JanFebMarAprMayJunJulAugSepOctNovDec",MONTH($B16)*3-2,3)&RIGHT(YEAR($B16),2)&MID(INDEX('Flat File'!$B$2:$B$20001,$BH16),6,200)) | BC16: =IF(OR($C16="",$E16="",$F16="",$G16="",$B16="",$B16<Reference!$L$5,$B16>Reference!$L$6),"",IFERROR(MATCH($B$4&"|Standard|"&$F16&"|"&$G16&"|"&$E16&"|"&$M$9,'Flat File'!$T$2:$T$20001,0),"")) | BD16: =IF(OR($C16="",$E16="",$F16="",$G16="",$B16="",$B16<Reference!$L$5,$B16>Reference!$L$6),"",IFERROR(MATCH($B$4&"|Standard|"&$F16&"|"&$G16&"|"&$E16&"|"&$T$9,'Flat File'!$T$2:$T$20001,0),"")) | BE16: =IF(OR($C16="",$E16="",$F16="",$G16="",$B16="",$B16<Reference!$L$5,$B16>Reference!$L$6),"",IFERROR(MATCH($B$4&"|Standard|"&$F16&"|"&$G16&"|"&$E16&"|"&$AA$9,'Flat File'!$T$2:$T$20001,0),"")) | BF16: =IF(OR($C16="",$E16="",$F16="",$G16="",$B16="",$B16<Reference!$L$5,$B16>Reference!$L$6),"",IFERROR(MATCH($B$4&"|Advanced Saver|"&$F16&"|"&$G16&"|"&$E16&"|"&$AH$9,'Flat File'!$T$2:$T$20001,0),"")) | BG16: =IF(OR($C16="",$E16="",$F16="",$G16="",$B16="",$B16<Reference!$L$5,$B16>Reference!$L$6),"",IFERROR(MATCH($B$4&"|Advanced Saver|"&$F16&"|"&$G16&"|"&$E16&"|"&$AO$9,'Flat File'!$T$2:$T$20001,0),"")) | BH16: =IF(OR($C16="",$E16="",$F16="",$G16="",$B16="",$B16<Reference!$L$5,$B16>Reference!$L$6),"",IFERROR(MATCH($B$4&"|Advanced Saver|"&$F16&"|"&$G16&"|"&$E16&"|"&$AV$9,'Flat File'!$T$2:$T$20001,0),""))
D17: =IF($C17="","",IF(OR($C17<Reference!$C$4,$C17>Reference!$D$14),"Please Check EAC",INDEX(Reference!$B$4:$B$14,MATCH($C17,Reference!$C$4:$C$14,1)))) | E17: =IF(OR($C17="",$D17="Please Check EAC"),"",INDEX(Reference!$C$4:$C$14,MATCH($C17,Reference!$C$4:$C$14,1))) | H17: =IF($G17="","",IF($G17="Standard",3,4)) | K17: =IF(AND($A17="",$C17="",$F17="",$G17=""),"",IF($C17="","Enter EAC",IF($D17="Please Check EAC","EAC outside 1,000-300,000",IF($F17="","Select Area",IF($G17="","Select Rate Structure",IF($B17="","Enter Start Date",IF(OR($B17<Reference!$L$5,$B17>Reference!$L$6),"Start date outside window",IF(COUNT($BC17:$BH17)<6,"Check: price missing","OK")))))))) | M17: =IF($BC17="","",IF(INDEX('Flat File'!$O$2:$O$20001,$BC17)="","",INDEX('Flat File'!$O$2:$O$20001,$BC17)+N($I17))) | N17: =IF($BC17="","",IF(INDEX('Flat File'!$K$2:$K$20001,$BC17)="","",INDEX('Flat File'!$K$2:$K$20001,$BC17)+N($J17))) | O17: =IF($BC17="","",IF(INDEX('Flat File'!$L$2:$L$20001,$BC17)="","",INDEX('Flat File'!$L$2:$L$20001,$BC17)+N($J17))) | P17: =IF($BC17="","",IF(INDEX('Flat File'!$M$2:$M$20001,$BC17)="","",INDEX('Flat File'!$M$2:$M$20001,$BC17)+N($J17))) | Q17: =IF($BC17="","",IF(INDEX('Flat File'!$N$2:$N$20001,$BC17)="","",INDEX('Flat File'!$N$2:$N$20001,$BC17)+N($J17))) | R17: =IF($BC17="","",MID("JanFebMarAprMayJunJulAugSepOctNovDec",MONTH($B17)*3-2,3)&RIGHT(YEAR($B17),2)&MID(INDEX('Flat File'!$B$2:$B$20001,$BC17),6,200)) | T17: =IF($BD17="","",IF(INDEX('Flat File'!$O$2:$O$20001,$BD17)="","",INDEX('Flat File'!$O$2:$O$20001,$BD17)+N($I17))) | U17: =IF($BD17="","",IF(INDEX('Flat File'!$K$2:$K$20001,$BD17)="","",INDEX('Flat File'!$K$2:$K$20001,$BD17)+N($J17))) | V17: =IF($BD17="","",IF(INDEX('Flat File'!$L$2:$L$20001,$BD17)="","",INDEX('Flat File'!$L$2:$L$20001,$BD17)+N($J17))) | W17: =IF($BD17="","",IF(INDEX('Flat File'!$M$2:$M$20001,$BD17)="","",INDEX('Flat File'!$M$2:$M$20001,$BD17)+N($J17))) | X17: =IF($BD17="","",IF(INDEX('Flat File'!$N$2:$N$20001,$BD17)="","",INDEX('Flat File'!$N$2:$N$20001,$BD17)+N($J17))) | Y17: =IF($BD17="","",MID("JanFebMarAprMayJunJulAugSepOctNovDec",MONTH($B17)*3-2,3)&RIGHT(YEAR($B17),2)&MID(INDEX('Flat File'!$B$2:$B$20001,$BD17),6,200)) | AA17: =IF($BE17="","",IF(INDEX('Flat File'!$O$2:$O$20001,$BE17)="","",INDEX('Flat File'!$O$2:$O$20001,$BE17)+N($I17))) | AB17: =IF($BE17="","",IF(INDEX('Flat File'!$K$2:$K$20001,$BE17)="","",INDEX('Flat File'!$K$2:$K$20001,$BE17)+N($J17))) | AC17: =IF($BE17="","",IF(INDEX('Flat File'!$L$2:$L$20001,$BE17)="","",INDEX('Flat File'!$L$2:$L$20001,$BE17)+N($J17))) | AD17: =IF($BE17="","",IF(INDEX('Flat File'!$M$2:$M$20001,$BE17)="","",INDEX('Flat File'!$M$2:$M$20001,$BE17)+N($J17))) | AE17: =IF($BE17="","",IF(INDEX('Flat File'!$N$2:$N$20001,$BE17)="","",INDEX('Flat File'!$N$2:$N$20001,$BE17)+N($J17))) | AF17: =IF($BE17="","",MID("JanFebMarAprMayJunJulAugSepOctNovDec",MONTH($B17)*3-2,3)&RIGHT(YEAR($B17),2)&MID(INDEX('Flat File'!$B$2:$B$20001,$BE17),6,200)) | AH17: =IF($BF17="","",IF(INDEX('Flat File'!$O$2:$O$20001,$BF17)="","",INDEX('Flat File'!$O$2:$O$20001,$BF17)+N($I17))) | AI17: =IF($BF17="","",IF(INDEX('Flat File'!$K$2:$K$20001,$BF17)="","",INDEX('Flat File'!$K$2:$K$20001,$BF17)+N($J17))) | AJ17: =IF($BF17="","",IF(INDEX('Flat File'!$L$2:$L$20001,$BF17)="","",INDEX('Flat File'!$L$2:$L$20001,$BF17)+N($J17))) | AK17: =IF($BF17="","",IF(INDEX('Flat File'!$M$2:$M$20001,$BF17)="","",INDEX('Flat File'!$M$2:$M$20001,$BF17)+N($J17))) | AL17: =IF($BF17="","",IF(INDEX('Flat File'!$N$2:$N$20001,$BF17)="","",INDEX('Flat File'!$N$2:$N$20001,$BF17)+N($J17))) | AM17: =IF($BF17="","",MID("JanFebMarAprMayJunJulAugSepOctNovDec",MONTH($B17)*3-2,3)&RIGHT(YEAR($B17),2)&MID(INDEX('Flat File'!$B$2:$B$20001,$BF17),6,200)) | AO17: =IF($BG17="","",IF(INDEX('Flat File'!$O$2:$O$20001,$BG17)="","",INDEX('Flat File'!$O$2:$O$20001,$BG17)+N($I17))) | AP17: =IF($BG17="","",IF(INDEX('Flat File'!$K$2:$K$20001,$BG17)="","",INDEX('Flat File'!$K$2:$K$20001,$BG17)+N($J17))) | AQ17: =IF($BG17="","",IF(INDEX('Flat File'!$L$2:$L$20001,$BG17)="","",INDEX('Flat File'!$L$2:$L$20001,$BG17)+N($J17))) | AR17: =IF($BG17="","",IF(INDEX('Flat File'!$M$2:$M$20001,$BG17)="","",INDEX('Flat File'!$M$2:$M$20001,$BG17)+N($J17))) | AS17: =IF($BG17="","",IF(INDEX('Flat File'!$N$2:$N$20001,$BG17)="","",INDEX('Flat File'!$N$2:$N$20001,$BG17)+N($J17))) | AT17: =IF($BG17="","",MID("JanFebMarAprMayJunJulAugSepOctNovDec",MONTH($B17)*3-2,3)&RIGHT(YEAR($B17),2)&MID(INDEX('Flat File'!$B$2:$B$20001,$BG17),6,200)) | AV17: =IF($BH17="","",IF(INDEX('Flat File'!$O$2:$O$20001,$BH17)="","",INDEX('Flat File'!$O$2:$O$20001,$BH17)+N($I17))) | AW17: =IF($BH17="","",IF(INDEX('Flat File'!$K$2:$K$20001,$BH17)="","",INDEX('Flat File'!$K$2:$K$20001,$BH17)+N($J17))) | AX17: =IF($BH17="","",IF(INDEX('Flat File'!$L$2:$L$20001,$BH17)="","",INDEX('Flat File'!$L$2:$L$20001,$BH17)+N($J17))) | AY17: =IF($BH17="","",IF(INDEX('Flat File'!$M$2:$M$20001,$BH17)="","",INDEX('Flat File'!$M$2:$M$20001,$BH17)+N($J17))) | AZ17: =IF($BH17="","",IF(INDEX('Flat File'!$N$2:$N$20001,$BH17)="","",INDEX('Flat File'!$N$2:$N$20001,$BH17)+N($J17))) | BA17: =IF($BH17="","",MID("JanFebMarAprMayJunJulAugSepOctNovDec",MONTH($B17)*3-2,3)&RIGHT(YEAR($B17),2)&MID(INDEX('Flat File'!$B$2:$B$20001,$BH17),6,200)) | BC17: =IF(OR($C17="",$E17="",$F17="",$G17="",$B17="",$B17<Reference!$L$5,$B17>Reference!$L$6),"",IFERROR(MATCH($B$4&"|Standard|"&$F17&"|"&$G17&"|"&$E17&"|"&$M$9,'Flat File'!$T$2:$T$20001,0),"")) | BD17: =IF(OR($C17="",$E17="",$F17="",$G17="",$B17="",$B17<Reference!$L$5,$B17>Reference!$L$6),"",IFERROR(MATCH($B$4&"|Standard|"&$F17&"|"&$G17&"|"&$E17&"|"&$T$9,'Flat File'!$T$2:$T$20001,0),"")) | BE17: =IF(OR($C17="",$E17="",$F17="",$G17="",$B17="",$B17<Reference!$L$5,$B17>Reference!$L$6),"",IFERROR(MATCH($B$4&"|Standard|"&$F17&"|"&$G17&"|"&$E17&"|"&$AA$9,'Flat File'!$T$2:$T$20001,0),"")) | BF17: =IF(OR($C17="",$E17="",$F17="",$G17="",$B17="",$B17<Reference!$L$5,$B17>Reference!$L$6),"",IFERROR(MATCH($B$4&"|Advanced Saver|"&$F17&"|"&$G17&"|"&$E17&"|"&$AH$9,'Flat File'!$T$2:$T$20001,0),"")) | BG17: =IF(OR($C17="",$E17="",$F17="",$G17="",$B17="",$B17<Reference!$L$5,$B17>Reference!$L$6),"",IFERROR(MATCH($B$4&"|Advanced Saver|"&$F17&"|"&$G17&"|"&$E17&"|"&$AO$9,'Flat File'!$T$2:$T$20001,0),"")) | BH17: =IF(OR($C17="",$E17="",$F17="",$G17="",$B17="",$B17<Reference!$L$5,$B17>Reference!$L$6),"",IFERROR(MATCH($B$4&"|Advanced Saver|"&$F17&"|"&$G17&"|"&$E17&"|"&$AV$9,'Flat File'!$T$2:$T$20001,0),""))
D18: =IF($C18="","",IF(OR($C18<Reference!$C$4,$C18>Reference!$D$14),"Please Check EAC",INDEX(Reference!$B$4:$B$14,MATCH($C18,Reference!$C$4:$C$14,1)))) | E18: =IF(OR($C18="",$D18="Please Check EAC"),"",INDEX(Reference!$C$4:$C$14,MATCH($C18,Reference!$C$4:$C$14,1))) | H18: =IF($G18="","",IF($G18="Standard",3,4)) | K18: =IF(AND($A18="",$C18="",$F18="",$G18=""),"",IF($C18="","Enter EAC",IF($D18="Please Check EAC","EAC outside 1,000-300,000",IF($F18="","Select Area",IF($G18="","Select Rate Structure",IF($B18="","Enter Start Date",IF(OR($B18<Reference!$L$5,$B18>Reference!$L$6),"Start date outside window",IF(COUNT($BC18:$BH18)<6,"Check: price missing","OK")))))))) | M18: =IF($BC18="","",IF(INDEX('Flat File'!$O$2:$O$20001,$BC18)="","",INDEX('Flat File'!$O$2:$O$20001,$BC18)+N($I18))) | N18: =IF($BC18="","",IF(INDEX('Flat File'!$K$2:$K$20001,$BC18)="","",INDEX('Flat File'!$K$2:$K$20001,$BC18)+N($J18))) | O18: =IF($BC18="","",IF(INDEX('Flat File'!$L$2:$L$20001,$BC18)="","",INDEX('Flat File'!$L$2:$L$20001,$BC18)+N($J18))) | P18: =IF($BC18="","",IF(INDEX('Flat File'!$M$2:$M$20001,$BC18)="","",INDEX('Flat File'!$M$2:$M$20001,$BC18)+N($J18))) | Q18: =IF($BC18="","",IF(INDEX('Flat File'!$N$2:$N$20001,$BC18)="","",INDEX('Flat File'!$N$2:$N$20001,$BC18)+N($J18))) | R18: =IF($BC18="","",MID("JanFebMarAprMayJunJulAugSepOctNovDec",MONTH($B18)*3-2,3)&RIGHT(YEAR($B18),2)&MID(INDEX('Flat File'!$B$2:$B$20001,$BC18),6,200)) | T18: =IF($BD18="","",IF(INDEX('Flat File'!$O$2:$O$20001,$BD18)="","",INDEX('Flat File'!$O$2:$O$20001,$BD18)+N($I18))) | U18: =IF($BD18="","",IF(INDEX('Flat File'!$K$2:$K$20001,$BD18)="","",INDEX('Flat File'!$K$2:$K$20001,$BD18)+N($J18))) | V18: =IF($BD18="","",IF(INDEX('Flat File'!$L$2:$L$20001,$BD18)="","",INDEX('Flat File'!$L$2:$L$20001,$BD18)+N($J18))) | W18: =IF($BD18="","",IF(INDEX('Flat File'!$M$2:$M$20001,$BD18)="","",INDEX('Flat File'!$M$2:$M$20001,$BD18)+N($J18))) | X18: =IF($BD18="","",IF(INDEX('Flat File'!$N$2:$N$20001,$BD18)="","",INDEX('Flat File'!$N$2:$N$20001,$BD18)+N($J18))) | Y18: =IF($BD18="","",MID("JanFebMarAprMayJunJulAugSepOctNovDec",MONTH($B18)*3-2,3)&RIGHT(YEAR($B18),2)&MID(INDEX('Flat File'!$B$2:$B$20001,$BD18),6,200)) | AA18: =IF($BE18="","",IF(INDEX('Flat File'!$O$2:$O$20001,$BE18)="","",INDEX('Flat File'!$O$2:$O$20001,$BE18)+N($I18))) | AB18: =IF($BE18="","",IF(INDEX('Flat File'!$K$2:$K$20001,$BE18)="","",INDEX('Flat File'!$K$2:$K$20001,$BE18)+N($J18))) | AC18: =IF($BE18="","",IF(INDEX('Flat File'!$L$2:$L$20001,$BE18)="","",INDEX('Flat File'!$L$2:$L$20001,$BE18)+N($J18))) | AD18: =IF($BE18="","",IF(INDEX('Flat File'!$M$2:$M$20001,$BE18)="","",INDEX('Flat File'!$M$2:$M$20001,$BE18)+N($J18))) | AE18: =IF($BE18="","",IF(INDEX('Flat File'!$N$2:$N$20001,$BE18)="","",INDEX('Flat File'!$N$2:$N$20001,$BE18)+N($J18))) | AF18: =IF($BE18="","",MID("JanFebMarAprMayJunJulAugSepOctNovDec",MONTH($B18)*3-2,3)&RIGHT(YEAR($B18),2)&MID(INDEX('Flat File'!$B$2:$B$20001,$BE18),6,200)) | AH18: =IF($BF18="","",IF(INDEX('Flat File'!$O$2:$O$20001,$BF18)="","",INDEX('Flat File'!$O$2:$O$20001,$BF18)+N($I18))) | AI18: =IF($BF18="","",IF(INDEX('Flat File'!$K$2:$K$20001,$BF18)="","",INDEX('Flat File'!$K$2:$K$20001,$BF18)+N($J18))) | AJ18: =IF($BF18="","",IF(INDEX('Flat File'!$L$2:$L$20001,$BF18)="","",INDEX('Flat File'!$L$2:$L$20001,$BF18)+N($J18))) | AK18: =IF($BF18="","",IF(INDEX('Flat File'!$M$2:$M$20001,$BF18)="","",INDEX('Flat File'!$M$2:$M$20001,$BF18)+N($J18))) | AL18: =IF($BF18="","",IF(INDEX('Flat File'!$N$2:$N$20001,$BF18)="","",INDEX('Flat File'!$N$2:$N$20001,$BF18)+N($J18))) | AM18: =IF($BF18="","",MID("JanFebMarAprMayJunJulAugSepOctNovDec",MONTH($B18)*3-2,3)&RIGHT(YEAR($B18),2)&MID(INDEX('Flat File'!$B$2:$B$20001,$BF18),6,200)) | AO18: =IF($BG18="","",IF(INDEX('Flat File'!$O$2:$O$20001,$BG18)="","",INDEX('Flat File'!$O$2:$O$20001,$BG18)+N($I18))) | AP18: =IF($BG18="","",IF(INDEX('Flat File'!$K$2:$K$20001,$BG18)="","",INDEX('Flat File'!$K$2:$K$20001,$BG18)+N($J18))) | AQ18: =IF($BG18="","",IF(INDEX('Flat File'!$L$2:$L$20001,$BG18)="","",INDEX('Flat File'!$L$2:$L$20001,$BG18)+N($J18))) | AR18: =IF($BG18="","",IF(INDEX('Flat File'!$M$2:$M$20001,$BG18)="","",INDEX('Flat File'!$M$2:$M$20001,$BG18)+N($J18))) | AS18: =IF($BG18="","",IF(INDEX('Flat File'!$N$2:$N$20001,$BG18)="","",INDEX('Flat File'!$N$2:$N$20001,$BG18)+N($J18))) | AT18: =IF($BG18="","",MID("JanFebMarAprMayJunJulAugSepOctNovDec",MONTH($B18)*3-2,3)&RIGHT(YEAR($B18),2)&MID(INDEX('Flat File'!$B$2:$B$20001,$BG18),6,200)) | AV18: =IF($BH18="","",IF(INDEX('Flat File'!$O$2:$O$20001,$BH18)="","",INDEX('Flat File'!$O$2:$O$20001,$BH18)+N($I18))) | AW18: =IF($BH18="","",IF(INDEX('Flat File'!$K$2:$K$20001,$BH18)="","",INDEX('Flat File'!$K$2:$K$20001,$BH18)+N($J18))) | AX18: =IF($BH18="","",IF(INDEX('Flat File'!$L$2:$L$20001,$BH18)="","",INDEX('Flat File'!$L$2:$L$20001,$BH18)+N($J18))) | AY18: =IF($BH18="","",IF(INDEX('Flat File'!$M$2:$M$20001,$BH18)="","",INDEX('Flat File'!$M$2:$M$20001,$BH18)+N($J18))) | AZ18: =IF($BH18="","",IF(INDEX('Flat File'!$N$2:$N$20001,$BH18)="","",INDEX('Flat File'!$N$2:$N$20001,$BH18)+N($J18))) | BA18: =IF($BH18="","",MID("JanFebMarAprMayJunJulAugSepOctNovDec",MONTH($B18)*3-2,3)&RIGHT(YEAR($B18),2)&MID(INDEX('Flat File'!$B$2:$B$20001,$BH18),6,200)) | BC18: =IF(OR($C18="",$E18="",$F18="",$G18="",$B18="",$B18<Reference!$L$5,$B18>Reference!$L$6),"",IFERROR(MATCH($B$4&"|Standard|"&$F18&"|"&$G18&"|"&$E18&"|"&$M$9,'Flat File'!$T$2:$T$20001,0),"")) | BD18: =IF(OR($C18="",$E18="",$F18="",$G18="",$B18="",$B18<Reference!$L$5,$B18>Reference!$L$6),"",IFERROR(MATCH($B$4&"|Standard|"&$F18&"|"&$G18&"|"&$E18&"|"&$T$9,'Flat File'!$T$2:$T$20001,0),"")) | BE18: =IF(OR($C18="",$E18="",$F18="",$G18="",$B18="",$B18<Reference!$L$5,$B18>Reference!$L$6),"",IFERROR(MATCH($B$4&"|Standard|"&$F18&"|"&$G18&"|"&$E18&"|"&$AA$9,'Flat File'!$T$2:$T$20001,0),"")) | BF18: =IF(OR($C18="",$E18="",$F18="",$G18="",$B18="",$B18<Reference!$L$5,$B18>Reference!$L$6),"",IFERROR(MATCH($B$4&"|Advanced Saver|"&$F18&"|"&$G18&"|"&$E18&"|"&$AH$9,'Flat File'!$T$2:$T$20001,0),"")) | BG18: =IF(OR($C18="",$E18="",$F18="",$G18="",$B18="",$B18<Reference!$L$5,$B18>Reference!$L$6),"",IFERROR(MATCH($B$4&"|Advanced Saver|"&$F18&"|"&$G18&"|"&$E18&"|"&$AO$9,'Flat File'!$T$2:$T$20001,0),"")) | BH18: =IF(OR($C18="",$E18="",$F18="",$G18="",$B18="",$B18<Reference!$L$5,$B18>Reference!$L$6),"",IFERROR(MATCH($B$4&"|Advanced Saver|"&$F18&"|"&$G18&"|"&$E18&"|"&$AV$9,'Flat File'!$T$2:$T$20001,0),""))
D19: =IF($C19="","",IF(OR($C19<Reference!$C$4,$C19>Reference!$D$14),"Please Check EAC",INDEX(Reference!$B$4:$B$14,MATCH($C19,Reference!$C$4:$C$14,1)))) | E19: =IF(OR($C19="",$D19="Please Check EAC"),"",INDEX(Reference!$C$4:$C$14,MATCH($C19,Reference!$C$4:$C$14,1))) | H19: =IF($G19="","",IF($G19="Standard",3,4)) | K19: =IF(AND($A19="",$C19="",$F19="",$G19=""),"",IF($C19="","Enter EAC",IF($D19="Please Check EAC","EAC outside 1,000-300,000",IF($F19="","Select Area",IF($G19="","Select Rate Structure",IF($B19="","Enter Start Date",IF(OR($B19<Reference!$L$5,$B19>Reference!$L$6),"Start date outside window",IF(COUNT($BC19:$BH19)<6,"Check: price missing","OK")))))))) | M19: =IF($BC19="","",IF(INDEX('Flat File'!$O$2:$O$20001,$BC19)="","",INDEX('Flat File'!$O$2:$O$20001,$BC19)+N($I19))) | N19: =IF($BC19="","",IF(INDEX('Flat File'!$K$2:$K$20001,$BC19)="","",INDEX('Flat File'!$K$2:$K$20001,$BC19)+N($J19))) | O19: =IF($BC19="","",IF(INDEX('Flat File'!$L$2:$L$20001,$BC19)="","",INDEX('Flat File'!$L$2:$L$20001,$BC19)+N($J19))) | P19: =IF($BC19="","",IF(INDEX('Flat File'!$M$2:$M$20001,$BC19)="","",INDEX('Flat File'!$M$2:$M$20001,$BC19)+N($J19))) | Q19: =IF($BC19="","",IF(INDEX('Flat File'!$N$2:$N$20001,$BC19)="","",INDEX('Flat File'!$N$2:$N$20001,$BC19)+N($J19))) | R19: =IF($BC19="","",MID("JanFebMarAprMayJunJulAugSepOctNovDec",MONTH($B19)*3-2,3)&RIGHT(YEAR($B19),2)&MID(INDEX('Flat File'!$B$2:$B$20001,$BC19),6,200)) | T19: =IF($BD19="","",IF(INDEX('Flat File'!$O$2:$O$20001,$BD19)="","",INDEX('Flat File'!$O$2:$O$20001,$BD19)+N($I19))) | U19: =IF($BD19="","",IF(INDEX('Flat File'!$K$2:$K$20001,$BD19)="","",INDEX('Flat File'!$K$2:$K$20001,$BD19)+N($J19))) | V19: =IF($BD19="","",IF(INDEX('Flat File'!$L$2:$L$20001,$BD19)="","",INDEX('Flat File'!$L$2:$L$20001,$BD19)+N($J19))) | W19: =IF($BD19="","",IF(INDEX('Flat File'!$M$2:$M$20001,$BD19)="","",INDEX('Flat File'!$M$2:$M$20001,$BD19)+N($J19))) | X19: =IF($BD19="","",IF(INDEX('Flat File'!$N$2:$N$20001,$BD19)="","",INDEX('Flat File'!$N$2:$N$20001,$BD19)+N($J19))) | Y19: =IF($BD19="","",MID("JanFebMarAprMayJunJulAugSepOctNovDec",MONTH($B19)*3-2,3)&RIGHT(YEAR($B19),2)&MID(INDEX('Flat File'!$B$2:$B$20001,$BD19),6,200)) | AA19: =IF($BE19="","",IF(INDEX('Flat File'!$O$2:$O$20001,$BE19)="","",INDEX('Flat File'!$O$2:$O$20001,$BE19)+N($I19))) | AB19: =IF($BE19="","",IF(INDEX('Flat File'!$K$2:$K$20001,$BE19)="","",INDEX('Flat File'!$K$2:$K$20001,$BE19)+N($J19))) | AC19: =IF($BE19="","",IF(INDEX('Flat File'!$L$2:$L$20001,$BE19)="","",INDEX('Flat File'!$L$2:$L$20001,$BE19)+N($J19))) | AD19: =IF($BE19="","",IF(INDEX('Flat File'!$M$2:$M$20001,$BE19)="","",INDEX('Flat File'!$M$2:$M$20001,$BE19)+N($J19))) | AE19: =IF($BE19="","",IF(INDEX('Flat File'!$N$2:$N$20001,$BE19)="","",INDEX('Flat File'!$N$2:$N$20001,$BE19)+N($J19))) | AF19: =IF($BE19="","",MID("JanFebMarAprMayJunJulAugSepOctNovDec",MONTH($B19)*3-2,3)&RIGHT(YEAR($B19),2)&MID(INDEX('Flat File'!$B$2:$B$20001,$BE19),6,200)) | AH19: =IF($BF19="","",IF(INDEX('Flat File'!$O$2:$O$20001,$BF19)="","",INDEX('Flat File'!$O$2:$O$20001,$BF19)+N($I19))) | AI19: =IF($BF19="","",IF(INDEX('Flat File'!$K$2:$K$20001,$BF19)="","",INDEX('Flat File'!$K$2:$K$20001,$BF19)+N($J19))) | AJ19: =IF($BF19="","",IF(INDEX('Flat File'!$L$2:$L$20001,$BF19)="","",INDEX('Flat File'!$L$2:$L$20001,$BF19)+N($J19))) | AK19: =IF($BF19="","",IF(INDEX('Flat File'!$M$2:$M$20001,$BF19)="","",INDEX('Flat File'!$M$2:$M$20001,$BF19)+N($J19))) | AL19: =IF($BF19="","",IF(INDEX('Flat File'!$N$2:$N$20001,$BF19)="","",INDEX('Flat File'!$N$2:$N$20001,$BF19)+N($J19))) | AM19: =IF($BF19="","",MID("JanFebMarAprMayJunJulAugSepOctNovDec",MONTH($B19)*3-2,3)&RIGHT(YEAR($B19),2)&MID(INDEX('Flat File'!$B$2:$B$20001,$BF19),6,200)) | AO19: =IF($BG19="","",IF(INDEX('Flat File'!$O$2:$O$20001,$BG19)="","",INDEX('Flat File'!$O$2:$O$20001,$BG19)+N($I19))) | AP19: =IF($BG19="","",IF(INDEX('Flat File'!$K$2:$K$20001,$BG19)="","",INDEX('Flat File'!$K$2:$K$20001,$BG19)+N($J19))) | AQ19: =IF($BG19="","",IF(INDEX('Flat File'!$L$2:$L$20001,$BG19)="","",INDEX('Flat File'!$L$2:$L$20001,$BG19)+N($J19))) | AR19: =IF($BG19="","",IF(INDEX('Flat File'!$M$2:$M$20001,$BG19)="","",INDEX('Flat File'!$M$2:$M$20001,$BG19)+N($J19))) | AS19: =IF($BG19="","",IF(INDEX('Flat File'!$N$2:$N$20001,$BG19)="","",INDEX('Flat File'!$N$2:$N$20001,$BG19)+N($J19))) | AT19: =IF($BG19="","",MID("JanFebMarAprMayJunJulAugSepOctNovDec",MONTH($B19)*3-2,3)&RIGHT(YEAR($B19),2)&MID(INDEX('Flat File'!$B$2:$B$20001,$BG19),6,200)) | AV19: =IF($BH19="","",IF(INDEX('Flat File'!$O$2:$O$20001,$BH19)="","",INDEX('Flat File'!$O$2:$O$20001,$BH19)+N($I19))) | AW19: =IF($BH19="","",IF(INDEX('Flat File'!$K$2:$K$20001,$BH19)="","",INDEX('Flat File'!$K$2:$K$20001,$BH19)+N($J19))) | AX19: =IF($BH19="","",IF(INDEX('Flat File'!$L$2:$L$20001,$BH19)="","",INDEX('Flat File'!$L$2:$L$20001,$BH19)+N($J19))) | AY19: =IF($BH19="","",IF(INDEX('Flat File'!$M$2:$M$20001,$BH19)="","",INDEX('Flat File'!$M$2:$M$20001,$BH19)+N($J19))) | AZ19: =IF($BH19="","",IF(INDEX('Flat File'!$N$2:$N$20001,$BH19)="","",INDEX('Flat File'!$N$2:$N$20001,$BH19)+N($J19))) | BA19: =IF($BH19="","",MID("JanFebMarAprMayJunJulAugSepOctNovDec",MONTH($B19)*3-2,3)&RIGHT(YEAR($B19),2)&MID(INDEX('Flat File'!$B$2:$B$20001,$BH19),6,200)) | BC19: =IF(OR($C19="",$E19="",$F19="",$G19="",$B19="",$B19<Reference!$L$5,$B19>Reference!$L$6),"",IFERROR(MATCH($B$4&"|Standard|"&$F19&"|"&$G19&"|"&$E19&"|"&$M$9,'Flat File'!$T$2:$T$20001,0),"")) | BD19: =IF(OR($C19="",$E19="",$F19="",$G19="",$B19="",$B19<Reference!$L$5,$B19>Reference!$L$6),"",IFERROR(MATCH($B$4&"|Standard|"&$F19&"|"&$G19&"|"&$E19&"|"&$T$9,'Flat File'!$T$2:$T$20001,0),"")) | BE19: =IF(OR($C19="",$E19="",$F19="",$G19="",$B19="",$B19<Reference!$L$5,$B19>Reference!$L$6),"",IFERROR(MATCH($B$4&"|Standard|"&$F19&"|"&$G19&"|"&$E19&"|"&$AA$9,'Flat File'!$T$2:$T$20001,0),"")) | BF19: =IF(OR($C19="",$E19="",$F19="",$G19="",$B19="",$B19<Reference!$L$5,$B19>Reference!$L$6),"",IFERROR(MATCH($B$4&"|Advanced Saver|"&$F19&"|"&$G19&"|"&$E19&"|"&$AH$9,'Flat File'!$T$2:$T$20001,0),"")) | BG19: =IF(OR($C19="",$E19="",$F19="",$G19="",$B19="",$B19<Reference!$L$5,$B19>Reference!$L$6),"",IFERROR(MATCH($B$4&"|Advanced Saver|"&$F19&"|"&$G19&"|"&$E19&"|"&$AO$9,'Flat File'!$T$2:$T$20001,0),"")) | BH19: =IF(OR($C19="",$E19="",$F19="",$G19="",$B19="",$B19<Reference!$L$5,$B19>Reference!$L$6),"",IFERROR(MATCH($B$4&"|Advanced Saver|"&$F19&"|"&$G19&"|"&$E19&"|"&$AV$9,'Flat File'!$T$2:$T$20001,0),""))
D20: =IF($C20="","",IF(OR($C20<Reference!$C$4,$C20>Reference!$D$14),"Please Check EAC",INDEX(Reference!$B$4:$B$14,MATCH($C20,Reference!$C$4:$C$14,1)))) | E20: =IF(OR($C20="",$D20="Please Check EAC"),"",INDEX(Reference!$C$4:$C$14,MATCH($C20,Reference!$C$4:$C$14,1))) | H20: =IF($G20="","",IF($G20="Standard",3,4)) | K20: =IF(AND($A20="",$C20="",$F20="",$G20=""),"",IF($C20="","Enter EAC",IF($D20="Please Check EAC","EAC outside 1,000-300,000",IF($F20="","Select Area",IF($G20="","Select Rate Structure",IF($B20="","Enter Start Date",IF(OR($B20<Reference!$L$5,$B20>Reference!$L$6),"Start date outside window",IF(COUNT($BC20:$BH20)<6,"Check: price missing","OK")))))))) | M20: =IF($BC20="","",IF(INDEX('Flat File'!$O$2:$O$20001,$BC20)="","",INDEX('Flat File'!$O$2:$O$20001,$BC20)+N($I20))) | N20: =IF($BC20="","",IF(INDEX('Flat File'!$K$2:$K$20001,$BC20)="","",INDEX('Flat File'!$K$2:$K$20001,$BC20)+N($J20))) | O20: =IF($BC20="","",IF(INDEX('Flat File'!$L$2:$L$20001,$BC20)="","",INDEX('Flat File'!$L$2:$L$20001,$BC20)+N($J20))) | P20: =IF($BC20="","",IF(INDEX('Flat File'!$M$2:$M$20001,$BC20)="","",INDEX('Flat File'!$M$2:$M$20001,$BC20)+N($J20))) | Q20: =IF($BC20="","",IF(INDEX('Flat File'!$N$2:$N$20001,$BC20)="","",INDEX('Flat File'!$N$2:$N$20001,$BC20)+N($J20))) | R20: =IF($BC20="","",MID("JanFebMarAprMayJunJulAugSepOctNovDec",MONTH($B20)*3-2,3)&RIGHT(YEAR($B20),2)&MID(INDEX('Flat File'!$B$2:$B$20001,$BC20),6,200)) | T20: =IF($BD20="","",IF(INDEX('Flat File'!$O$2:$O$20001,$BD20)="","",INDEX('Flat File'!$O$2:$O$20001,$BD20)+N($I20))) | U20: =IF($BD20="","",IF(INDEX('Flat File'!$K$2:$K$20001,$BD20)="","",INDEX('Flat File'!$K$2:$K$20001,$BD20)+N($J20))) | V20: =IF($BD20="","",IF(INDEX('Flat File'!$L$2:$L$20001,$BD20)="","",INDEX('Flat File'!$L$2:$L$20001,$BD20)+N($J20))) | W20: =IF($BD20="","",IF(INDEX('Flat File'!$M$2:$M$20001,$BD20)="","",INDEX('Flat File'!$M$2:$M$20001,$BD20)+N($J20))) | X20: =IF($BD20="","",IF(INDEX('Flat File'!$N$2:$N$20001,$BD20)="","",INDEX('Flat File'!$N$2:$N$20001,$BD20)+N($J20))) | Y20: =IF($BD20="","",MID("JanFebMarAprMayJunJulAugSepOctNovDec",MONTH($B20)*3-2,3)&RIGHT(YEAR($B20),2)&MID(INDEX('Flat File'!$B$2:$B$20001,$BD20),6,200)) | AA20: =IF($BE20="","",IF(INDEX('Flat File'!$O$2:$O$20001,$BE20)="","",INDEX('Flat File'!$O$2:$O$20001,$BE20)+N($I20))) | AB20: =IF($BE20="","",IF(INDEX('Flat File'!$K$2:$K$20001,$BE20)="","",INDEX('Flat File'!$K$2:$K$20001,$BE20)+N($J20))) | AC20: =IF($BE20="","",IF(INDEX('Flat File'!$L$2:$L$20001,$BE20)="","",INDEX('Flat File'!$L$2:$L$20001,$BE20)+N($J20))) | AD20: =IF($BE20="","",IF(INDEX('Flat File'!$M$2:$M$20001,$BE20)="","",INDEX('Flat File'!$M$2:$M$20001,$BE20)+N($J20))) | AE20: =IF($BE20="","",IF(INDEX('Flat File'!$N$2:$N$20001,$BE20)="","",INDEX('Flat File'!$N$2:$N$20001,$BE20)+N($J20))) | AF20: =IF($BE20="","",MID("JanFebMarAprMayJunJulAugSepOctNovDec",MONTH($B20)*3-2,3)&RIGHT(YEAR($B20),2)&MID(INDEX('Flat File'!$B$2:$B$20001,$BE20),6,200)) | AH20: =IF($BF20="","",IF(INDEX('Flat File'!$O$2:$O$20001,$BF20)="","",INDEX('Flat File'!$O$2:$O$20001,$BF20)+N($I20))) | AI20: =IF($BF20="","",IF(INDEX('Flat File'!$K$2:$K$20001,$BF20)="","",INDEX('Flat File'!$K$2:$K$20001,$BF20)+N($J20))) | AJ20: =IF($BF20="","",IF(INDEX('Flat File'!$L$2:$L$20001,$BF20)="","",INDEX('Flat File'!$L$2:$L$20001,$BF20)+N($J20))) | AK20: =IF($BF20="","",IF(INDEX('Flat File'!$M$2:$M$20001,$BF20)="","",INDEX('Flat File'!$M$2:$M$20001,$BF20)+N($J20))) | AL20: =IF($BF20="","",IF(INDEX('Flat File'!$N$2:$N$20001,$BF20)="","",INDEX('Flat File'!$N$2:$N$20001,$BF20)+N($J20))) | AM20: =IF($BF20="","",MID("JanFebMarAprMayJunJulAugSepOctNovDec",MONTH($B20)*3-2,3)&RIGHT(YEAR($B20),2)&MID(INDEX('Flat File'!$B$2:$B$20001,$BF20),6,200)) | AO20: =IF($BG20="","",IF(INDEX('Flat File'!$O$2:$O$20001,$BG20)="","",INDEX('Flat File'!$O$2:$O$20001,$BG20)+N($I20))) | AP20: =IF($BG20="","",IF(INDEX('Flat File'!$K$2:$K$20001,$BG20)="","",INDEX('Flat File'!$K$2:$K$20001,$BG20)+N($J20))) | AQ20: =IF($BG20="","",IF(INDEX('Flat File'!$L$2:$L$20001,$BG20)="","",INDEX('Flat File'!$L$2:$L$20001,$BG20)+N($J20))) | AR20: =IF($BG20="","",IF(INDEX('Flat File'!$M$2:$M$20001,$BG20)="","",INDEX('Flat File'!$M$2:$M$20001,$BG20)+N($J20))) | AS20: =IF($BG20="","",IF(INDEX('Flat File'!$N$2:$N$20001,$BG20)="","",INDEX('Flat File'!$N$2:$N$20001,$BG20)+N($J20))) | AT20: =IF($BG20="","",MID("JanFebMarAprMayJunJulAugSepOctNovDec",MONTH($B20)*3-2,3)&RIGHT(YEAR($B20),2)&MID(INDEX('Flat File'!$B$2:$B$20001,$BG20),6,200)) | AV20: =IF($BH20="","",IF(INDEX('Flat File'!$O$2:$O$20001,$BH20)="","",INDEX('Flat File'!$O$2:$O$20001,$BH20)+N($I20))) | AW20: =IF($BH20="","",IF(INDEX('Flat File'!$K$2:$K$20001,$BH20)="","",INDEX('Flat File'!$K$2:$K$20001,$BH20)+N($J20))) | AX20: =IF($BH20="","",IF(INDEX('Flat File'!$L$2:$L$20001,$BH20)="","",INDEX('Flat File'!$L$2:$L$20001,$BH20)+N($J20))) | AY20: =IF($BH20="","",IF(INDEX('Flat File'!$M$2:$M$20001,$BH20)="","",INDEX('Flat File'!$M$2:$M$20001,$BH20)+N($J20))) | AZ20: =IF($BH20="","",IF(INDEX('Flat File'!$N$2:$N$20001,$BH20)="","",INDEX('Flat File'!$N$2:$N$20001,$BH20)+N($J20))) | BA20: =IF($BH20="","",MID("JanFebMarAprMayJunJulAugSepOctNovDec",MONTH($B20)*3-2,3)&RIGHT(YEAR($B20),2)&MID(INDEX('Flat File'!$B$2:$B$20001,$BH20),6,200)) | BC20: =IF(OR($C20="",$E20="",$F20="",$G20="",$B20="",$B20<Reference!$L$5,$B20>Reference!$L$6),"",IFERROR(MATCH($B$4&"|Standard|"&$F20&"|"&$G20&"|"&$E20&"|"&$M$9,'Flat File'!$T$2:$T$20001,0),"")) | BD20: =IF(OR($C20="",$E20="",$F20="",$G20="",$B20="",$B20<Reference!$L$5,$B20>Reference!$L$6),"",IFERROR(MATCH($B$4&"|Standard|"&$F20&"|"&$G20&"|"&$E20&"|"&$T$9,'Flat File'!$T$2:$T$20001,0),"")) | BE20: =IF(OR($C20="",$E20="",$F20="",$G20="",$B20="",$B20<Reference!$L$5,$B20>Reference!$L$6),"",IFERROR(MATCH($B$4&"|Standard|"&$F20&"|"&$G20&"|"&$E20&"|"&$AA$9,'Flat File'!$T$2:$T$20001,0),"")) | BF20: =IF(OR($C20="",$E20="",$F20="",$G20="",$B20="",$B20<Reference!$L$5,$B20>Reference!$L$6),"",IFERROR(MATCH($B$4&"|Advanced Saver|"&$F20&"|"&$G20&"|"&$E20&"|"&$AH$9,'Flat File'!$T$2:$T$20001,0),"")) | BG20: =IF(OR($C20="",$E20="",$F20="",$G20="",$B20="",$B20<Reference!$L$5,$B20>Reference!$L$6),"",IFERROR(MATCH($B$4&"|Advanced Saver|"&$F20&"|"&$G20&"|"&$E20&"|"&$AO$9,'Flat File'!$T$2:$T$20001,0),"")) | BH20: =IF(OR($C20="",$E20="",$F20="",$G20="",$B20="",$B20<Reference!$L$5,$B20>Reference!$L$6),"",IFERROR(MATCH($B$4&"|Advanced Saver|"&$F20&"|"&$G20&"|"&$E20&"|"&$AV$9,'Flat File'!$T$2:$T$20001,0),""))
D21: =IF($C21="","",IF(OR($C21<Reference!$C$4,$C21>Reference!$D$14),"Please Check EAC",INDEX(Reference!$B$4:$B$14,MATCH($C21,Reference!$C$4:$C$14,1)))) | E21: =IF(OR($C21="",$D21="Please Check EAC"),"",INDEX(Reference!$C$4:$C$14,MATCH($C21,Reference!$C$4:$C$14,1))) | H21: =IF($G21="","",IF($G21="Standard",3,4)) | K21: =IF(AND($A21="",$C21="",$F21="",$G21=""),"",IF($C21="","Enter EAC",IF($D21="Please Check EAC","EAC outside 1,000-300,000",IF($F21="","Select Area",IF($G21="","Select Rate Structure",IF($B21="","Enter Start Date",IF(OR($B21<Reference!$L$5,$B21>Reference!$L$6),"Start date outside window",IF(COUNT($BC21:$BH21)<6,"Check: price missing","OK")))))))) | M21: =IF($BC21="","",IF(INDEX('Flat File'!$O$2:$O$20001,$BC21)="","",INDEX('Flat File'!$O$2:$O$20001,$BC21)+N($I21))) | N21: =IF($BC21="","",IF(INDEX('Flat File'!$K$2:$K$20001,$BC21)="","",INDEX('Flat File'!$K$2:$K$20001,$BC21)+N($J21))) | O21: =IF($BC21="","",IF(INDEX('Flat File'!$L$2:$L$20001,$BC21)="","",INDEX('Flat File'!$L$2:$L$20001,$BC21)+N($J21))) | P21: =IF($BC21="","",IF(INDEX('Flat File'!$M$2:$M$20001,$BC21)="","",INDEX('Flat File'!$M$2:$M$20001,$BC21)+N($J21))) | Q21: =IF($BC21="","",IF(INDEX('Flat File'!$N$2:$N$20001,$BC21)="","",INDEX('Flat File'!$N$2:$N$20001,$BC21)+N($J21))) | R21: =IF($BC21="","",MID("JanFebMarAprMayJunJulAugSepOctNovDec",MONTH($B21)*3-2,3)&RIGHT(YEAR($B21),2)&MID(INDEX('Flat File'!$B$2:$B$20001,$BC21),6,200)) | T21: =IF($BD21="","",IF(INDEX('Flat File'!$O$2:$O$20001,$BD21)="","",INDEX('Flat File'!$O$2:$O$20001,$BD21)+N($I21))) | U21: =IF($BD21="","",IF(INDEX('Flat File'!$K$2:$K$20001,$BD21)="","",INDEX('Flat File'!$K$2:$K$20001,$BD21)+N($J21))) | V21: =IF($BD21="","",IF(INDEX('Flat File'!$L$2:$L$20001,$BD21)="","",INDEX('Flat File'!$L$2:$L$20001,$BD21)+N($J21))) | W21: =IF($BD21="","",IF(INDEX('Flat File'!$M$2:$M$20001,$BD21)="","",INDEX('Flat File'!$M$2:$M$20001,$BD21)+N($J21))) | X21: =IF($BD21="","",IF(INDEX('Flat File'!$N$2:$N$20001,$BD21)="","",INDEX('Flat File'!$N$2:$N$20001,$BD21)+N($J21))) | Y21: =IF($BD21="","",MID("JanFebMarAprMayJunJulAugSepOctNovDec",MONTH($B21)*3-2,3)&RIGHT(YEAR($B21),2)&MID(INDEX('Flat File'!$B$2:$B$20001,$BD21),6,200)) | AA21: =IF($BE21="","",IF(INDEX('Flat File'!$O$2:$O$20001,$BE21)="","",INDEX('Flat File'!$O$2:$O$20001,$BE21)+N($I21))) | AB21: =IF($BE21="","",IF(INDEX('Flat File'!$K$2:$K$20001,$BE21)="","",INDEX('Flat File'!$K$2:$K$20001,$BE21)+N($J21))) | AC21: =IF($BE21="","",IF(INDEX('Flat File'!$L$2:$L$20001,$BE21)="","",INDEX('Flat File'!$L$2:$L$20001,$BE21)+N($J21))) | AD21: =IF($BE21="","",IF(INDEX('Flat File'!$M$2:$M$20001,$BE21)="","",INDEX('Flat File'!$M$2:$M$20001,$BE21)+N($J21))) | AE21: =IF($BE21="","",IF(INDEX('Flat File'!$N$2:$N$20001,$BE21)="","",INDEX('Flat File'!$N$2:$N$20001,$BE21)+N($J21))) | AF21: =IF($BE21="","",MID("JanFebMarAprMayJunJulAugSepOctNovDec",MONTH($B21)*3-2,3)&RIGHT(YEAR($B21),2)&MID(INDEX('Flat File'!$B$2:$B$20001,$BE21),6,200)) | AH21: =IF($BF21="","",IF(INDEX('Flat File'!$O$2:$O$20001,$BF21)="","",INDEX('Flat File'!$O$2:$O$20001,$BF21)+N($I21))) | AI21: =IF($BF21="","",IF(INDEX('Flat File'!$K$2:$K$20001,$BF21)="","",INDEX('Flat File'!$K$2:$K$20001,$BF21)+N($J21))) | AJ21: =IF($BF21="","",IF(INDEX('Flat File'!$L$2:$L$20001,$BF21)="","",INDEX('Flat File'!$L$2:$L$20001,$BF21)+N($J21))) | AK21: =IF($BF21="","",IF(INDEX('Flat File'!$M$2:$M$20001,$BF21)="","",INDEX('Flat File'!$M$2:$M$20001,$BF21)+N($J21))) | AL21: =IF($BF21="","",IF(INDEX('Flat File'!$N$2:$N$20001,$BF21)="","",INDEX('Flat File'!$N$2:$N$20001,$BF21)+N($J21))) | AM21: =IF($BF21="","",MID("JanFebMarAprMayJunJulAugSepOctNovDec",MONTH($B21)*3-2,3)&RIGHT(YEAR($B21),2)&MID(INDEX('Flat File'!$B$2:$B$20001,$BF21),6,200)) | AO21: =IF($BG21="","",IF(INDEX('Flat File'!$O$2:$O$20001,$BG21)="","",INDEX('Flat File'!$O$2:$O$20001,$BG21)+N($I21))) | AP21: =IF($BG21="","",IF(INDEX('Flat File'!$K$2:$K$20001,$BG21)="","",INDEX('Flat File'!$K$2:$K$20001,$BG21)+N($J21))) | AQ21: =IF($BG21="","",IF(INDEX('Flat File'!$L$2:$L$20001,$BG21)="","",INDEX('Flat File'!$L$2:$L$20001,$BG21)+N($J21))) | AR21: =IF($BG21="","",IF(INDEX('Flat File'!$M$2:$M$20001,$BG21)="","",INDEX('Flat File'!$M$2:$M$20001,$BG21)+N($J21))) | AS21: =IF($BG21="","",IF(INDEX('Flat File'!$N$2:$N$20001,$BG21)="","",INDEX('Flat File'!$N$2:$N$20001,$BG21)+N($J21))) | AT21: =IF($BG21="","",MID("JanFebMarAprMayJunJulAugSepOctNovDec",MONTH($B21)*3-2,3)&RIGHT(YEAR($B21),2)&MID(INDEX('Flat File'!$B$2:$B$20001,$BG21),6,200)) | AV21: =IF($BH21="","",IF(INDEX('Flat File'!$O$2:$O$20001,$BH21)="","",INDEX('Flat File'!$O$2:$O$20001,$BH21)+N($I21))) | AW21: =IF($BH21="","",IF(INDEX('Flat File'!$K$2:$K$20001,$BH21)="","",INDEX('Flat File'!$K$2:$K$20001,$BH21)+N($J21))) | AX21: =IF($BH21="","",IF(INDEX('Flat File'!$L$2:$L$20001,$BH21)="","",INDEX('Flat File'!$L$2:$L$20001,$BH21)+N($J21))) | AY21: =IF($BH21="","",IF(INDEX('Flat File'!$M$2:$M$20001,$BH21)="","",INDEX('Flat File'!$M$2:$M$20001,$BH21)+N($J21))) | AZ21: =IF($BH21="","",IF(INDEX('Flat File'!$N$2:$N$20001,$BH21)="","",INDEX('Flat File'!$N$2:$N$20001,$BH21)+N($J21))) | BA21: =IF($BH21="","",MID("JanFebMarAprMayJunJulAugSepOctNovDec",MONTH($B21)*3-2,3)&RIGHT(YEAR($B21),2)&MID(INDEX('Flat File'!$B$2:$B$20001,$BH21),6,200)) | BC21: =IF(OR($C21="",$E21="",$F21="",$G21="",$B21="",$B21<Reference!$L$5,$B21>Reference!$L$6),"",IFERROR(MATCH($B$4&"|Standard|"&$F21&"|"&$G21&"|"&$E21&"|"&$M$9,'Flat File'!$T$2:$T$20001,0),"")) | BD21: =IF(OR($C21="",$E21="",$F21="",$G21="",$B21="",$B21<Reference!$L$5,$B21>Reference!$L$6),"",IFERROR(MATCH($B$4&"|Standard|"&$F21&"|"&$G21&"|"&$E21&"|"&$T$9,'Flat File'!$T$2:$T$20001,0),"")) | BE21: =IF(OR($C21="",$E21="",$F21="",$G21="",$B21="",$B21<Reference!$L$5,$B21>Reference!$L$6),"",IFERROR(MATCH($B$4&"|Standard|"&$F21&"|"&$G21&"|"&$E21&"|"&$AA$9,'Flat File'!$T$2:$T$20001,0),"")) | BF21: =IF(OR($C21="",$E21="",$F21="",$G21="",$B21="",$B21<Reference!$L$5,$B21>Reference!$L$6),"",IFERROR(MATCH($B$4&"|Advanced Saver|"&$F21&"|"&$G21&"|"&$E21&"|"&$AH$9,'Flat File'!$T$2:$T$20001,0),"")) | BG21: =IF(OR($C21="",$E21="",$F21="",$G21="",$B21="",$B21<Reference!$L$5,$B21>Reference!$L$6),"",IFERROR(MATCH($B$4&"|Advanced Saver|"&$F21&"|"&$G21&"|"&$E21&"|"&$AO$9,'Flat File'!$T$2:$T$20001,0),"")) | BH21: =IF(OR($C21="",$E21="",$F21="",$G21="",$B21="",$B21<Reference!$L$5,$B21>Reference!$L$6),"",IFERROR(MATCH($B$4&"|Advanced Saver|"&$F21&"|"&$G21&"|"&$E21&"|"&$AV$9,'Flat File'!$T$2:$T$20001,0),""))
D22: =IF($C22="","",IF(OR($C22<Reference!$C$4,$C22>Reference!$D$14),"Please Check EAC",INDEX(Reference!$B$4:$B$14,MATCH($C22,Reference!$C$4:$C$14,1)))) | E22: =IF(OR($C22="",$D22="Please Check EAC"),"",INDEX(Reference!$C$4:$C$14,MATCH($C22,Reference!$C$4:$C$14,1))) | H22: =IF($G22="","",IF($G22="Standard",3,4)) | K22: =IF(AND($A22="",$C22="",$F22="",$G22=""),"",IF($C22="","Enter EAC",IF($D22="Please Check EAC","EAC outside 1,000-300,000",IF($F22="","Select Area",IF($G22="","Select Rate Structure",IF($B22="","Enter Start Date",IF(OR($B22<Reference!$L$5,$B22>Reference!$L$6),"Start date outside window",IF(COUNT($BC22:$BH22)<6,"Check: price missing","OK")))))))) | M22: =IF($BC22="","",IF(INDEX('Flat File'!$O$2:$O$20001,$BC22)="","",INDEX('Flat File'!$O$2:$O$20001,$BC22)+N($I22))) | N22: =IF($BC22="","",IF(INDEX('Flat File'!$K$2:$K$20001,$BC22)="","",INDEX('Flat File'!$K$2:$K$20001,$BC22)+N($J22))) | O22: =IF($BC22="","",IF(INDEX('Flat File'!$L$2:$L$20001,$BC22)="","",INDEX('Flat File'!$L$2:$L$20001,$BC22)+N($J22))) | P22: =IF($BC22="","",IF(INDEX('Flat File'!$M$2:$M$20001,$BC22)="","",INDEX('Flat File'!$M$2:$M$20001,$BC22)+N($J22))) | Q22: =IF($BC22="","",IF(INDEX('Flat File'!$N$2:$N$20001,$BC22)="","",INDEX('Flat File'!$N$2:$N$20001,$BC22)+N($J22))) | R22: =IF($BC22="","",MID("JanFebMarAprMayJunJulAugSepOctNovDec",MONTH($B22)*3-2,3)&RIGHT(YEAR($B22),2)&MID(INDEX('Flat File'!$B$2:$B$20001,$BC22),6,200)) | T22: =IF($BD22="","",IF(INDEX('Flat File'!$O$2:$O$20001,$BD22)="","",INDEX('Flat File'!$O$2:$O$20001,$BD22)+N($I22))) | U22: =IF($BD22="","",IF(INDEX('Flat File'!$K$2:$K$20001,$BD22)="","",INDEX('Flat File'!$K$2:$K$20001,$BD22)+N($J22))) | V22: =IF($BD22="","",IF(INDEX('Flat File'!$L$2:$L$20001,$BD22)="","",INDEX('Flat File'!$L$2:$L$20001,$BD22)+N($J22))) | W22: =IF($BD22="","",IF(INDEX('Flat File'!$M$2:$M$20001,$BD22)="","",INDEX('Flat File'!$M$2:$M$20001,$BD22)+N($J22))) | X22: =IF($BD22="","",IF(INDEX('Flat File'!$N$2:$N$20001,$BD22)="","",INDEX('Flat File'!$N$2:$N$20001,$BD22)+N($J22))) | Y22: =IF($BD22="","",MID("JanFebMarAprMayJunJulAugSepOctNovDec",MONTH($B22)*3-2,3)&RIGHT(YEAR($B22),2)&MID(INDEX('Flat File'!$B$2:$B$20001,$BD22),6,200)) | AA22: =IF($BE22="","",IF(INDEX('Flat File'!$O$2:$O$20001,$BE22)="","",INDEX('Flat File'!$O$2:$O$20001,$BE22)+N($I22))) | AB22: =IF($BE22="","",IF(INDEX('Flat File'!$K$2:$K$20001,$BE22)="","",INDEX('Flat File'!$K$2:$K$20001,$BE22)+N($J22))) | AC22: =IF($BE22="","",IF(INDEX('Flat File'!$L$2:$L$20001,$BE22)="","",INDEX('Flat File'!$L$2:$L$20001,$BE22)+N($J22))) | AD22: =IF($BE22="","",IF(INDEX('Flat File'!$M$2:$M$20001,$BE22)="","",INDEX('Flat File'!$M$2:$M$20001,$BE22)+N($J22))) | AE22: =IF($BE22="","",IF(INDEX('Flat File'!$N$2:$N$20001,$BE22)="","",INDEX('Flat File'!$N$2:$N$20001,$BE22)+N($J22))) | AF22: =IF($BE22="","",MID("JanFebMarAprMayJunJulAugSepOctNovDec",MONTH($B22)*3-2,3)&RIGHT(YEAR($B22),2)&MID(INDEX('Flat File'!$B$2:$B$20001,$BE22),6,200)) | AH22: =IF($BF22="","",IF(INDEX('Flat File'!$O$2:$O$20001,$BF22)="","",INDEX('Flat File'!$O$2:$O$20001,$BF22)+N($I22))) | AI22: =IF($BF22="","",IF(INDEX('Flat File'!$K$2:$K$20001,$BF22)="","",INDEX('Flat File'!$K$2:$K$20001,$BF22)+N($J22))) | AJ22: =IF($BF22="","",IF(INDEX('Flat File'!$L$2:$L$20001,$BF22)="","",INDEX('Flat File'!$L$2:$L$20001,$BF22)+N($J22))) | AK22: =IF($BF22="","",IF(INDEX('Flat File'!$M$2:$M$20001,$BF22)="","",INDEX('Flat File'!$M$2:$M$20001,$BF22)+N($J22))) | AL22: =IF($BF22="","",IF(INDEX('Flat File'!$N$2:$N$20001,$BF22)="","",INDEX('Flat File'!$N$2:$N$20001,$BF22)+N($J22))) | AM22: =IF($BF22="","",MID("JanFebMarAprMayJunJulAugSepOctNovDec",MONTH($B22)*3-2,3)&RIGHT(YEAR($B22),2)&MID(INDEX('Flat File'!$B$2:$B$20001,$BF22),6,200)) | AO22: =IF($BG22="","",IF(INDEX('Flat File'!$O$2:$O$20001,$BG22)="","",INDEX('Flat File'!$O$2:$O$20001,$BG22)+N($I22))) | AP22: =IF($BG22="","",IF(INDEX('Flat File'!$K$2:$K$20001,$BG22)="","",INDEX('Flat File'!$K$2:$K$20001,$BG22)+N($J22))) | AQ22: =IF($BG22="","",IF(INDEX('Flat File'!$L$2:$L$20001,$BG22)="","",INDEX('Flat File'!$L$2:$L$20001,$BG22)+N($J22))) | AR22: =IF($BG22="","",IF(INDEX('Flat File'!$M$2:$M$20001,$BG22)="","",INDEX('Flat File'!$M$2:$M$20001,$BG22)+N($J22))) | AS22: =IF($BG22="","",IF(INDEX('Flat File'!$N$2:$N$20001,$BG22)="","",INDEX('Flat File'!$N$2:$N$20001,$BG22)+N($J22))) | AT22: =IF($BG22="","",MID("JanFebMarAprMayJunJulAugSepOctNovDec",MONTH($B22)*3-2,3)&RIGHT(YEAR($B22),2)&MID(INDEX('Flat File'!$B$2:$B$20001,$BG22),6,200)) | AV22: =IF($BH22="","",IF(INDEX('Flat File'!$O$2:$O$20001,$BH22)="","",INDEX('Flat File'!$O$2:$O$20001,$BH22)+N($I22))) | AW22: =IF($BH22="","",IF(INDEX('Flat File'!$K$2:$K$20001,$BH22)="","",INDEX('Flat File'!$K$2:$K$20001,$BH22)+N($J22))) | AX22: =IF($BH22="","",IF(INDEX('Flat File'!$L$2:$L$20001,$BH22)="","",INDEX('Flat File'!$L$2:$L$20001,$BH22)+N($J22))) | AY22: =IF($BH22="","",IF(INDEX('Flat File'!$M$2:$M$20001,$BH22)="","",INDEX('Flat File'!$M$2:$M$20001,$BH22)+N($J22))) | AZ22: =IF($BH22="","",IF(INDEX('Flat File'!$N$2:$N$20001,$BH22)="","",INDEX('Flat File'!$N$2:$N$20001,$BH22)+N($J22))) | BA22: =IF($BH22="","",MID("JanFebMarAprMayJunJulAugSepOctNovDec",MONTH($B22)*3-2,3)&RIGHT(YEAR($B22),2)&MID(INDEX('Flat File'!$B$2:$B$20001,$BH22),6,200)) | BC22: =IF(OR($C22="",$E22="",$F22="",$G22="",$B22="",$B22<Reference!$L$5,$B22>Reference!$L$6),"",IFERROR(MATCH($B$4&"|Standard|"&$F22&"|"&$G22&"|"&$E22&"|"&$M$9,'Flat File'!$T$2:$T$20001,0),"")) | BD22: =IF(OR($C22="",$E22="",$F22="",$G22="",$B22="",$B22<Reference!$L$5,$B22>Reference!$L$6),"",IFERROR(MATCH($B$4&"|Standard|"&$F22&"|"&$G22&"|"&$E22&"|"&$T$9,'Flat File'!$T$2:$T$20001,0),"")) | BE22: =IF(OR($C22="",$E22="",$F22="",$G22="",$B22="",$B22<Reference!$L$5,$B22>Reference!$L$6),"",IFERROR(MATCH($B$4&"|Standard|"&$F22&"|"&$G22&"|"&$E22&"|"&$AA$9,'Flat File'!$T$2:$T$20001,0),"")) | BF22: =IF(OR($C22="",$E22="",$F22="",$G22="",$B22="",$B22<Reference!$L$5,$B22>Reference!$L$6),"",IFERROR(MATCH($B$4&"|Advanced Saver|"&$F22&"|"&$G22&"|"&$E22&"|"&$AH$9,'Flat File'!$T$2:$T$20001,0),"")) | BG22: =IF(OR($C22="",$E22="",$F22="",$G22="",$B22="",$B22<Reference!$L$5,$B22>Reference!$L$6),"",IFERROR(MATCH($B$4&"|Advanced Saver|"&$F22&"|"&$G22&"|"&$E22&"|"&$AO$9,'Flat File'!$T$2:$T$20001,0),"")) | BH22: =IF(OR($C22="",$E22="",$F22="",$G22="",$B22="",$B22<Reference!$L$5,$B22>Reference!$L$6),"",IFERROR(MATCH($B$4&"|Advanced Saver|"&$F22&"|"&$G22&"|"&$E22&"|"&$AV$9,'Flat File'!$T$2:$T$20001,0),""))
... D50: =IF($C50="","",IF(OR($C50<Reference!$C$4,$C50>Reference!$D$14),"Please Check EAC",INDEX(Reference!$B$4:$B$14,MATCH($C50,Reference!$C$4:$C$14,1)))) | E50: =IF(OR($C50="",$D50="Please Check EAC"),"",INDEX(Reference!$C$4:$C$14,MATCH($C50,Reference!$C$4:$C$14,1))) | H50: =IF($G50="","",IF($G50="Standard",3,4)) | K50: =IF(AND($A50="",$C50="",$F50="",$G50=""),"",IF($C50="","Enter EAC",IF($D50="Please Check EAC","EAC outside 1,000-300,000",IF($F50="","Select Area",IF($G50="","Select Rate Structure",IF($B50="","Enter Start Date",IF(OR($B50<Reference!$L$5,$B50>Reference!$L$6),"Start date outside window",IF(COUNT($BC50:$BH50)<6,"Check: price missing","OK")))))))) | M50: =IF($BC50="","",IF(INDEX('Flat File'!$O$2:$O$20001,$BC50)="","",INDEX('Flat File'!$O$2:$O$20001,$BC50)+N($I50))) | N50: =IF($BC50="","",IF(INDEX('Flat File'!$K$2:$K$20001,$BC50)="","",INDEX('Flat File'!$K$2:$K$20001,$BC50)+N($J50))) | O50: =IF($BC50="","",IF(INDEX('Flat File'!$L$2:$L$20001,$BC50)="","",INDEX('Flat File'!$L$2:$L$20001,$BC50)+N($J50))) | P50: =IF($BC50="","",IF(INDEX('Flat File'!$M$2:$M$20001,$BC50)="","",INDEX('Flat File'!$M$2:$M$20001,$BC50)+N($J50))) | Q50: =IF($BC50="","",IF(INDEX('Flat File'!$N$2:$N$20001,$BC50)="","",INDEX('Flat File'!$N$2:$N$20001,$BC50)+N($J50))) | R50: =IF($BC50="","",MID("JanFebMarAprMayJunJulAugSepOctNovDec",MONTH($B50)*3-2,3)&RIGHT(YEAR($B50),2)&MID(INDEX('Flat File'!$B$2:$B$20001,$BC50),6,200)) | T50: =IF($BD50="","",IF(INDEX('Flat File'!$O$2:$O$20001,$BD50)="","",INDEX('Flat File'!$O$2:$O$20001,$BD50)+N($I50))) | U50: =IF($BD50="","",IF(INDEX('Flat File'!$K$2:$K$20001,$BD50)="","",INDEX('Flat File'!$K$2:$K$20001,$BD50)+N($J50))) | V50: =IF($BD50="","",IF(INDEX('Flat File'!$L$2:$L$20001,$BD50)="","",INDEX('Flat File'!$L$2:$L$20001,$BD50)+N($J50))) | W50: =IF($BD50="","",IF(INDEX('Flat File'!$M$2:$M$20001,$BD50)="","",INDEX('Flat File'!$M$2:$M$20001,$BD50)+N($J50))) | X50: =IF($BD50="","",IF(INDEX('Flat File'!$N$2:$N$20001,$BD50)="","",INDEX('Flat File'!$N$2:$N$20001,$BD50)+N($J50))) | Y50: =IF($BD50="","",MID("JanFebMarAprMayJunJulAugSepOctNovDec",MONTH($B50)*3-2,3)&RIGHT(YEAR($B50),2)&MID(INDEX('Flat File'!$B$2:$B$20001,$BD50),6,200)) | AA50: =IF($BE50="","",IF(INDEX('Flat File'!$O$2:$O$20001,$BE50)="","",INDEX('Flat File'!$O$2:$O$20001,$BE50)+N($I50))) | AB50: =IF($BE50="","",IF(INDEX('Flat File'!$K$2:$K$20001,$BE50)="","",INDEX('Flat File'!$K$2:$K$20001,$BE50)+N($J50))) | AC50: =IF($BE50="","",IF(INDEX('Flat File'!$L$2:$L$20001,$BE50)="","",INDEX('Flat File'!$L$2:$L$20001,$BE50)+N($J50))) | AD50: =IF($BE50="","",IF(INDEX('Flat File'!$M$2:$M$20001,$BE50)="","",INDEX('Flat File'!$M$2:$M$20001,$BE50)+N($J50))) | AE50: =IF($BE50="","",IF(INDEX('Flat File'!$N$2:$N$20001,$BE50)="","",INDEX('Flat File'!$N$2:$N$20001,$BE50)+N($J50))) | AF50: =IF($BE50="","",MID("JanFebMarAprMayJunJulAugSepOctNovDec",MONTH($B50)*3-2,3)&RIGHT(YEAR($B50),2)&MID(INDEX('Flat File'!$B$2:$B$20001,$BE50),6,200)) | AH50: =IF($BF50="","",IF(INDEX('Flat File'!$O$2:$O$20001,$BF50)="","",INDEX('Flat File'!$O$2:$O$20001,$BF50)+N($I50))) | AI50: =IF($BF50="","",IF(INDEX('Flat File'!$K$2:$K$20001,$BF50)="","",INDEX('Flat File'!$K$2:$K$20001,$BF50)+N($J50))) | AJ50: =IF($BF50="","",IF(INDEX('Flat File'!$L$2:$L$20001,$BF50)="","",INDEX('Flat File'!$L$2:$L$20001,$BF50)+N($J50))) | AK50: =IF($BF50="","",IF(INDEX('Flat File'!$M$2:$M$20001,$BF50)="","",INDEX('Flat File'!$M$2:$M$20001,$BF50)+N($J50))) | AL50: =IF($BF50="","",IF(INDEX('Flat File'!$N$2:$N$20001,$BF50)="","",INDEX('Flat File'!$N$2:$N$20001,$BF50)+N($J50))) | AM50: =IF($BF50="","",MID("JanFebMarAprMayJunJulAugSepOctNovDec",MONTH($B50)*3-2,3)&RIGHT(YEAR($B50),2)&MID(INDEX('Flat File'!$B$2:$B$20001,$BF50),6,200)) | AO50: =IF($BG50="","",IF(INDEX('Flat File'!$O$2:$O$20001,$BG50)="","",INDEX('Flat File'!$O$2:$O$20001,$BG50)+N($I50))) | AP50: =IF($BG50="","",IF(INDEX('Flat File'!$K$2:$K$20001,$BG50)="","",INDEX('Flat File'!$K$2:$K$20001,$BG50)+N($J50))) | AQ50: =IF($BG50="","",IF(INDEX('Flat File'!$L$2:$L$20001,$BG50)="","",INDEX('Flat File'!$L$2:$L$20001,$BG50)+N($J50))) | AR50: =IF($BG50="","",IF(INDEX('Flat File'!$M$2:$M$20001,$BG50)="","",INDEX('Flat File'!$M$2:$M$20001,$BG50)+N($J50))) | AS50: =IF($BG50="","",IF(INDEX('Flat File'!$N$2:$N$20001,$BG50)="","",INDEX('Flat File'!$N$2:$N$20001,$BG50)+N($J50))) | AT50: =IF($BG50="","",MID("JanFebMarAprMayJunJulAugSepOctNovDec",MONTH($B50)*3-2,3)&RIGHT(YEAR($B50),2)&MID(INDEX('Flat File'!$B$2:$B$20001,$BG50),6,200)) | AV50: =IF($BH50="","",IF(INDEX('Flat File'!$O$2:$O$20001,$BH50)="","",INDEX('Flat File'!$O$2:$O$20001,$BH50)+N($I50))) | AW50: =IF($BH50="","",IF(INDEX('Flat File'!$K$2:$K$20001,$BH50)="","",INDEX('Flat File'!$K$2:$K$20001,$BH50)+N($J50))) | AX50: =IF($BH50="","",IF(INDEX('Flat File'!$L$2:$L$20001,$BH50)="","",INDEX('Flat File'!$L$2:$L$20001,$BH50)+N($J50))) | AY50: =IF($BH50="","",IF(INDEX('Flat File'!$M$2:$M$20001,$BH50)="","",INDEX('Flat File'!$M$2:$M$20001,$BH50)+N($J50))) | AZ50: =IF($BH50="","",IF(INDEX('Flat File'!$N$2:$N$20001,$BH50)="","",INDEX('Flat File'!$N$2:$N$20001,$BH50)+N($J50))) | BA50: =IF($BH50="","",MID("JanFebMarAprMayJunJulAugSepOctNovDec",MONTH($B50)*3-2,3)&RIGHT(YEAR($B50),2)&MID(INDEX('Flat File'!$B$2:$B$20001,$BH50),6,200)) | BC50: =IF(OR($C50="",$E50="",$F50="",$G50="",$B50="",$B50<Reference!$L$5,$B50>Reference!$L$6),"",IFERROR(MATCH($B$4&"|Standard|"&$F50&"|"&$G50&"|"&$E50&"|"&$M$9,'Flat File'!$T$2:$T$20001,0),"")) | BD50: =IF(OR($C50="",$E50="",$F50="",$G50="",$B50="",$B50<Reference!$L$5,$B50>Reference!$L$6),"",IFERROR(MATCH($B$4&"|Standard|"&$F50&"|"&$G50&"|"&$E50&"|"&$T$9,'Flat File'!$T$2:$T$20001,0),"")) | BE50: =IF(OR($C50="",$E50="",$F50="",$G50="",$B50="",$B50<Reference!$L$5,$B50>Reference!$L$6),"",IFERROR(MATCH($B$4&"|Standard|"&$F50&"|"&$G50&"|"&$E50&"|"&$AA$9,'Flat File'!$T$2:$T$20001,0),"")) | BF50: =IF(OR($C50="",$E50="",$F50="",$G50="",$B50="",$B50<Reference!$L$5,$B50>Reference!$L$6),"",IFERROR(MATCH($B$4&"|Advanced Saver|"&$F50&"|"&$G50&"|"&$E50&"|"&$AH$9,'Flat File'!$T$2:$T$20001,0),"")) | BG50: =IF(OR($C50="",$E50="",$F50="",$G50="",$B50="",$B50<Reference!$L$5,$B50>Reference!$L$6),"",IFERROR(MATCH($B$4&"|Advanced Saver|"&$F50&"|"&$G50&"|"&$E50&"|"&$AO$9,'Flat File'!$T$2:$T$20001,0),"")) | BH50: =IF(OR($C50="",$E50="",$F50="",$G50="",$B50="",$B50<Reference!$L$5,$B50>Reference!$L$6),"",IFERROR(MATCH($B$4&"|Advanced Saver|"&$F50&"|"&$G50&"|"&$E50&"|"&$AV$9,'Flat File'!$T$2:$T$20001,0),""))

Sheet Flat File
A1: Type | B1: Tariff ID | C1: ProfileClass | D1: Area Code | E1: ratestructure | F1: EAC Min | G1: EAC Max | H1: Term | I1: Start Date | J1: End Date | K1: Single Rate | L1: Day Rate | M1: Night Rate | N1: Evening/Weekend Rate | O1: Standing charge electricity | P1: Capacity_Rate | Q1: Metering_Charge | R1: Green | S1: Product | T1: Lookup Key (calc)
A2: Acquisition | B2: Sep26-3M-Acq DY4 Gold Standard | C2: 3 | D2: 14 | E2: Standard | F2: 1000 | G2: 10000 | H2: 3 Months | I2: 46286 | J2: 46630 | K2: 29.411 | O2: 71.027 | R2: Standard | S2: Standard | T2: =IF($A2="","",$A2&"|"&$S2&"|"&$D2&"|"&$E2&"|"&$F2&"|"&$H2) -> Acquisition|Standard|14|Standard|1000|3 Months
A3: Acquisition | B3: Sep26-3M-Acq DY4 Gold Standard | C3: 4 | D3: 14 | E3: Evening And Weekend | F3: 1000 | G3: 10000 | H3: 3 Months | I3: 46286 | J3: 46630 | L3: 30.929 | N3: 27.9 | O3: 71.027 | R3: Standard | S3: Standard | T3: =IF($A3="","",$A3&"|"&$S3&"|"&$D3&"|"&$E3&"|"&$F3&"|"&$H3) -> Acquisition|Standard|14|Evening And Weekend|1000|3 Months
A4: Acquisition | B4: Sep26-3M-Acq DY4 Gold Standard | C4: 4 | D4: 14 | E4: Day Night | F4: 1000 | G4: 10000 | H4: 3 Months | I4: 46286 | J4: 46630 | L4: 30.608 | M4: 24.605 | O4: 71.027 | R4: Standard | S4: Standard | T4: =IF($A4="","",$A4&"|"&$S4&"|"&$D4&"|"&$E4&"|"&$F4&"|"&$H4) -> Acquisition|Standard|14|Day Night|1000|3 Months
A5: Acquisition | B5: Sep26-3M-Acq DY4 Gold Standard | C5: 4 | D5: 14 | E5: Evening Weekend And Night | F5: 1000 | G5: 10000 | H5: 3 Months | I5: 46286 | J5: 46630 | L5: 30.929 | M5: 24.862 | N5: 27.9 | O5: 71.027 | R5: Standard | S5: Standard | T5: =IF($A5="","",$A5&"|"&$S5&"|"&$D5&"|"&$E5&"|"&$F5&"|"&$H5) -> Acquisition|Standard|14|Evening Weekend And Night|1000|3 Months
A6: Acquisition | B6: Sep26-3M-Acq DY4 Gold Standard | C6: 3 | D6: 10 | E6: Standard | F6: 1000 | G6: 10000 | H6: 3 Months | I6: 46286 | J6: 46630 | K6: 29.608 | O6: 71.027 | R6: Standard | S6: Standard | T6: =IF($A6="","",$A6&"|"&$S6&"|"&$D6&"|"&$E6&"|"&$F6&"|"&$H6) -> Acquisition|Standard|10|Standard|1000|3 Months
A7: Acquisition | B7: Sep26-3M-Acq DY4 Gold Standard | C7: 4 | D7: 10 | E7: Evening And Weekend | F7: 1000 | G7: 10000 | H7: 3 Months | I7: 46286 | J7: 46630 | L7: 31.134 | N7: 28.085 | O7: 71.027 | R7: Standard | S7: Standard | T7: =IF($A7="","",$A7&"|"&$S7&"|"&$D7&"|"&$E7&"|"&$F7&"|"&$H7) -> Acquisition|Standard|10|Evening And Weekend|1000|3 Months
A8: Acquisition | B8: Sep26-3M-Acq DY4 Gold Standard | C8: 4 | D8: 10 | E8: Day Night | F8: 1000 | G8: 10000 | H8: 3 Months | I8: 46286 | J8: 46630 | L8: 30.815 | M8: 24.769 | O8: 71.027 | R8: Standard | S8: Standard | T8: =IF($A8="","",$A8&"|"&$S8&"|"&$D8&"|"&$E8&"|"&$F8&"|"&$H8) -> Acquisition|Standard|10|Day Night|1000|3 Months
A9: Acquisition | B9: Sep26-3M-Acq DY4 Gold Standard | C9: 4 | D9: 10 | E9: Evening Weekend And Night | F9: 1000 | G9: 10000 | H9: 3 Months | I9: 46286 | J9: 46630 | L9: 31.134 | M9: 25.025 | N9: 28.085 | O9: 71.027 | R9: Standard | S9: Standard | T9: =IF($A9="","",$A9&"|"&$S9&"|"&$D9&"|"&$E9&"|"&$F9&"|"&$H9) -> Acquisition|Standard|10|Evening Weekend And Night|1000|3 Months
A10: Acquisition | B10: Sep26-3M-Acq DY4 Gold Standard | C10: 3 | D10: 23 | E10: Standard | F10: 1000 | G10: 10000 | H10: 3 Months | I10: 46286 | J10: 46630 | K10: 29.071 | O10: 71.027 | R10: Standard | S10: Standard | T10: =IF($A10="","",$A10&"|"&$S10&"|"&$D10&"|"&$E10&"|"&$F10&"|"&$H10) -> Acquisition|Standard|23|Standard|1000|3 Months
A11: Acquisition | B11: Sep26-3M-Acq DY4 Gold Standard | C11: 4 | D11: 23 | E11: Evening And Weekend | F11: 1000 | G11: 10000 | H11: 3 Months | I11: 46286 | J11: 46630 | L11: 30.568 | N11: 27.57 | O11: 71.027 | R11: Standard | S11: Standard | T11: =IF($A11="","",$A11&"|"&$S11&"|"&$D11&"|"&$E11&"|"&$F11&"|"&$H11) -> Acquisition|Standard|23|Evening And Weekend|1000|3 Months
A12: Acquisition | B12: Sep26-3M-Acq DY4 Gold Standard | C12: 4 | D12: 23 | E12: Day Night | F12: 1000 | G12: 10000 | H12: 3 Months | I12: 46286 | J12: 46630 | L12: 30.258 | M12: 24.327 | O12: 71.027 | R12: Standard | S12: Standard | T12: =IF($A12="","",$A12&"|"&$S12&"|"&$D12&"|"&$E12&"|"&$F12&"|"&$H12) -> Acquisition|Standard|23|Day Night|1000|3 Months
A13: Acquisition | B13: Sep26-3M-Acq DY4 Gold Standard | C13: 4 | D13: 23 | E13: Evening Weekend And Night | F13: 1000 | G13: 10000 | H13: 3 Months | I13: 46286 | J13: 46630 | L13: 30.568 | M13: 24.573 | N13: 27.57 | O13: 71.027 | R13: Standard | S13: Standard | T13: =IF($A13="","",$A13&"|"&$S13&"|"&$D13&"|"&$E13&"|"&$F13&"|"&$H13) -> Acquisition|Standard|23|Evening Weekend And Night|1000|3 Months
A14: Acquisition | B14: Sep26-3M-Acq DY4 Gold Standard | C14: 3 | D14: 20 | E14: Standard | F14: 1000 | G14: 10000 | H14: 3 Months | I14: 46286 | J14: 46630 | K14: 29.664 | O14: 71.027 | R14: Standard | S14: Standard | T14: =IF($A14="","",$A14&"|"&$S14&"|"&$D14&"|"&$E14&"|"&$F14&"|"&$H14) -> Acquisition|Standard|20|Standard|1000|3 Months
A15: Acquisition | B15: Sep26-3M-Acq DY4 Gold Standard | C15: 4 | D15: 20 | E15: Evening And Weekend | F15: 1000 | G15: 10000 | H15: 3 Months | I15: 46286 | J15: 46630 | L15: 31.195 | N15: 28.137 | O15: 71.027 | R15: Standard | S15: Standard | T15: =IF($A15="","",$A15&"|"&$S15&"|"&$D15&"|"&$E15&"|"&$F15&"|"&$H15) -> Acquisition|Standard|20|Evening And Weekend|1000|3 Months
A16: Acquisition | B16: Sep26-3M-Acq DY4 Gold Standard | C16: 4 | D16: 20 | E16: Day Night | F16: 1000 | G16: 10000 | H16: 3 Months | I16: 46286 | J16: 46630 | L16: 30.876 | M16: 24.82 | O16: 71.027 | R16: Standard | S16: Standard | T16: =IF($A16="","",$A16&"|"&$S16&"|"&$D16&"|"&$E16&"|"&$F16&"|"&$H16) -> Acquisition|Standard|20|Day Night|1000|3 Months
A17: Acquisition | B17: Sep26-3M-Acq DY4 Gold Standard | C17: 4 | D17: 20 | E17: Evening Weekend And Night | F17: 1000 | G17: 10000 | H17: 3 Months | I17: 46286 | J17: 46630 | L17: 31.195 | M17: 25.078 | N17: 28.137 | O17: 71.027 | R17: Standard | S17: Standard | T17: =IF($A17="","",$A17&"|"&$S17&"|"&$D17&"|"&$E17&"|"&$F17&"|"&$H17) -> Acquisition|Standard|20|Evening Weekend And Night|1000|3 Months
A18: Acquisition | B18: Sep26-3M-Acq DY4 Gold Standard | C18: 3 | D18: 17 | E18: Standard | F18: 1000 | G18: 10000 | H18: 3 Months | I18: 46286 | J18: 46630 | K18: 28.931 | O18: 71.027 | R18: Standard | S18: Standard | T18: =IF($A18="","",$A18&"|"&$S18&"|"&$D18&"|"&$E18&"|"&$F18&"|"&$H18) -> Acquisition|Standard|17|Standard|1000|3 Months
A19: Acquisition | B19: Sep26-3M-Acq DY4 Gold Standard | C19: 4 | D19: 17 | E19: Evening And Weekend | F19: 1000 | G19: 10000 | H19: 3 Months | I19: 46286 | J19: 46630 | L19: 30.423 | N19: 27.435 | O19: 71.027 | R19: Standard | S19: Standard | T19: =IF($A19="","",$A19&"|"&$S19&"|"&$D19&"|"&$E19&"|"&$F19&"|"&$H19) -> Acquisition|Standard|17|Evening And Weekend|1000|3 Months
A20: Acquisition | B20: Sep26-3M-Acq DY4 Gold Standard | C20: 4 | D20: 17 | E20: Day Night | F20: 1000 | G20: 10000 | H20: 3 Months | I20: 46286 | J20: 46630 | L20: 30.114 | M20: 24.213 | O20: 71.027 | R20: Standard | S20: Standard | T20: =IF($A20="","",$A20&"|"&$S20&"|"&$D20&"|"&$E20&"|"&$F20&"|"&$H20) -> Acquisition|Standard|17|Day Night|1000|3 Months
A21: Acquisition | B21: Sep26-3M-Acq DY4 Gold Standard | C21: 4 | D21: 17 | E21: Evening Weekend And Night | F21: 1000 | G21: 10000 | H21: 3 Months | I21: 46286 | J21: 46630 | L21: 30.423 | M21: 24.46 | N21: 27.435 | O21: 71.027 | R21: Standard | S21: Standard | T21: =IF($A21="","",$A21&"|"&$S21&"|"&$D21&"|"&$E21&"|"&$F21&"|"&$H21) -> Acquisition|Standard|17|Evening Weekend And Night|1000|3 Months
A22: Acquisition | B22: Sep26-3M-Acq DY4 Gold Standard | C22: 3 | D22: 12 | E22: Standard | F22: 1000 | G22: 10000 | H22: 3 Months | I22: 46286 | J22: 46630 | K22: 29.163 | O22: 71.027 | R22: Standard | S22: Standard | T22: =IF($A22="","",$A22&"|"&$S22&"|"&$D22&"|"&$E22&"|"&$F22&"|"&$H22) -> Acquisition|Standard|12|Standard|1000|3 Months
A23: Acquisition | B23: Sep26-3M-Acq DY4 Gold Standard | C23: 4 | D23: 12 | E23: Evening And Weekend | F23: 1000 | G23: 10000 | H23: 3 Months | I23: 46286 | J23: 46630 | L23: 30.669 | N23: 27.663 | O23: 71.027 | R23: Standard | S23: Standard | T23: =IF($A23="","",$A23&"|"&$S23&"|"&$D23&"|"&$E23&"|"&$F23&"|"&$H23) -> Acquisition|Standard|12|Evening And Weekend|1000|3 Months
A24: Acquisition | B24: Sep26-3M-Acq DY4 Gold Standard | C24: 4 | D24: 12 | E24: Day Night | F24: 1000 | G24: 10000 | H24: 3 Months | I24: 46286 | J24: 46630 | L24: 30.35 | M24: 24.399 | O24: 71.027 | R24: Standard | S24: Standard | T24: =IF($A24="","",$A24&"|"&$S24&"|"&$D24&"|"&$E24&"|"&$F24&"|"&$H24) -> Acquisition|Standard|12|Day Night|1000|3 Months
A25: Acquisition | B25: Sep26-3M-Acq DY4 Gold Standard | C25: 4 | D25: 12 | E25: Evening Weekend And Night | F25: 1000 | G25: 10000 | H25: 3 Months | I25: 46286 | J25: 46630 | L25: 30.669 | M25: 24.655 | N25: 27.663 | O25: 71.027 | R25: Standard | S25: Standard | T25: =IF($A25="","",$A25&"|"&$S25&"|"&$D25&"|"&$E25&"|"&$F25&"|"&$H25) -> Acquisition|Standard|12|Evening Weekend And Night|1000|3 Months
A26: Acquisition | B26: Sep26-3M-Acq DY4 Gold Standard | C26: 3 | D26: 11 | E26: Standard | F26: 1000 | G26: 10000 | H26: 3 Months | I26: 46286 | J26: 46630 | K26: 29.341 | O26: 71.027 | R26: Standard | S26: Standard | T26: =IF($A26="","",$A26&"|"&$S26&"|"&$D26&"|"&$E26&"|"&$F26&"|"&$H26) -> Acquisition|Standard|11|Standard|1000|3 Months
A27: Acquisition | B27: Sep26-3M-Acq DY4 Gold Standard | C27: 4 | D27: 11 | E27: Evening And Weekend | F27: 1000 | G27: 10000 | H27: 3 Months | I27: 46286 | J27: 46630 | L27: 30.856 | N27: 27.827 | O27: 71.027 | R27: Standard | S27: Standard | T27: =IF($A27="","",$A27&"|"&$S27&"|"&$D27&"|"&$E27&"|"&$F27&"|"&$H27) -> Acquisition|Standard|11|Evening And Weekend|1000|3 Months
A28: Acquisition | B28: Sep26-3M-Acq DY4 Gold Standard | C28: 4 | D28: 11 | E28: Day Night | F28: 1000 | G28: 10000 | H28: 3 Months | I28: 46286 | J28: 46630 | L28: 30.537 | M28: 24.553 | O28: 71.027 | R28: Standard | S28: Standard | T28: =IF($A28="","",$A28&"|"&$S28&"|"&$D28&"|"&$E28&"|"&$F28&"|"&$H28) -> Acquisition|Standard|11|Day Night|1000|3 Months
A29: Acquisition | B29: Sep26-3M-Acq DY4 Gold Standard | C29: 4 | D29: 11 | E29: Evening Weekend And Night | F29: 1000 | G29: 10000 | H29: 3 Months | I29: 46286 | J29: 46630 | L29: 30.856 | M29: 24.8 | N29: 27.827 | O29: 71.027 | R29: Standard | S29: Standard | T29: =IF($A29="","",$A29&"|"&$S29&"|"&$D29&"|"&$E29&"|"&$F29&"|"&$H29) -> Acquisition|Standard|11|Evening Weekend And Night|1000|3 Months
A30: Acquisition | B30: Sep26-3M-Acq DY4 Gold Standard | C30: 3 | D30: 15 | E30: Standard | F30: 1000 | G30: 10000 | H30: 3 Months | I30: 46286 | J30: 46630 | K30: 29.029 | O30: 71.027 | R30: Standard | S30: Standard | T30: =IF($A30="","",$A30&"|"&$S30&"|"&$D30&"|"&$E30&"|"&$F30&"|"&$H30) -> Acquisition|Standard|15|Standard|1000|3 Months
A31: Acquisition | B31: Sep26-3M-Acq DY4 Gold Standard | C31: 4 | D31: 15 | E31: Evening And Weekend | F31: 1000 | G31: 10000 | H31: 3 Months | I31: 46286 | J31: 46630 | L31: 30.525 | N31: 27.53 | O31: 71.027 | R31: Standard | S31: Standard | T31: =IF($A31="","",$A31&"|"&$S31&"|"&$D31&"|"&$E31&"|"&$F31&"|"&$H31) -> Acquisition|Standard|15|Evening And Weekend|1000|3 Months
A32: Acquisition | B32: Sep26-3M-Acq DY4 Gold Standard | C32: 4 | D32: 15 | E32: Day Night | F32: 1000 | G32: 10000 | H32: 3 Months | I32: 46286 | J32: 46630 | L32: 30.216 | M32: 24.285 | O32: 71.027 | R32: Standard | S32: Standard | T32: =IF($A32="","",$A32&"|"&$S32&"|"&$D32&"|"&$E32&"|"&$F32&"|"&$H32) -> Acquisition|Standard|15|Day Night|1000|3 Months
A33: Acquisition | B33: Sep26-3M-Acq DY4 Gold Standard | C33: 4 | D33: 15 | E33: Evening Weekend And Night | F33: 1000 | G33: 10000 | H33: 3 Months | I33: 46286 | J33: 46630 | L33: 30.525 | M33: 24.543 | N33: 27.53 | O33: 71.027 | R33: Standard | S33: Standard | T33: =IF($A33="","",$A33&"|"&$S33&"|"&$D33&"|"&$E33&"|"&$F33&"|"&$H33) -> Acquisition|Standard|15|Evening Weekend And Night|1000|3 Months
A34: Acquisition | B34: Sep26-3M-Acq DY4 Gold Standard | C34: 3 | D34: 16 | E34: Standard | F34: 1000 | G34: 10000 | H34: 3 Months | I34: 46286 | J34: 46630 | K34: 29.136 | O34: 71.027 | R34: Standard | S34: Standard | T34: =IF($A34="","",$A34&"|"&$S34&"|"&$D34&"|"&$E34&"|"&$F34&"|"&$H34) -> Acquisition|Standard|16|Standard|1000|3 Months
A35: Acquisition | B35: Sep26-3M-Acq DY4 Gold Standard | C35: 4 | D35: 16 | E35: Evening And Weekend | F35: 1000 | G35: 10000 | H35: 3 Months | I35: 46286 | J35: 46630 | L35: 30.638 | N35: 27.632 | O35: 71.027 | R35: Standard | S35: Standard | T35: =IF($A35="","",$A35&"|"&$S35&"|"&$D35&"|"&$E35&"|"&$F35&"|"&$H35) -> Acquisition|Standard|16|Evening And Weekend|1000|3 Months
A36: Acquisition | B36: Sep26-3M-Acq DY4 Gold Standard | C36: 4 | D36: 16 | E36: Day Night | F36: 1000 | G36: 10000 | H36: 3 Months | I36: 46286 | J36: 46630 | L36: 30.33 | M36: 24.378 | O36: 71.027 | R36: Standard | S36: Standard | T36: =IF($A36="","",$A36&"|"&$S36&"|"&$D36&"|"&$E36&"|"&$F36&"|"&$H36) -> Acquisition|Standard|16|Day Night|1000|3 Months
A37: Acquisition | B37: Sep26-3M-Acq DY4 Gold Standard | C37: 4 | D37: 16 | E37: Evening Weekend And Night | F37: 1000 | G37: 10000 | H37: 3 Months | I37: 46286 | J37: 46630 | L37: 30.638 | M37: 24.636 | N37: 27.632 | O37: 71.027 | R37: Standard | S37: Standard | T37: =IF($A37="","",$A37&"|"&$S37&"|"&$D37&"|"&$E37&"|"&$F37&"|"&$H37) -> Acquisition|Standard|16|Evening Weekend And Night|1000|3 Months
A38: Acquisition | B38: Sep26-3M-Acq DY4 Gold Standard | C38: 3 | D38: 13 | E38: Standard | F38: 1000 | G38: 10000 | H38: 3 Months | I38: 46286 | J38: 46630 | K38: 29.163 | O38: 71.027 | R38: Standard | S38: Standard | T38: =IF($A38="","",$A38&"|"&$S38&"|"&$D38&"|"&$E38&"|"&$F38&"|"&$H38) -> Acquisition|Standard|13|Standard|1000|3 Months
A39: Acquisition | B39: Sep26-3M-Acq DY4 Gold Standard | C39: 4 | D39: 13 | E39: Evening And Weekend | F39: 1000 | G39: 10000 | H39: 3 Months | I39: 46286 | J39: 46630 | L39: 30.669 | N39: 27.663 | O39: 71.027 | R39: Standard | S39: Standard | T39: =IF($A39="","",$A39&"|"&$S39&"|"&$D39&"|"&$E39&"|"&$F39&"|"&$H39) -> Acquisition|Standard|13|Evening And Weekend|1000|3 Months
A40: Acquisition | B40: Sep26-3M-Acq DY4 Gold Standard | C40: 4 | D40: 13 | E40: Day Night | F40: 1000 | G40: 10000 | H40: 3 Months | I40: 46286 | J40: 46630 | L40: 30.35 | M40: 24.399 | O40: 71.027 | R40: Standard | S40: Standard | T40: =IF($A40="","",$A40&"|"&$S40&"|"&$D40&"|"&$E40&"|"&$F40&"|"&$H40) -> Acquisition|Standard|13|Day Night|1000|3 Months
A41: Acquisition | B41: Sep26-3M-Acq DY4 Gold Standard | C41: 4 | D41: 13 | E41: Evening Weekend And Night | F41: 1000 | G41: 10000 | H41: 3 Months | I41: 46286 | J41: 46630 | L41: 30.669 | M41: 24.655 | N41: 27.663 | O41: 71.027 | R41: Standard | S41: Standard | T41: =IF($A41="","",$A41&"|"&$S41&"|"&$D41&"|"&$E41&"|"&$F41&"|"&$H41) -> Acquisition|Standard|13|Evening Weekend And Night|1000|3 Months
A42: Acquisition | B42: Sep26-3M-Acq DY4 Gold Standard | C42: 3 | D42: 19 | E42: Standard | F42: 1000 | G42: 10000 | H42: 3 Months | I42: 46286 | J42: 46630 | K42: 29.737 | O42: 71.027 | R42: Standard | S42: Standard | T42: =IF($A42="","",$A42&"|"&$S42&"|"&$D42&"|"&$E42&"|"&$F42&"|"&$H42) -> Acquisition|Standard|19|Standard|1000|3 Months
A43: Acquisition | B43: Sep26-3M-Acq DY4 Gold Standard | C43: 4 | D43: 19 | E43: Evening And Weekend | F43: 1000 | G43: 10000 | H43: 3 Months | I43: 46286 | J43: 46630 | L43: 31.268 | N43: 28.198 | O43: 71.027 | R43: Standard | S43: Standard | T43: =IF($A43="","",$A43&"|"&$S43&"|"&$D43&"|"&$E43&"|"&$F43&"|"&$H43) -> Acquisition|Standard|19|Evening And Weekend|1000|3 Months
A44: Acquisition | B44: Sep26-3M-Acq DY4 Gold Standard | C44: 4 | D44: 19 | E44: Day Night | F44: 1000 | G44: 10000 | H44: 3 Months | I44: 46286 | J44: 46630 | L44: 30.948 | M44: 24.883 | O44: 71.027 | R44: Standard | S44: Standard | T44: =IF($A44="","",$A44&"|"&$S44&"|"&$D44&"|"&$E44&"|"&$F44&"|"&$H44) -> Acquisition|Standard|19|Day Night|1000|3 Months
A45: Acquisition | B45: Sep26-3M-Acq DY4 Gold Standard | C45: 4 | D45: 19 | E45: Evening Weekend And Night | F45: 1000 | G45: 10000 | H45: 3 Months | I45: 46286 | J45: 46630 | L45: 31.268 | M45: 25.139 | N45: 28.198 | O45: 71.027 | R45: Standard | S45: Standard | T45: =IF($A45="","",$A45&"|"&$S45&"|"&$D45&"|"&$E45&"|"&$F45&"|"&$H45) -> Acquisition|Standard|19|Evening Weekend And Night|1000|3 Months
A46: Acquisition | B46: Sep26-3M-Acq DY4 Gold Standard | C46: 3 | D46: 21 | E46: Standard | F46: 1000 | G46: 10000 | H46: 3 Months | I46: 46286 | J46: 46630 | K46: 29.957 | O46: 71.027 | R46: Standard | S46: Standard | T46: =IF($A46="","",$A46&"|"&$S46&"|"&$D46&"|"&$E46&"|"&$F46&"|"&$H46) -> Acquisition|Standard|21|Standard|1000|3 Months
A47: Acquisition | B47: Sep26-3M-Acq DY4 Gold Standard | C47: 4 | D47: 21 | E47: Evening And Weekend | F47: 1000 | G47: 10000 | H47: 3 Months | I47: 46286 | J47: 46630 | L47: 31.504 | N47: 28.415 | O47: 71.027 | R47: Standard | S47: Standard | T47: =IF($A47="","",$A47&"|"&$S47&"|"&$D47&"|"&$E47&"|"&$F47&"|"&$H47) -> Acquisition|Standard|21|Evening And Weekend|1000|3 Months
A48: Acquisition | B48: Sep26-3M-Acq DY4 Gold Standard | C48: 4 | D48: 21 | E48: Day Night | F48: 1000 | G48: 10000 | H48: 3 Months | I48: 46286 | J48: 46630 | L48: 31.185 | M48: 25.068 | O48: 71.027 | R48: Standard | S48: Standard | T48: =IF($A48="","",$A48&"|"&$S48&"|"&$D48&"|"&$E48&"|"&$F48&"|"&$H48) -> Acquisition|Standard|21|Day Night|1000|3 Months
A49: Acquisition | B49: Sep26-3M-Acq DY4 Gold Standard | C49: 4 | D49: 21 | E49: Evening Weekend And Night | F49: 1000 | G49: 10000 | H49: 3 Months | I49: 46286 | J49: 46630 | L49: 31.504 | M49: 25.326 | N49: 28.415 | O49: 71.027 | R49: Standard | S49: Standard | T49: =IF($A49="","",$A49&"|"&$S49&"|"&$D49&"|"&$E49&"|"&$F49&"|"&$H49) -> Acquisition|Standard|21|Evening Weekend And Night|1000|3 Months
A50: Acquisition | B50: Sep26-3M-Acq DY4 Gold Standard | C50: 3 | D50: 22 | E50: Standard | F50: 1000 | G50: 10000 | H50: 3 Months | I50: 46286 | J50: 46630 | K50: 29.957 | O50: 71.027 | R50: Standard | S50: Standard | T50: =IF($A50="","",$A50&"|"&$S50&"|"&$D50&"|"&$E50&"|"&$F50&"|"&$H50) -> Acquisition|Standard|22|Standard|1000|3 Months
A51: Acquisition | B51: Sep26-3M-Acq DY4 Gold Standard | C51: 4 | D51: 22 | E51: Evening And Weekend | F51: 1000 | G51: 10000 | H51: 3 Months | I51: 46286 | J51: 46630 | L51: 31.504 | N51: 28.415 | O51: 71.027 | R51: Standard | S51: Standard | T51: =IF($A51="","",$A51&"|"&$S51&"|"&$D51&"|"&$E51&"|"&$F51&"|"&$H51) -> Acquisition|Standard|22|Evening And Weekend|1000|3 Months
A52: Acquisition | B52: Sep26-3M-Acq DY4 Gold Standard | C52: 4 | D52: 22 | E52: Day Night | F52: 1000 | G52: 10000 | H52: 3 Months | I52: 46286 | J52: 46630 | L52: 31.185 | M52: 25.068 | O52: 71.027 | R52: Standard | S52: Standard | T52: =IF($A52="","",$A52&"|"&$S52&"|"&$D52&"|"&$E52&"|"&$F52&"|"&$H52) -> Acquisition|Standard|22|Day Night|1000|3 Months
A53: Acquisition | B53: Sep26-3M-Acq DY4 Gold Standard | C53: 4 | D53: 22 | E53: Evening Weekend And Night | F53: 1000 | G53: 10000 | H53: 3 Months | I53: 46286 | J53: 46630 | L53: 31.504 | M53: 25.326 | N53: 28.415 | O53: 71.027 | R53: Standard | S53: Standard | T53: =IF($A53="","",$A53&"|"&$S53&"|"&$D53&"|"&$E53&"|"&$F53&"|"&$H53) -> Acquisition|Standard|22|Evening Weekend And Night|1000|3 Months
A54: Acquisition | B54: Sep26-3M-Acq DY4 Gold Standard | C54: 3 | D54: 18 | E54: Standard | F54: 1000 | G54: 10000 | H54: 3 Months | I54: 46286 | J54: 46630 | K54: 29.229 | O54: 71.027 | R54: Standard | S54: Standard | T54: =IF($A54="","",$A54&"|"&$S54&"|"&$D54&"|"&$E54&"|"&$F54&"|"&$H54) -> Acquisition|Standard|18|Standard|1000|3 Months
A55: Acquisition | B55: Sep26-3M-Acq DY4 Gold Standard | C55: 4 | D55: 18 | E55: Evening And Weekend | F55: 1000 | G55: 10000 | H55: 3 Months | I55: 46286 | J55: 46630 | L55: 30.732 | N55: 27.726 | O55: 71.027 | R55: Standard | S55: Standard | T55: =IF($A55="","",$A55&"|"&$S55&"|"&$D55&"|"&$E55&"|"&$F55&"|"&$H55) -> Acquisition|Standard|18|Evening And Weekend|1000|3 Months
A56: Acquisition | B56: Sep26-3M-Acq DY4 Gold Standard | C56: 4 | D56: 18 | E56: Day Night | F56: 1000 | G56: 10000 | H56: 3 Months | I56: 46286 | J56: 46630 | L56: 30.423 | M56: 24.46 | O56: 71.027 | R56: Standard | S56: Standard | T56: =IF($A56="","",$A56&"|"&$S56&"|"&$D56&"|"&$E56&"|"&$F56&"|"&$H56) -> Acquisition|Standard|18|Day Night|1000|3 Months
A57: Acquisition | B57: Sep26-3M-Acq DY4 Gold Standard | C57: 4 | D57: 18 | E57: Evening Weekend And Night | F57: 1000 | G57: 10000 | H57: 3 Months | I57: 46286 | J57: 46630 | L57: 30.732 | M57: 24.707 | N57: 27.726 | O57: 71.027 | R57: Standard | S57: Standard | T57: =IF($A57="","",$A57&"|"&$S57&"|"&$D57&"|"&$E57&"|"&$F57&"|"&$H57) -> Acquisition|Standard|18|Evening Weekend And Night|1000|3 Months
A58: Acquisition | B58: Sep26-6M-Acq DY4 Gold Standard | C58: 3 | D58: 14 | E58: Standard | F58: 1000 | G58: 10000 | H58: 6 Months | I58: 46286 | J58: 46630 | K58: 29.276 | O58: 71.027 | R58: Standard | S58: Standard | T58: =IF($A58="","",$A58&"|"&$S58&"|"&$D58&"|"&$E58&"|"&$F58&"|"&$H58) -> Acquisition|Standard|14|Standard|1000|6 Months
A59: Acquisition | B59: Sep26-6M-Acq DY4 Gold Standard | C59: 4 | D59: 14 | E59: Evening And Weekend | F59: 1000 | G59: 10000 | H59: 6 Months | I59: 46286 | J59: 46630 | L59: 30.783 | N59: 27.767 | O59: 71.027 | R59: Standard | S59: Standard | T59: =IF($A59="","",$A59&"|"&$S59&"|"&$D59&"|"&$E59&"|"&$F59&"|"&$H59) -> Acquisition|Standard|14|Evening And Weekend|1000|6 Months
A60: Acquisition | B60: Sep26-6M-Acq DY4 Gold Standard | C60: 4 | D60: 14 | E60: Day Night | F60: 1000 | G60: 10000 | H60: 6 Months | I60: 46286 | J60: 46630 | L60: 30.475 | M60: 24.502 | O60: 71.027 | R60: Standard | S60: Standard | T60: =IF($A60="","",$A60&"|"&$S60&"|"&$D60&"|"&$E60&"|"&$F60&"|"&$H60) -> Acquisition|Standard|14|Day Night|1000|6 Months
A61: Acquisition | B61: Sep26-6M-Acq DY4 Gold Standard | C61: 4 | D61: 14 | E61: Evening Weekend And Night | F61: 1000 | G61: 10000 | H61: 6 Months | I61: 46286 | J61: 46630 | L61: 30.783 | M61: 24.749 | N61: 27.767 | O61: 71.027 | R61: Standard | S61: Standard | T61: =IF($A61="","",$A61&"|"&$S61&"|"&$D61&"|"&$E61&"|"&$F61&"|"&$H61) -> Acquisition|Standard|14|Evening Weekend And Night|1000|6 Months
A62: Acquisition | B62: Sep26-6M-Acq DY4 Gold Standard | C62: 3 | D62: 10 | E62: Standard | F62: 1000 | G62: 10000 | H62: 6 Months | I62: 46286 | J62: 46630 | K62: 29.472 | O62: 71.027 | R62: Standard | S62: Standard | T62: =IF($A62="","",$A62&"|"&$S62&"|"&$D62&"|"&$E62&"|"&$F62&"|"&$H62) -> Acquisition|Standard|10|Standard|1000|6 Months
A63: Acquisition | B63: Sep26-6M-Acq DY4 Gold Standard | C63: 4 | D63: 10 | E63: Evening And Weekend | F63: 1000 | G63: 10000 | H63: 6 Months | I63: 46286 | J63: 46630 | L63: 30.989 | N63: 27.951 | O63: 71.027 | R63: Standard | S63: Standard | T63: =IF($A63="","",$A63&"|"&$S63&"|"&$D63&"|"&$E63&"|"&$F63&"|"&$H63) -> Acquisition|Standard|10|Evening And Weekend|1000|6 Months
A64: Acquisition | B64: Sep26-6M-Acq DY4 Gold Standard | C64: 4 | D64: 10 | E64: Day Night | F64: 1000 | G64: 10000 | H64: 6 Months | I64: 46286 | J64: 46630 | L64: 30.68 | M64: 24.655 | O64: 71.027 | R64: Standard | S64: Standard | T64: =IF($A64="","",$A64&"|"&$S64&"|"&$D64&"|"&$E64&"|"&$F64&"|"&$H64) -> Acquisition|Standard|10|Day Night|1000|6 Months
A65: Acquisition | B65: Sep26-6M-Acq DY4 Gold Standard | C65: 4 | D65: 10 | E65: Evening Weekend And Night | F65: 1000 | G65: 10000 | H65: 6 Months | I65: 46286 | J65: 46630 | L65: 30.989 | M65: 24.914 | N65: 27.951 | O65: 71.027 | R65: Standard | S65: Standard | T65: =IF($A65="","",$A65&"|"&$S65&"|"&$D65&"|"&$E65&"|"&$F65&"|"&$H65) -> Acquisition|Standard|10|Evening Weekend And Night|1000|6 Months
A66: Acquisition | B66: Sep26-6M-Acq DY4 Gold Standard | C66: 3 | D66: 23 | E66: Standard | F66: 1000 | G66: 10000 | H66: 6 Months | I66: 46286 | J66: 46630 | K66: 28.937 | O66: 71.027 | R66: Standard | S66: Standard | T66: =IF($A66="","",$A66&"|"&$S66&"|"&$D66&"|"&$E66&"|"&$F66&"|"&$H66) -> Acquisition|Standard|23|Standard|1000|6 Months
A67: Acquisition | B67: Sep26-6M-Acq DY4 Gold Standard | C67: 4 | D67: 23 | E67: Evening And Weekend | F67: 1000 | G67: 10000 | H67: 6 Months | I67: 46286 | J67: 46630 | L67: 30.433 | N67: 27.447 | O67: 71.027 | R67: Standard | S67: Standard | T67: =IF($A67="","",$A67&"|"&$S67&"|"&$D67&"|"&$E67&"|"&$F67&"|"&$H67) -> Acquisition|Standard|23|Evening And Weekend|1000|6 Months
A68: Acquisition | B68: Sep26-6M-Acq DY4 Gold Standard | C68: 4 | D68: 23 | E68: Day Night | F68: 1000 | G68: 10000 | H68: 6 Months | I68: 46286 | J68: 46630 | L68: 30.114 | M68: 24.213 | O68: 71.027 | R68: Standard | S68: Standard | T68: =IF($A68="","",$A68&"|"&$S68&"|"&$D68&"|"&$E68&"|"&$F68&"|"&$H68) -> Acquisition|Standard|23|Day Night|1000|6 Months
A69: Acquisition | B69: Sep26-6M-Acq DY4 Gold Standard | C69: 4 | D69: 23 | E69: Evening Weekend And Night | F69: 1000 | G69: 10000 | H69: 6 Months | I69: 46286 | J69: 46630 | L69: 30.433 | M69: 24.46 | N69: 27.447 | O69: 71.027 | R69: Standard | S69: Standard | T69: =IF($A69="","",$A69&"|"&$S69&"|"&$D69&"|"&$E69&"|"&$F69&"|"&$H69) -> Acquisition|Standard|23|Evening Weekend And Night|1000|6 Months
A70: Acquisition | B70: Sep26-6M-Acq DY4 Gold Standard | C70: 3 | D70: 20 | E70: Standard | F70: 1000 | G70: 10000 | H70: 6 Months | I70: 46286 | J70: 46630 | K70: 29.527 | O70: 71.027 | R70: Standard | S70: Standard | T70: =IF($A70="","",$A70&"|"&$S70&"|"&$D70&"|"&$E70&"|"&$F70&"|"&$H70) -> Acquisition|Standard|20|Standard|1000|6 Months
A71: Acquisition | B71: Sep26-6M-Acq DY4 Gold Standard | C71: 4 | D71: 20 | E71: Evening And Weekend | F71: 1000 | G71: 10000 | H71: 6 Months | I71: 46286 | J71: 46630 | L71: 31.051 | N71: 28.003 | O71: 71.027 | R71: Standard | S71: Standard | T71: =IF($A71="","",$A71&"|"&$S71&"|"&$D71&"|"&$E71&"|"&$F71&"|"&$H71) -> Acquisition|Standard|20|Evening And Weekend|1000|6 Months
A72: Acquisition | B72: Sep26-6M-Acq DY4 Gold Standard | C72: 4 | D72: 20 | E72: Day Night | F72: 1000 | G72: 10000 | H72: 6 Months | I72: 46286 | J72: 46630 | L72: 30.732 | M72: 24.707 | O72: 71.027 | R72: Standard | S72: Standard | T72: =IF($A72="","",$A72&"|"&$S72&"|"&$D72&"|"&$E72&"|"&$F72&"|"&$H72) -> Acquisition|Standard|20|Day Night|1000|6 Months
A73: Acquisition | B73: Sep26-6M-Acq DY4 Gold Standard | C73: 4 | D73: 20 | E73: Evening Weekend And Night | F73: 1000 | G73: 10000 | H73: 6 Months | I73: 46286 | J73: 46630 | L73: 31.051 | M73: 24.964 | N73: 28.003 | O73: 71.027 | R73: Standard | S73: Standard | T73: =IF($A73="","",$A73&"|"&$S73&"|"&$D73&"|"&$E73&"|"&$F73&"|"&$H73) -> Acquisition|Standard|20|Evening Weekend And Night|1000|6 Months
A74: Acquisition | B74: Sep26-6M-Acq DY4 Gold Standard | C74: 3 | D74: 17 | E74: Standard | F74: 1000 | G74: 10000 | H74: 6 Months | I74: 46286 | J74: 46630 | K74: 28.798 | O74: 71.027 | R74: Standard | S74: Standard | T74: =IF($A74="","",$A74&"|"&$S74&"|"&$D74&"|"&$E74&"|"&$F74&"|"&$H74) -> Acquisition|Standard|17|Standard|1000|6 Months
A75: Acquisition | B75: Sep26-6M-Acq DY4 Gold Standard | C75: 4 | D75: 17 | E75: Evening And Weekend | F75: 1000 | G75: 10000 | H75: 6 Months | I75: 46286 | J75: 46630 | L75: 30.278 | N75: 27.313 | O75: 71.027 | R75: Standard | S75: Standard | T75: =IF($A75="","",$A75&"|"&$S75&"|"&$D75&"|"&$E75&"|"&$F75&"|"&$H75) -> Acquisition|Standard|17|Evening And Weekend|1000|6 Months
A76: Acquisition | B76: Sep26-6M-Acq DY4 Gold Standard | C76: 4 | D76: 17 | E76: Day Night | F76: 1000 | G76: 10000 | H76: 6 Months | I76: 46286 | J76: 46630 | L76: 29.969 | M76: 24.1 | O76: 71.027 | R76: Standard | S76: Standard | T76: =IF($A76="","",$A76&"|"&$S76&"|"&$D76&"|"&$E76&"|"&$F76&"|"&$H76) -> Acquisition|Standard|17|Day Night|1000|6 Months
A77: Acquisition | B77: Sep26-6M-Acq DY4 Gold Standard | C77: 4 | D77: 17 | E77: Evening Weekend And Night | F77: 1000 | G77: 10000 | H77: 6 Months | I77: 46286 | J77: 46630 | L77: 30.278 | M77: 24.346 | N77: 27.313 | O77: 71.027 | R77: Standard | S77: Standard | T77: =IF($A77="","",$A77&"|"&$S77&"|"&$D77&"|"&$E77&"|"&$F77&"|"&$H77) -> Acquisition|Standard|17|Evening Weekend And Night|1000|6 Months
A78: Acquisition | B78: Sep26-6M-Acq DY4 Gold Standard | C78: 3 | D78: 12 | E78: Standard | F78: 1000 | G78: 10000 | H78: 6 Months | I78: 46286 | J78: 46630 | K78: 29.031 | O78: 71.027 | R78: Standard | S78: Standard | T78: =IF($A78="","",$A78&"|"&$S78&"|"&$D78&"|"&$E78&"|"&$F78&"|"&$H78) -> Acquisition|Standard|12|Standard|1000|6 Months
A79: Acquisition | B79: Sep26-6M-Acq DY4 Gold Standard | C79: 4 | D79: 12 | E79: Evening And Weekend | F79: 1000 | G79: 10000 | H79: 6 Months | I79: 46286 | J79: 46630 | L79: 30.525 | N79: 27.53 | O79: 71.027 | R79: Standard | S79: Standard | T79: =IF($A79="","",$A79&"|"&$S79&"|"&$D79&"|"&$E79&"|"&$F79&"|"&$H79) -> Acquisition|Standard|12|Evening And Weekend|1000|6 Months
A80: Acquisition | B80: Sep26-6M-Acq DY4 Gold Standard | C80: 4 | D80: 12 | E80: Day Night | F80: 1000 | G80: 10000 | H80: 6 Months | I80: 46286 | J80: 46630 | L80: 30.216 | M80: 24.296 | O80: 71.027 | R80: Standard | S80: Standard | T80: =IF($A80="","",$A80&"|"&$S80&"|"&$D80&"|"&$E80&"|"&$F80&"|"&$H80) -> Acquisition|Standard|12|Day Night|1000|6 Months
A81: Acquisition | B81: Sep26-6M-Acq DY4 Gold Standard | C81: 4 | D81: 12 | E81: Evening Weekend And Night | F81: 1000 | G81: 10000 | H81: 6 Months | I81: 46286 | J81: 46630 | L81: 30.525 | M81: 24.543 | N81: 27.53 | O81: 71.027 | R81: Standard | S81: Standard | T81: =IF($A81="","",$A81&"|"&$S81&"|"&$D81&"|"&$E81&"|"&$F81&"|"&$H81) -> Acquisition|Standard|12|Evening Weekend And Night|1000|6 Months
A82: Acquisition | B82: Sep26-6M-Acq DY4 Gold Standard | C82: 3 | D82: 11 | E82: Standard | F82: 1000 | G82: 10000 | H82: 6 Months | I82: 46286 | J82: 46630 | K82: 29.207 | O82: 71.027 | R82: Standard | S82: Standard | T82: =IF($A82="","",$A82&"|"&$S82&"|"&$D82&"|"&$E82&"|"&$F82&"|"&$H82) -> Acquisition|Standard|11|Standard|1000|6 Months
A83: Acquisition | B83: Sep26-6M-Acq DY4 Gold Standard | C83: 4 | D83: 11 | E83: Evening And Weekend | F83: 1000 | G83: 10000 | H83: 6 Months | I83: 46286 | J83: 46630 | L83: 30.711 | N83: 27.704 | O83: 71.027 | R83: Standard | S83: Standard | T83: =IF($A83="","",$A83&"|"&$S83&"|"&$D83&"|"&$E83&"|"&$F83&"|"&$H83) -> Acquisition|Standard|11|Evening And Weekend|1000|6 Months
A84: Acquisition | B84: Sep26-6M-Acq DY4 Gold Standard | C84: 4 | D84: 11 | E84: Day Night | F84: 1000 | G84: 10000 | H84: 6 Months | I84: 46286 | J84: 46630 | L84: 30.402 | M84: 24.441 | O84: 71.027 | R84: Standard | S84: Standard | T84: =IF($A84="","",$A84&"|"&$S84&"|"&$D84&"|"&$E84&"|"&$F84&"|"&$H84) -> Acquisition|Standard|11|Day Night|1000|6 Months
A85: Acquisition | B85: Sep26-6M-Acq DY4 Gold Standard | C85: 4 | D85: 11 | E85: Evening Weekend And Night | F85: 1000 | G85: 10000 | H85: 6 Months | I85: 46286 | J85: 46630 | L85: 30.711 | M85: 24.686 | N85: 27.704 | O85: 71.027 | R85: Standard | S85: Standard | T85: =IF($A85="","",$A85&"|"&$S85&"|"&$D85&"|"&$E85&"|"&$F85&"|"&$H85) -> Acquisition|Standard|11|Evening Weekend And Night|1000|6 Months
A86: Acquisition | B86: Sep26-6M-Acq DY4 Gold Standard | C86: 3 | D86: 15 | E86: Standard | F86: 1000 | G86: 10000 | H86: 6 Months | I86: 46286 | J86: 46630 | K86: 28.895 | O86: 71.027 | R86: Standard | S86: Standard | T86: =IF($A86="","",$A86&"|"&$S86&"|"&$D86&"|"&$E86&"|"&$F86&"|"&$H86) -> Acquisition|Standard|15|Standard|1000|6 Months
A87: Acquisition | B87: Sep26-6M-Acq DY4 Gold Standard | C87: 4 | D87: 15 | E87: Evening And Weekend | F87: 1000 | G87: 10000 | H87: 6 Months | I87: 46286 | J87: 46630 | L87: 30.381 | N87: 27.405 | O87: 71.027 | R87: Standard | S87: Standard | T87: =IF($A87="","",$A87&"|"&$S87&"|"&$D87&"|"&$E87&"|"&$F87&"|"&$H87) -> Acquisition|Standard|15|Evening And Weekend|1000|6 Months
A88: Acquisition | B88: Sep26-6M-Acq DY4 Gold Standard | C88: 4 | D88: 15 | E88: Day Night | F88: 1000 | G88: 10000 | H88: 6 Months | I88: 46286 | J88: 46630 | L88: 30.072 | M88: 24.182 | O88: 71.027 | R88: Standard | S88: Standard | T88: =IF($A88="","",$A88&"|"&$S88&"|"&$D88&"|"&$E88&"|"&$F88&"|"&$H88) -> Acquisition|Standard|15|Day Night|1000|6 Months
A89: Acquisition | B89: Sep26-6M-Acq DY4 Gold Standard | C89: 4 | D89: 15 | E89: Evening Weekend And Night | F89: 1000 | G89: 10000 | H89: 6 Months | I89: 46286 | J89: 46630 | L89: 30.381 | M89: 24.429 | N89: 27.405 | O89: 71.027 | R89: Standard | S89: Standard | T89: =IF($A89="","",$A89&"|"&$S89&"|"&$D89&"|"&$E89&"|"&$F89&"|"&$H89) -> Acquisition|Standard|15|Evening Weekend And Night|1000|6 Months
A90: Acquisition | B90: Sep26-6M-Acq DY4 Gold Standard | C90: 3 | D90: 16 | E90: Standard | F90: 1000 | G90: 10000 | H90: 6 Months | I90: 46286 | J90: 46630 | K90: 29.005 | O90: 71.027 | R90: Standard | S90: Standard | T90: =IF($A90="","",$A90&"|"&$S90&"|"&$D90&"|"&$E90&"|"&$F90&"|"&$H90) -> Acquisition|Standard|16|Standard|1000|6 Months
A91: Acquisition | B91: Sep26-6M-Acq DY4 Gold Standard | C91: 4 | D91: 16 | E91: Evening And Weekend | F91: 1000 | G91: 10000 | H91: 6 Months | I91: 46286 | J91: 46630 | L91: 30.495 | N91: 27.508 | O91: 71.027 | R91: Standard | S91: Standard | T91: =IF($A91="","",$A91&"|"&$S91&"|"&$D91&"|"&$E91&"|"&$F91&"|"&$H91) -> Acquisition|Standard|16|Evening And Weekend|1000|6 Months
A92: Acquisition | B92: Sep26-6M-Acq DY4 Gold Standard | C92: 4 | D92: 16 | E92: Day Night | F92: 1000 | G92: 10000 | H92: 6 Months | I92: 46286 | J92: 46630 | L92: 30.185 | M92: 24.274 | O92: 71.027 | R92: Standard | S92: Standard | T92: =IF($A92="","",$A92&"|"&$S92&"|"&$D92&"|"&$E92&"|"&$F92&"|"&$H92) -> Acquisition|Standard|16|Day Night|1000|6 Months
A93: Acquisition | B93: Sep26-6M-Acq DY4 Gold Standard | C93: 4 | D93: 16 | E93: Evening Weekend And Night | F93: 1000 | G93: 10000 | H93: 6 Months | I93: 46286 | J93: 46630 | L93: 30.495 | M93: 24.523 | N93: 27.508 | O93: 71.027 | R93: Standard | S93: Standard | T93: =IF($A93="","",$A93&"|"&$S93&"|"&$D93&"|"&$E93&"|"&$F93&"|"&$H93) -> Acquisition|Standard|16|Evening Weekend And Night|1000|6 Months
A94: Acquisition | B94: Sep26-6M-Acq DY4 Gold Standard | C94: 3 | D94: 13 | E94: Standard | F94: 1000 | G94: 10000 | H94: 6 Months | I94: 46286 | J94: 46630 | K94: 29.031 | O94: 71.027 | R94: Standard | S94: Standard | T94: =IF($A94="","",$A94&"|"&$S94&"|"&$D94&"|"&$E94&"|"&$F94&"|"&$H94) -> Acquisition|Standard|13|Standard|1000|6 Months
A95: Acquisition | B95: Sep26-6M-Acq DY4 Gold Standard | C95: 4 | D95: 13 | E95: Evening And Weekend | F95: 1000 | G95: 10000 | H95: 6 Months | I95: 46286 | J95: 46630 | L95: 30.525 | N95: 27.53 | O95: 71.027 | R95: Standard | S95: Standard | T95: =IF($A95="","",$A95&"|"&$S95&"|"&$D95&"|"&$E95&"|"&$F95&"|"&$H95) -> Acquisition|Standard|13|Evening And Weekend|1000|6 Months
A96: Acquisition | B96: Sep26-6M-Acq DY4 Gold Standard | C96: 4 | D96: 13 | E96: Day Night | F96: 1000 | G96: 10000 | H96: 6 Months | I96: 46286 | J96: 46630 | L96: 30.216 | M96: 24.296 | O96: 71.027 | R96: Standard | S96: Standard | T96: =IF($A96="","",$A96&"|"&$S96&"|"&$D96&"|"&$E96&"|"&$F96&"|"&$H96) -> Acquisition|Standard|13|Day Night|1000|6 Months
A97: Acquisition | B97: Sep26-6M-Acq DY4 Gold Standard | C97: 4 | D97: 13 | E97: Evening Weekend And Night | F97: 1000 | G97: 10000 | H97: 6 Months | I97: 46286 | J97: 46630 | L97: 30.525 | M97: 24.543 | N97: 27.53 | O97: 71.027 | R97: Standard | S97: Standard | T97: =IF($A97="","",$A97&"|"&$S97&"|"&$D97&"|"&$E97&"|"&$F97&"|"&$H97) -> Acquisition|Standard|13|Evening Weekend And Night|1000|6 Months
A98: Acquisition | B98: Sep26-6M-Acq DY4 Gold Standard | C98: 3 | D98: 19 | E98: Standard | F98: 1000 | G98: 10000 | H98: 6 Months | I98: 46286 | J98: 46630 | K98: 29.6 | O98: 71.027 | R98: Standard | S98: Standard | T98: =IF($A98="","",$A98&"|"&$S98&"|"&$D98&"|"&$E98&"|"&$F98&"|"&$H98) -> Acquisition|Standard|19|Standard|1000|6 Months
A99: Acquisition | B99: Sep26-6M-Acq DY4 Gold Standard | C99: 4 | D99: 19 | E99: Evening And Weekend | F99: 1000 | G99: 10000 | H99: 6 Months | I99: 46286 | J99: 46630 | L99: 31.123 | N99: 28.076 | O99: 71.027 | R99: Standard | S99: Standard | T99: =IF($A99="","",$A99&"|"&$S99&"|"&$D99&"|"&$E99&"|"&$F99&"|"&$H99) -> Acquisition|Standard|19|Evening And Weekend|1000|6 Months
A100: Acquisition | B100: Sep26-6M-Acq DY4 Gold Standard | C100: 4 | D100: 19 | E100: Day Night | F100: 1000 | G100: 10000 | H100: 6 Months | I100: 46286 | J100: 46630 | L100: 30.804 | M100: 24.769 | O100: 71.027 | R100: Standard | S100: Standard | T100: =IF($A100="","",$A100&"|"&$S100&"|"&$D100&"|"&$E100&"|"&$F100&"|"&$H100) -> Acquisition|Standard|19|Day Night|1000|6 Months
...

Sheet Reference
B2: EAC Bands (from Jellyfish flat files) | F2: Drop-down lists | K2: Price file
B3: Band | C3: EAC Min | D3: EAC Max | F3: Contract Type | G3: Area Code | H3: Rate Structure | I3: Term
B4: 1,000 - 10,000 | C4: 1000 | D4: 10000 | F4: Acquisition | G4: 10 | H4: Standard | I4: 3 Months | K4: Price file date | L4: 46321
B5: 10,001 - 20,000 | C5: 10001 | D5: 20000 | F5: Renewal | G5: 11 | H5: Day Night | I5: 6 Months | K5: Contract start from | L5: =IF(ISNUMBER('Flat File'!I2),'Flat File'!I2,DATE(RIGHT('Flat File'!I2,4),MID('Flat File'!I2,4,2),LEFT('Flat File'!I2,2))) -> 46286
B6: 20,001 - 35,000 | C6: 20001 | D6: 35000 | G6: 12 | H6: Evening And Weekend | I6: 12 Months | K6: Contract start to | L6: =IF(ISNUMBER('Flat File'!J2),'Flat File'!J2,DATE(RIGHT('Flat File'!J2,4),MID('Flat File'!J2,4,2),LEFT('Flat File'!J2,2))) -> 46630
B7: 35,001 - 50,000 | C7: 35001 | D7: 50000 | G7: 13 | H7: Evening Weekend And Night | I7: 24 Months | K7: Flat file rows loaded | L7: =COUNTA('Flat File'!A2:A20001) -> 6160
B8: 50,001 - 75,000 | C8: 50001 | D8: 75000 | G8: 14 | I8: 36 Months
B9: 75,001 - 100,000 | C9: 75001 | D9: 100000 | G9: 15
B10: 100,001 - 125,000 | C10: 100001 | D10: 125000 | G10: 16
B11: 125,001 - 150,000 | C11: 125001 | D11: 150000 | G11: 17
B12: 150,001 - 200,000 | C12: 150001 | D12: 200000 | G12: 18
B13: 200,001 - 250,000 | C13: 200001 | D13: 250000 | G13: 19
B14: 250,001 - 300,000 | C14: 250001 | D14: 300000 | G14: 20
G15: 21
G16: 22
G17: 23
